BEGIN:VCALENDAR
VERSION:2.0
PRODID:-//Terry Klinefelter Music - ECPv6.13.2.1//NONSGML v1.0//EN
CALSCALE:GREGORIAN
METHOD:PUBLISH
X-WR-CALNAME:Terry Klinefelter Music
X-ORIGINAL-URL:https://terryklinefelter.com
X-WR-CALDESC:Events for Terry Klinefelter Music
REFRESH-INTERVAL;VALUE=DURATION:PT1H
X-Robots-Tag:noindex
X-PUBLISHED-TTL:PT1H
BEGIN:VTIMEZONE
TZID:UTC
BEGIN:STANDARD
TZOFFSETFROM:+0000
TZOFFSETTO:+0000
TZNAME:UTC
DTSTART:20250101T000000
END:STANDARD
END:VTIMEZONE
BEGIN:VEVENT
DTSTART;TZID=UTC:20250502T180000
DTEND;TZID=UTC:20250502T180000
DTSTAMP:20260424T010702
CREATED:20250424T185748Z
LAST-MODIFIED:20250424T191246Z
UID:1810-1746208800-1746208800@terryklinefelter.com
SUMMARY:House Concert w/Gus Mercante
DESCRIPTION:House concert w/countertenor & baritone Gus Mercante. Message Gus on FB for tickets.
URL:https://terryklinefelter.com/event/house-concert-w-gus-mercante/
END:VEVENT
BEGIN:VEVENT
DTSTART;TZID=UTC:20250503T140000
DTEND;TZID=UTC:20250503T140000
DTSTAMP:20260424T010702
CREATED:20250424T185855Z
LAST-MODIFIED:20250424T185856Z
UID:1812-1746280800-1746280800@terryklinefelter.com
SUMMARY:House Concert w/Gus Mercante
DESCRIPTION:House concert w/countertenor & baritone Gus Mercante. Message Gus on FB for tickets.
URL:https://terryklinefelter.com/event/house-concert-w-gus-mercante-2/
END:VEVENT
BEGIN:VEVENT
DTSTART;TZID=UTC:20250505T190000
DTEND;TZID=UTC:20250505T190000
DTSTAMP:20260424T010702
CREATED:20250424T185034Z
LAST-MODIFIED:20250424T185203Z
UID:1808-1746471600-1746471600@terryklinefelter.com
SUMMARY:Black Squirrel
DESCRIPTION:Jazz and Jokes International. w/featured comedians\, and Richard Hill\, Jr.\, bass
URL:https://terryklinefelter.com/event/black-squirrel-7/
END:VEVENT
BEGIN:VEVENT
DTSTART;TZID=UTC:20250511T100000
DTEND;TZID=UTC:20250511T130000
DTSTAMP:20260424T010702
CREATED:20250424T183452Z
LAST-MODIFIED:20250424T183453Z
UID:1794-1746957600-1746968400@terryklinefelter.com
SUMMARY:Mother's Day Jazz Brunch
DESCRIPTION:Brew Ha Ha\, Greenville\, DE. w/Rob Swanson\, bass.
URL:https://terryklinefelter.com/event/mothers-day-jazz-brunch/
END:VEVENT
BEGIN:VEVENT
DTSTART;TZID=UTC:20250516T180000
DTEND;TZID=UTC:20250516T210000
DTSTAMP:20260424T010702
CREATED:20250516T062525Z
LAST-MODIFIED:20250528T171626Z
UID:1815-1747418400-1747429200@terryklinefelter.com
SUMMARY:Solo Piano at Will and Bill's Brewery
DESCRIPTION:Great new venue in Berwyn\, PA\, hosting jazz piano. Please come out and support live music!
URL:https://terryklinefelter.com/event/solo-piano-at-will-and-bills-brewery-copy/
END:VEVENT
BEGIN:VEVENT
DTSTART;TZID=UTC:20250522T200000
DTEND;TZID=UTC:20250522T230000
DTSTAMP:20260424T010702
CREATED:20250424T183844Z
LAST-MODIFIED:20250424T183908Z
UID:1798-1747944000-1747954800@terryklinefelter.com
SUMMARY:Slow Hand
DESCRIPTION:Jazz Quartet feat. Joe Anderson\, EVI/trumpet\, Paul Klinefelter\, bass\, Glenn Ferracone\, drums.
URL:https://terryklinefelter.com/event/slow-hand-copy-3/
END:VEVENT
BEGIN:VEVENT
DTSTART;TZID=UTC:20250524T180000
DTEND;TZID=UTC:20250524T210000
DTSTAMP:20260424T010702
CREATED:20250424T184228Z
LAST-MODIFIED:20250424T184229Z
UID:1806-1748109600-1748120400@terryklinefelter.com
SUMMARY:Solo Piano at Will and Bill's Brewery
DESCRIPTION:Great new venue in Berwyn\, PA\, hosting jazz piano. Please come out and support live music!
URL:https://terryklinefelter.com/event/solo-piano-at-will-and-bills-brewery-36/
END:VEVENT
END:VCALENDAR