BEGIN:VCALENDAR
VERSION:2.0
PRODID:-//Terry Klinefelter Music - ECPv6.13.2.1//NONSGML v1.0//EN
CALSCALE:GREGORIAN
METHOD:PUBLISH
X-WR-CALNAME:Terry Klinefelter Music
X-ORIGINAL-URL:https://terryklinefelter.com
X-WR-CALDESC:Events for Terry Klinefelter Music
REFRESH-INTERVAL;VALUE=DURATION:PT1H
X-Robots-Tag:noindex
X-PUBLISHED-TTL:PT1H
BEGIN:VTIMEZONE
TZID:UTC
BEGIN:STANDARD
TZOFFSETFROM:+0000
TZOFFSETTO:+0000
TZNAME:UTC
DTSTART:20240101T000000
END:STANDARD
END:VTIMEZONE
BEGIN:VEVENT
DTSTART;TZID=UTC:20241109T130000
DTEND;TZID=UTC:20241109T150000
DTSTAMP:20260424T091441
CREATED:20240810T052934Z
LAST-MODIFIED:20241107T045519Z
UID:1607-1731157200-1731164400@terryklinefelter.com
SUMMARY:Masterclass for DSMTA
DESCRIPTION:I will be working with students during the DSMTA state convention.
URL:https://terryklinefelter.com/event/masterclass-for-dsmta/
END:VEVENT
BEGIN:VEVENT
DTSTART;TZID=UTC:20241109T180000
DTEND;TZID=UTC:20241109T210000
DTSTAMP:20260424T091441
CREATED:20241107T044448Z
LAST-MODIFIED:20241107T044448Z
UID:1690-1731175200-1731186000@terryklinefelter.com
SUMMARY:Solo Piano at Crown Tavern
DESCRIPTION:Great new venue in Glen Mills\, PA
URL:https://terryklinefelter.com/event/solo-piano-at-crown-tavern-29/
END:VEVENT
BEGIN:VEVENT
DTSTART;TZID=UTC:20241110T180000
DTEND;TZID=UTC:20241110T180000
DTSTAMP:20260424T091441
CREATED:20240904T044906Z
LAST-MODIFIED:20240906T133125Z
UID:1637-1731261600-1731261600@terryklinefelter.com
SUMMARY:Kara Smith Vocal Pedagogy Graduate Recital
DESCRIPTION:6:00 p.m. St. Paul’s Episcopal Church. Doylestown\, PA. Works by Frances Poulenc\, Lori Laitman; selections from musical theatre and the Great American Songbook.
URL:https://terryklinefelter.com/event/kara-smith-vocal-pedagogy-graduate-recital/
END:VEVENT
BEGIN:VEVENT
DTSTART;TZID=UTC:20241122T180000
DTEND;TZID=UTC:20241122T210000
DTSTAMP:20260424T091441
CREATED:20241107T044508Z
LAST-MODIFIED:20241107T044509Z
UID:1689-1732298400-1732309200@terryklinefelter.com
SUMMARY:Solo Piano at Crown Tavern
DESCRIPTION:Great new venue in Glen Mills\, PA
URL:https://terryklinefelter.com/event/solo-piano-at-crown-tavern-30/
END:VEVENT
BEGIN:VEVENT
DTSTART;TZID=UTC:20241123T080000
DTEND;TZID=UTC:20241123T170000
DTSTAMP:20260424T091441
CREATED:20240920T072323Z
LAST-MODIFIED:20240920T072324Z
UID:1664-1732348800-1732381200@terryklinefelter.com
SUMMARY:Adjudicating for LVMTA
DESCRIPTION:I will be judging for this all-day event for the Lebanon Valley Music Teachers Association at Moravian College.
URL:https://terryklinefelter.com/event/adjudicating-for-lvmta/
END:VEVENT
BEGIN:VEVENT
DTSTART;TZID=UTC:20241130T190000
DTEND;TZID=UTC:20241130T220000
DTSTAMP:20260424T091441
CREATED:20241107T044943Z
LAST-MODIFIED:20241107T044944Z
UID:1693-1732993200-1733004000@terryklinefelter.com
SUMMARY:Lederach Corner Store Piano Bar w/Massimo Brutto
DESCRIPTION:Great venue featuring live jazz! w/Paul Klinefelter on bass.
URL:https://terryklinefelter.com/event/lederach-corner-store-piano-bar-w-massimo-brutto/
END:VEVENT
END:VCALENDAR