BEGIN:VCALENDAR
VERSION:2.0
PRODID:-//Terry Klinefelter Music - ECPv6.13.2.1//NONSGML v1.0//EN
CALSCALE:GREGORIAN
METHOD:PUBLISH
X-WR-CALNAME:Terry Klinefelter Music
X-ORIGINAL-URL:https://terryklinefelter.com
X-WR-CALDESC:Events for Terry Klinefelter Music
REFRESH-INTERVAL;VALUE=DURATION:PT1H
X-Robots-Tag:noindex
X-PUBLISHED-TTL:PT1H
BEGIN:VTIMEZONE
TZID:UTC
BEGIN:STANDARD
TZOFFSETFROM:+0000
TZOFFSETTO:+0000
TZNAME:UTC
DTSTART:20240101T000000
END:STANDARD
END:VTIMEZONE
BEGIN:VEVENT
DTSTART;TZID=UTC:20240902T183000
DTEND;TZID=UTC:20240902T213000
DTSTAMP:20260424T120613
CREATED:20240724T044613Z
LAST-MODIFIED:20240904T044454Z
UID:1575-1725301800-1725312600@terryklinefelter.com
SUMMARY:Black Squirrel
DESCRIPTION:Jazz Trio w/Richard Hill\, Jr.\, bass\, and Lionel Forrester\, drums.
URL:https://terryklinefelter.com/event/black-squirrel-5/
END:VEVENT
BEGIN:VEVENT
DTSTART;TZID=UTC:20240907T123000
DTEND;TZID=UTC:20240907T153000
DTSTAMP:20260424T120613
CREATED:20240728T013710Z
LAST-MODIFIED:20240804T075632Z
UID:1590-1725712200-1725723000@terryklinefelter.com
SUMMARY:Latin Jazz Concert
DESCRIPTION:w/Jerry Tanenbaum and friends. Maplewood Mall in Germantown.
URL:https://terryklinefelter.com/event/latin-jazz-concert-2/
END:VEVENT
BEGIN:VEVENT
DTSTART;TZID=UTC:20240909T183000
DTEND;TZID=UTC:20240909T213000
DTSTAMP:20260424T120613
CREATED:20240904T044430Z
LAST-MODIFIED:20240906T133515Z
UID:1634-1725906600-1725917400@terryklinefelter.com
SUMMARY:Black Squirrel
DESCRIPTION:Jazz trio and jam session w/Richard Hill\, Jr.\, bass\, and Chad Taylor\, drums.
URL:https://terryklinefelter.com/event/black-squirrel-6/
END:VEVENT
BEGIN:VEVENT
DTSTART;TZID=UTC:20240914T180000
DTEND;TZID=UTC:20240914T210000
DTSTAMP:20260424T120613
CREATED:20240904T045242Z
LAST-MODIFIED:20240904T045243Z
UID:1640-1726336800-1726347600@terryklinefelter.com
SUMMARY:Solo Piano at Crown Tavern
DESCRIPTION:Great new venue in Glen Mills\, PA
URL:https://terryklinefelter.com/event/solo-piano-at-crown-tavern-26/
END:VEVENT
BEGIN:VEVENT
DTSTART;TZID=UTC:20240921T180000
DTEND;TZID=UTC:20240921T210000
DTSTAMP:20260424T120613
CREATED:20240904T045307Z
LAST-MODIFIED:20240904T045308Z
UID:1639-1726941600-1726952400@terryklinefelter.com
SUMMARY:Solo Piano at Crown Tavern
DESCRIPTION:Great new venue in Glen Mills\, PA
URL:https://terryklinefelter.com/event/solo-piano-at-crown-tavern-27/
END:VEVENT
BEGIN:VEVENT
DTSTART;TZID=UTC:20240926T200000
DTEND;TZID=UTC:20240926T230000
DTSTAMP:20260424T120613
CREATED:20240920T071902Z
LAST-MODIFIED:20240920T071903Z
UID:1662-1727380800-1727391600@terryklinefelter.com
SUMMARY:Slow Hand
DESCRIPTION:Jazz Quartet feat. Joe Anderson\, EVI/trumpet\, Paul Klinefelter\, bass\, Glenn Ferracone\, drums.
URL:https://terryklinefelter.com/event/slow-hand-21/
END:VEVENT
BEGIN:VEVENT
DTSTART;TZID=UTC:20240928T210000
DTEND;TZID=UTC:20240928T210000
DTSTAMP:20260424T120613
CREATED:20240728T012819Z
LAST-MODIFIED:20240728T012820Z
UID:1585-1727557200-1727557200@terryklinefelter.com
SUMMARY:Hummingbird to Mars w/Massimo Brutto
DESCRIPTION:Fantastic speakeasy in Wilmington! w/Paul Klinefelter\, bass.
URL:https://terryklinefelter.com/event/hummingbird-to-mars-w-massimo-brutto-2/
END:VEVENT
END:VCALENDAR