BEGIN:VCALENDAR
VERSION:2.0
PRODID:-//Terry Klinefelter Music - ECPv6.13.2.1//NONSGML v1.0//EN
CALSCALE:GREGORIAN
METHOD:PUBLISH
X-ORIGINAL-URL:https://terryklinefelter.com
X-WR-CALDESC:Events for Terry Klinefelter Music
REFRESH-INTERVAL;VALUE=DURATION:PT1H
X-Robots-Tag:noindex
X-PUBLISHED-TTL:PT1H
BEGIN:VTIMEZONE
TZID:UTC
BEGIN:STANDARD
TZOFFSETFROM:+0000
TZOFFSETTO:+0000
TZNAME:UTC
DTSTART:20240101T000000
END:STANDARD
END:VTIMEZONE
BEGIN:VEVENT
DTSTART;TZID=UTC:20240801T200000
DTEND;TZID=UTC:20240801T200000
DTSTAMP:20260424T133436
CREATED:20240801T053248Z
LAST-MODIFIED:20240801T053248Z
UID:1592-1722542400-1722542400@terryklinefelter.com
SUMMARY:Jazz @ The Lenni w/vocalist/saxophonist Marion Salaam
DESCRIPTION:@ the LENNI 1608 Ridge Avenue\, Philadelphia 19130. w/Paul Klinefelter\, bass; Craig McIver\, drums
URL:https://terryklinefelter.com/event/jazz-the-lenni-w-vocalist-saxophonist-marion-salaam/
END:VEVENT
BEGIN:VEVENT
DTSTART;TZID=UTC:20240802T180000
DTEND;TZID=UTC:20240802T210000
DTSTAMP:20260424T133436
CREATED:20240724T043015Z
LAST-MODIFIED:20240724T043015Z
UID:1564-1722621600-1722632400@terryklinefelter.com
SUMMARY:Solo Piano at Crown Tavern
DESCRIPTION:Great new venue in Glen Mills\, PA
URL:https://terryklinefelter.com/event/solo-piano-at-crown-tavern-24/
END:VEVENT
BEGIN:VEVENT
DTSTART;TZID=UTC:20240803T180000
DTEND;TZID=UTC:20240803T210000
DTSTAMP:20260424T133436
CREATED:20240724T043035Z
LAST-MODIFIED:20240724T043036Z
UID:1563-1722708000-1722718800@terryklinefelter.com
SUMMARY:Solo Piano at Crown Tavern
DESCRIPTION:Great new venue in Glen Mills\, PA
URL:https://terryklinefelter.com/event/solo-piano-at-crown-tavern-25/
END:VEVENT
BEGIN:VEVENT
DTSTART;TZID=UTC:20240808T200000
DTEND;TZID=UTC:20240808T230000
DTSTAMP:20260424T133436
CREATED:20240724T045812Z
LAST-MODIFIED:20240724T045812Z
UID:1581-1723147200-1723158000@terryklinefelter.com
SUMMARY:Slow Hand
DESCRIPTION:Jazz Quartet feat. Joe Anderson\, EVI/trumpet\, Paul Klinefelter\, bass\, Glenn Ferracone\, drums.
URL:https://terryklinefelter.com/event/slow-hand-19/
END:VEVENT
BEGIN:VEVENT
DTSTART;TZID=UTC:20240809T180000
DTEND;TZID=UTC:20240809T210000
DTSTAMP:20260424T133436
CREATED:20240724T043121Z
LAST-MODIFIED:20240724T043121Z
UID:1568-1723226400-1723237200@terryklinefelter.com
SUMMARY:Solo Piano at Will and Bill's Brewery
DESCRIPTION:Great new venue in Berwyn\, PA\, hosting jazz piano. Please come out and support live music!
URL:https://terryklinefelter.com/event/solo-piano-at-will-and-bills-brewery-32/
END:VEVENT
BEGIN:VEVENT
DTSTART;TZID=UTC:20240814T190000
DTEND;TZID=UTC:20240814T190000
DTSTAMP:20260424T133436
CREATED:20240724T044305Z
LAST-MODIFIED:20240724T044306Z
UID:1571-1723662000-1723662000@terryklinefelter.com
SUMMARY:Sirens\, Songbirds\, and Showgirls
DESCRIPTION:A Night of Cabaret with soprano\, Emily Byrne. Broad Street United Methodist Church\, Burlington\, NJ
URL:https://terryklinefelter.com/event/sirens-songbirds-and-showgirls/
END:VEVENT
BEGIN:VEVENT
DTSTART;TZID=UTC:20240816T150000
DTEND;TZID=UTC:20240816T150000
DTSTAMP:20260424T133436
CREATED:20240724T044421Z
LAST-MODIFIED:20240724T050417Z
UID:1573-1723820400-1723820400@terryklinefelter.com
SUMMARY:Solo Piano Recital
DESCRIPTION:Kennett Friends Home. Works by Bach\, Beethoven\, Albeniz\, Ravel.
URL:https://terryklinefelter.com/event/solo-piano-recital/
END:VEVENT
BEGIN:VEVENT
DTSTART;TZID=UTC:20240830T180000
DTEND;TZID=UTC:20240830T210000
DTSTAMP:20260424T133436
CREATED:20240724T043151Z
LAST-MODIFIED:20240724T043152Z
UID:1567-1725040800-1725051600@terryklinefelter.com
SUMMARY:Solo Piano at Will and Bill's Brewery
DESCRIPTION:Great new venue in Berwyn\, PA\, hosting jazz piano. Please come out and support live music!
URL:https://terryklinefelter.com/event/solo-piano-at-will-and-bills-brewery-33/
END:VEVENT
BEGIN:VEVENT
DTSTART;TZID=UTC:20240831T193000
DTEND;TZID=UTC:20240831T193000
DTSTAMP:20260424T133436
CREATED:20240728T013433Z
LAST-MODIFIED:20240728T013433Z
UID:1588-1725132600-1725132600@terryklinefelter.com
SUMMARY:Watermark Logan Square
DESCRIPTION:w/vocalist Maci Miller
URL:https://terryklinefelter.com/event/watermark-logan-square/
END:VEVENT
END:VCALENDAR