BEGIN:VCALENDAR
VERSION:2.0
PRODID:-//Terry Klinefelter Music - ECPv6.13.2.1//NONSGML v1.0//EN
CALSCALE:GREGORIAN
METHOD:PUBLISH
X-ORIGINAL-URL:https://terryklinefelter.com
X-WR-CALDESC:Events for Terry Klinefelter Music
REFRESH-INTERVAL;VALUE=DURATION:PT1H
X-Robots-Tag:noindex
X-PUBLISHED-TTL:PT1H
BEGIN:VTIMEZONE
TZID:UTC
BEGIN:STANDARD
TZOFFSETFROM:+0000
TZOFFSETTO:+0000
TZNAME:UTC
DTSTART:20240101T000000
END:STANDARD
END:VTIMEZONE
BEGIN:VEVENT
DTSTART;TZID=UTC:20240615T180000
DTEND;TZID=UTC:20240615T210000
DTSTAMP:20260424T175920
CREATED:20240524T035939Z
LAST-MODIFIED:20240524T035940Z
UID:1521-1718474400-1718485200@terryklinefelter.com
SUMMARY:Solo Piano at Crown Tavern
DESCRIPTION:Great new venue in Glen Mills\, PA
URL:https://terryklinefelter.com/event/solo-piano-at-crown-tavern-22/
END:VEVENT
BEGIN:VEVENT
DTSTART;TZID=UTC:20240616T170000
DTEND;TZID=UTC:20240616T170000
DTSTAMP:20260424T175920
CREATED:20240612T225948Z
LAST-MODIFIED:20240613T051347Z
UID:1530-1718557200-1718557200@terryklinefelter.com
SUMMARY:Jazz Vespers @ Hare Pavilion on the Riverfront\, Wilmington DE
DESCRIPTION:w/Rob Swanson\, bass\, Larry Marshall\, drums. (In case of rain—Grace Presbyterian Church Cafe)
URL:https://terryklinefelter.com/event/jazz-vespers-hare-pavilion-on-the-riverfront-wilmington-de/
END:VEVENT
BEGIN:VEVENT
DTSTART;TZID=UTC:20240618T180000
DTEND;TZID=UTC:20240618T200000
DTSTAMP:20260424T175920
CREATED:20240613T045234Z
LAST-MODIFIED:20240613T045235Z
UID:1533-1718733600-1718740800@terryklinefelter.com
SUMMARY:Latin Jazz Concert
DESCRIPTION:FDR Park at the Gazebo. Bring a lawn chair and picnic! w/Victor North\, sax\, Daniel Spearman\, trumpet\, Cliff Kellum\, bass\, Shakoor Hakim\, congas\, Jerry Tanenbaum\, drums.
URL:https://terryklinefelter.com/event/latin-jazz-concert/
END:VEVENT
BEGIN:VEVENT
DTSTART;TZID=UTC:20240622T210000
DTEND;TZID=UTC:20240622T210000
DTSTAMP:20260424T175920
CREATED:20240524T035823Z
LAST-MODIFIED:20240524T040124Z
UID:1518-1719090000-1719090000@terryklinefelter.com
SUMMARY:Hummingbird to Mars w/Massimo Brutto
DESCRIPTION:Fantastic speakeasy in Wilmington! w/Paul Klinefelter\, bass.
URL:https://terryklinefelter.com/event/hummingbird-to-mars-w-massimo-brutto/
END:VEVENT
BEGIN:VEVENT
DTSTART;TZID=UTC:20240623T193000
DTEND;TZID=UTC:20240623T193000
DTSTAMP:20260424T175920
CREATED:20240612T225425Z
LAST-MODIFIED:20240612T225426Z
UID:1528-1719171000-1719171000@terryklinefelter.com
SUMMARY:KSCC-Symphony Under The Stars
DESCRIPTION:Kennett Symphony performs at Longwood Gardens. Mussorgsky’s Pictures at an Exhibition and film music from Harry Potter.
URL:https://terryklinefelter.com/event/kscc-symphony-under-the-stars/
END:VEVENT
BEGIN:VEVENT
DTSTART;TZID=UTC:20240627T200000
DTEND;TZID=UTC:20240627T230000
DTSTAMP:20260424T175920
CREATED:20240519T051908Z
LAST-MODIFIED:20240613T045536Z
UID:1516-1719518400-1719529200@terryklinefelter.com
SUMMARY:Slow Hand
DESCRIPTION:Jazz Quartet feat. Joe Anderson\, trumpet\, Paul Klinefelter\, bass\, Glenn Ferracone\, drums
URL:https://terryklinefelter.com/event/slow-hand-17/
END:VEVENT
BEGIN:VEVENT
DTSTART;TZID=UTC:20240629T180000
DTEND;TZID=UTC:20240629T210000
DTSTAMP:20260424T175920
CREATED:20240524T040204Z
LAST-MODIFIED:20240524T040204Z
UID:1520-1719684000-1719694800@terryklinefelter.com
SUMMARY:Solo Piano at Crown Tavern
DESCRIPTION:Great new venue in Glen Mills\, PA
URL:https://terryklinefelter.com/event/solo-piano-at-crown-tavern-23/
END:VEVENT
BEGIN:VEVENT
DTSTART;TZID=UTC:20240630T220000
DTEND;TZID=UTC:20240701T130000
DTSTAMP:20260424T175920
CREATED:20240622T065747Z
LAST-MODIFIED:20240622T065748Z
UID:1538-1719784800-1719838800@terryklinefelter.com
SUMMARY:Jazz Brunch @ Brew Haha Trolley Square
DESCRIPTION:w/ Keli Vale\, vocalist
URL:https://terryklinefelter.com/event/jazz-brunch-brew-haha-trolley-square/
END:VEVENT
END:VCALENDAR