BEGIN:VCALENDAR
VERSION:2.0
PRODID:-//Terry Klinefelter Music - ECPv6.13.2.1//NONSGML v1.0//EN
CALSCALE:GREGORIAN
METHOD:PUBLISH
X-WR-CALNAME:Terry Klinefelter Music
X-ORIGINAL-URL:https://terryklinefelter.com
X-WR-CALDESC:Events for Terry Klinefelter Music
REFRESH-INTERVAL;VALUE=DURATION:PT1H
X-Robots-Tag:noindex
X-PUBLISHED-TTL:PT1H
BEGIN:VTIMEZONE
TZID:UTC
BEGIN:STANDARD
TZOFFSETFROM:+0000
TZOFFSETTO:+0000
TZNAME:UTC
DTSTART:20240101T000000
END:STANDARD
END:VTIMEZONE
BEGIN:VEVENT
DTSTART;TZID=UTC:20240304T183000
DTEND;TZID=UTC:20240304T213000
DTSTAMP:20260424T215459
CREATED:20240229T044315Z
LAST-MODIFIED:20240229T044755Z
UID:1378-1709577000-1709587800@terryklinefelter.com
SUMMARY:Black Squirrel
DESCRIPTION:Monday night jam session led by Jerry Tannenbaum\, drums. With Madison Rast\, bass.
URL:https://terryklinefelter.com/event/black-squirrel-2/
END:VEVENT
BEGIN:VEVENT
DTSTART;TZID=UTC:20240308T190000
DTEND;TZID=UTC:20240308T220000
DTSTAMP:20260424T215459
CREATED:20240208T182358Z
LAST-MODIFIED:20240208T182358Z
UID:1370-1709924400-1709935200@terryklinefelter.com
SUMMARY:Black Squirrel
DESCRIPTION:w/vocalist Kevin Valentine
URL:https://terryklinefelter.com/event/black-squirrel/
END:VEVENT
BEGIN:VEVENT
DTSTART;TZID=UTC:20240315T080000
DTEND;TZID=UTC:20240317T170000
DTSTAMP:20260424T215459
CREATED:20240211T080734Z
LAST-MODIFIED:20240211T080735Z
UID:1374-1710489600-1710694800@terryklinefelter.com
SUMMARY:NATS Conference @ WCU
DESCRIPTION:I will be accompanying vocal competitors in classical\, musical theatre and commercial music categories\, and also performing in a lecture-recital with baritone\, Nicholas Provenzale.
URL:https://terryklinefelter.com/event/nats-conference-wcu/
END:VEVENT
BEGIN:VEVENT
DTSTART;TZID=UTC:20240323T180000
DTEND;TZID=UTC:20240323T210000
DTSTAMP:20260424T215459
CREATED:20240323T181626Z
LAST-MODIFIED:20240323T181627Z
UID:1404-1711216800-1711227600@terryklinefelter.com
SUMMARY:Solo Piano at Will and Bill's Brewery
DESCRIPTION:Great new venue in Berwyn\, PA\, hosting jazz piano. Please come out and support live music!
URL:https://terryklinefelter.com/event/solo-piano-at-will-and-bills-brewery-27/
END:VEVENT
BEGIN:VEVENT
DTSTART;TZID=UTC:20240324T130000
DTEND;TZID=UTC:20240324T160000
DTSTAMP:20260424T215459
CREATED:20240321T055526Z
LAST-MODIFIED:20240321T055527Z
UID:1387-1711285200-1711296000@terryklinefelter.com
SUMMARY:Sip and Soiree
DESCRIPTION:Society Hill Dance Academy.  Free drinks\, bites\, and favorite vendors for all of your event needs. This event is free\, but please RSVP via the eventbrite link.
URL:https://terryklinefelter.com/event/sip-and-soiree/
END:VEVENT
BEGIN:VEVENT
DTSTART;TZID=UTC:20240328T200000
DTEND;TZID=UTC:20240328T230000
DTSTAMP:20260424T215459
CREATED:20240321T054954Z
LAST-MODIFIED:20240321T054955Z
UID:1385-1711656000-1711666800@terryklinefelter.com
SUMMARY:Slow Hand
DESCRIPTION:Jazz Quartet feat. Joe Anderson\, EVI/trumpet\, Paul Klinefelter\, bass\, Glenn Ferracone\, drums
URL:https://terryklinefelter.com/event/slow-hand-16/
END:VEVENT
BEGIN:VEVENT
DTSTART;TZID=UTC:20240329T183000
DTEND;TZID=UTC:20240329T203000
DTSTAMP:20260424T215459
CREATED:20240213T194036Z
LAST-MODIFIED:20240213T194202Z
UID:1376-1711737000-1711744200@terryklinefelter.com
SUMMARY:Acadia Winery
DESCRIPTION:Live music at this beautiful Chester County winery. With Joe Anderson\, trumpet\, Rob Swanson\, bass.
URL:https://terryklinefelter.com/event/acadia-winery/
END:VEVENT
BEGIN:VEVENT
DTSTART;TZID=UTC:20240330T180000
DTEND;TZID=UTC:20240330T210000
DTSTAMP:20260424T215459
CREATED:20240321T054758Z
LAST-MODIFIED:20240321T054758Z
UID:1383-1711821600-1711832400@terryklinefelter.com
SUMMARY:Solo Piano at Crown Tavern
DESCRIPTION:Great new venue in Glen Mills\, PA
URL:https://terryklinefelter.com/event/solo-piano-at-crown-tavern-19/
END:VEVENT
END:VCALENDAR