BEGIN:VCALENDAR
VERSION:2.0
PRODID:-//Terry Klinefelter Music - ECPv6.13.2.1//NONSGML v1.0//EN
CALSCALE:GREGORIAN
METHOD:PUBLISH
X-ORIGINAL-URL:https://terryklinefelter.com
X-WR-CALDESC:Events for Terry Klinefelter Music
REFRESH-INTERVAL;VALUE=DURATION:PT1H
X-Robots-Tag:noindex
X-PUBLISHED-TTL:PT1H
BEGIN:VTIMEZONE
TZID:UTC
BEGIN:STANDARD
TZOFFSETFROM:+0000
TZOFFSETTO:+0000
TZNAME:UTC
DTSTART:20240101T000000
END:STANDARD
END:VTIMEZONE
BEGIN:VEVENT
DTSTART;TZID=UTC:20240104T200000
DTEND;TZID=UTC:20240104T230000
DTSTAMP:20260425T002304
CREATED:20240103T044838Z
LAST-MODIFIED:20240103T044838Z
UID:1360-1704398400-1704409200@terryklinefelter.com
SUMMARY:Slow Hand
DESCRIPTION:Jazz Quartet feat. John Swana\, EVI/trumpet\, Dave Brodie\, bass\, Glenn Ferracone\, drums
URL:https://terryklinefelter.com/event/slow-hand-15/
END:VEVENT
BEGIN:VEVENT
DTSTART;TZID=UTC:20240106T180000
DTEND;TZID=UTC:20240106T210000
DTSTAMP:20260425T002304
CREATED:20240103T045152Z
LAST-MODIFIED:20240103T045152Z
UID:1362-1704564000-1704574800@terryklinefelter.com
SUMMARY:Solo Piano at Will and Bill's Brewery
DESCRIPTION:Great new venue in Berwyn\, PA\, hosting jazz piano. Please come out and support live music!
URL:https://terryklinefelter.com/event/solo-piano-at-will-and-bills-brewery-25/
END:VEVENT
BEGIN:VEVENT
DTSTART;TZID=UTC:20240108T120000
DTEND;TZID=UTC:20240108T170000
DTSTAMP:20260425T002304
CREATED:20231209T171701Z
LAST-MODIFIED:20231209T171702Z
UID:1345-1704715200-1704733200@terryklinefelter.com
SUMMARY:Recording: David Bennett Thomas Wind Quintet
DESCRIPTION:University of the Arts
URL:https://terryklinefelter.com/event/recording-david-bennett-thomas-wind-quintet/
END:VEVENT
BEGIN:VEVENT
DTSTART;TZID=UTC:20240113T120000
DTEND;TZID=UTC:20240113T170000
DTSTAMP:20260425T002304
CREATED:20231012T043858Z
LAST-MODIFIED:20231209T171731Z
UID:1333-1705147200-1705165200@terryklinefelter.com
SUMMARY:Recording: Clarice Assad's Sonic Landscapes
DESCRIPTION:Premier recording of this multi Grammy-nominated composer’s piano quintet with the Sirius Quartet. Skyline Studios.
URL:https://terryklinefelter.com/event/recording-clarice-assads-sonic-landscapes/
END:VEVENT
BEGIN:VEVENT
DTSTART;TZID=UTC:20240120T193000
DTEND;TZID=UTC:20240120T193000
DTSTAMP:20260425T002304
CREATED:20231209T172851Z
LAST-MODIFIED:20231213T072551Z
UID:1350-1705779000-1705779000@terryklinefelter.com
SUMMARY:Allentown Symphony Orchestra
DESCRIPTION:LUSH LIFE: The Music of Duke Ellington and Billy Strayhorn\, w/the award-winning Canadian jazz vocalist Denzal Sinclaire.
URL:https://terryklinefelter.com/event/allentown-symphony-orchestra-5/
END:VEVENT
END:VCALENDAR