BEGIN:VCALENDAR
VERSION:2.0
PRODID:-//Terry Klinefelter Music - ECPv6.13.2.1//NONSGML v1.0//EN
CALSCALE:GREGORIAN
METHOD:PUBLISH
X-ORIGINAL-URL:https://terryklinefelter.com
X-WR-CALDESC:Events for Terry Klinefelter Music
REFRESH-INTERVAL;VALUE=DURATION:PT1H
X-Robots-Tag:noindex
X-PUBLISHED-TTL:PT1H
BEGIN:VTIMEZONE
TZID:UTC
BEGIN:STANDARD
TZOFFSETFROM:+0000
TZOFFSETTO:+0000
TZNAME:UTC
DTSTART:20230101T000000
END:STANDARD
END:VTIMEZONE
BEGIN:VEVENT
DTSTART;TZID=UTC:20231101T120000
DTEND;TZID=UTC:20231101T170000
DTSTAMP:20260425T025425
CREATED:20231012T043531Z
LAST-MODIFIED:20231209T171804Z
UID:1331-1698840000-1698858000@terryklinefelter.com
SUMMARY:Recording: David Bennett Thomas Piano Trio
DESCRIPTION:Premier recording with Francisco Salazar\, violin\, and Valeriya Sholokhova\, cello. Skyline Studios.
URL:https://terryklinefelter.com/event/recording-david-bennett-thomas-piano-trio-2/
END:VEVENT
BEGIN:VEVENT
DTSTART;TZID=UTC:20231118T193000
DTEND;TZID=UTC:20231118T193000
DTSTAMP:20260425T025425
CREATED:20230627T175851Z
LAST-MODIFIED:20230627T175852Z
UID:1272-1700335800-1700335800@terryklinefelter.com
SUMMARY:Will Todd's Mass in Blue
DESCRIPTION:Trinity Lutheran Church\, Lansdale\, PA. The Choristers\, with jazz quartet and soloists. Second half will feature spirituals and sacred jazz selections.
URL:https://terryklinefelter.com/event/will-todds-mass-in-blue/
END:VEVENT
END:VCALENDAR