BEGIN:VCALENDAR
VERSION:2.0
PRODID:-//Terry Klinefelter Music - ECPv6.13.2.1//NONSGML v1.0//EN
CALSCALE:GREGORIAN
METHOD:PUBLISH
X-ORIGINAL-URL:https://terryklinefelter.com
X-WR-CALDESC:Events for Terry Klinefelter Music
REFRESH-INTERVAL;VALUE=DURATION:PT1H
X-Robots-Tag:noindex
X-PUBLISHED-TTL:PT1H
BEGIN:VTIMEZONE
TZID:UTC
BEGIN:STANDARD
TZOFFSETFROM:+0000
TZOFFSETTO:+0000
TZNAME:UTC
DTSTART:20230101T000000
END:STANDARD
END:VTIMEZONE
BEGIN:VEVENT
DTSTART;TZID=UTC:20230401T090000
DTEND;TZID=UTC:20230401T090000
DTSTAMP:20260425T113133
CREATED:20230311T134717Z
LAST-MODIFIED:20230311T134717Z
UID:1222-1680339600-1680339600@terryklinefelter.com
SUMMARY:WCU Annual Pre-Collegiate Piano Competition
DESCRIPTION:I will be adjudicating for this national piano competition featuring students from ages 9-18 in three categories. Sponsored by Jacobs Music and the Wells School of Music.
URL:https://terryklinefelter.com/event/wcu-annual-pre-collegiate-piano-competition/
END:VEVENT
BEGIN:VEVENT
DTSTART;TZID=UTC:20230407T180000
DTEND;TZID=UTC:20230407T210000
DTSTAMP:20260425T113133
CREATED:20230314T072803Z
LAST-MODIFIED:20230314T072804Z
UID:1226-1680890400-1680901200@terryklinefelter.com
SUMMARY:Solo Piano at Crown Tavern
DESCRIPTION:Great new venue in Glen Mills\, PA
URL:https://terryklinefelter.com/event/solo-piano-at-crown-tavern-3/
END:VEVENT
BEGIN:VEVENT
DTSTART;TZID=UTC:20230408T180000
DTEND;TZID=UTC:20230408T210000
DTSTAMP:20260425T113133
CREATED:20230314T072845Z
LAST-MODIFIED:20230314T072845Z
UID:1225-1680976800-1680987600@terryklinefelter.com
SUMMARY:Solo Piano at Crown Tavern
DESCRIPTION:Great new venue in Glen Mills\, PA
URL:https://terryklinefelter.com/event/solo-piano-at-crown-tavern-4/
END:VEVENT
BEGIN:VEVENT
DTSTART;TZID=UTC:20230415T213000
DTEND;TZID=UTC:20230415T230000
DTSTAMP:20260425T113133
CREATED:20230202T062751Z
LAST-MODIFIED:20230311T131707Z
UID:1195-1681594200-1681599600@terryklinefelter.com
SUMMARY:Chelsea Table and Stage NYC
DESCRIPTION:John Hoey Trio\, w/Jay Leonhart on bass\, and special guest vocalist\, Mar Vilaseca.
URL:https://terryklinefelter.com/event/chelsea-table-and-stage-nyc/
END:VEVENT
BEGIN:VEVENT
DTSTART;TZID=UTC:20230421T180000
DTEND;TZID=UTC:20230421T210000
DTSTAMP:20260425T113133
CREATED:20230314T072935Z
LAST-MODIFIED:20230314T072936Z
UID:1224-1682100000-1682110800@terryklinefelter.com
SUMMARY:Solo Piano at Crown Tavern
DESCRIPTION:Great new venue in Glen Mills\, PA
URL:https://terryklinefelter.com/event/solo-piano-at-crown-tavern-5/
END:VEVENT
BEGIN:VEVENT
DTSTART;TZID=UTC:20230422T193000
DTEND;TZID=UTC:20230422T213000
DTSTAMP:20260425T113133
CREATED:20230113T045221Z
LAST-MODIFIED:20230425T160233Z
UID:1188-1682191800-1682199000@terryklinefelter.com
SUMMARY:Wayne Oratorio Society
DESCRIPTION:I will be performing in Will Todd’s Jazz Mass with the Wayne Oratorio Society\, John Grecia directing.
URL:https://terryklinefelter.com/event/wayne-oratorio-society/
END:VEVENT
BEGIN:VEVENT
DTSTART;TZID=UTC:20230423T193000
DTEND;TZID=UTC:20230423T213000
DTSTAMP:20260425T113133
CREATED:20230425T160310Z
LAST-MODIFIED:20230425T160310Z
UID:1244-1682278200-1682285400@terryklinefelter.com
SUMMARY:Wayne Oratorio Society
DESCRIPTION:I will be performing in Will Todd’s Jazz Mass with the Wayne Oratorio Society\, John Grecia directing.
URL:https://terryklinefelter.com/event/wayne-oratorio-society-2/
END:VEVENT
BEGIN:VEVENT
DTSTART;TZID=UTC:20230429T154500
DTEND;TZID=UTC:20230429T163000
DTSTAMP:20260425T113133
CREATED:20230202T062108Z
LAST-MODIFIED:20230425T160423Z
UID:1193-1682783100-1682785800@terryklinefelter.com
SUMMARY:Kennett Jazz Festival
DESCRIPTION:Trio w/Paul Klinefelter\, bass\, and special guest\, legendary drummer Bill Goodwin.  Our set begins at 3:45 p.m. Kennett Brewing Company.
URL:https://terryklinefelter.com/event/kennett-jazz-festival/
END:VEVENT
END:VCALENDAR