BEGIN:VCALENDAR
VERSION:2.0
PRODID:-//Terry Klinefelter Music - ECPv6.13.2.1//NONSGML v1.0//EN
CALSCALE:GREGORIAN
METHOD:PUBLISH
X-WR-CALNAME:Terry Klinefelter Music
X-ORIGINAL-URL:https://terryklinefelter.com
X-WR-CALDESC:Events for Terry Klinefelter Music
REFRESH-INTERVAL;VALUE=DURATION:PT1H
X-Robots-Tag:noindex
X-PUBLISHED-TTL:PT1H
BEGIN:VTIMEZONE
TZID:UTC
BEGIN:STANDARD
TZOFFSETFROM:+0000
TZOFFSETTO:+0000
TZNAME:UTC
DTSTART:20220101T000000
END:STANDARD
END:VTIMEZONE
BEGIN:VEVENT
DTSTART;TZID=UTC:20230310T180000
DTEND;TZID=UTC:20230310T210000
DTSTAMP:20260425T120408
CREATED:20230306T074930Z
LAST-MODIFIED:20230306T074931Z
UID:1212-1678471200-1678482000@terryklinefelter.com
SUMMARY:Solo Piano at Crown Tavern
DESCRIPTION:Great new venue in Glen Mills\, PA
URL:https://terryklinefelter.com/event/solo-piano-at-crown-tavern/
END:VEVENT
BEGIN:VEVENT
DTSTART;TZID=UTC:20230304T080000
DTEND;TZID=UTC:20230304T170000
DTSTAMP:20260425T120408
CREATED:20230207T180736Z
LAST-MODIFIED:20230207T180737Z
UID:1206-1677916800-1677949200@terryklinefelter.com
SUMMARY:Community Music School Piano Festival
DESCRIPTION:Guest adjudicator for this annual CMS event in Trappe\, PA
URL:https://terryklinefelter.com/event/community-music-school-piano-festival/
END:VEVENT
BEGIN:VEVENT
DTSTART;TZID=UTC:20230218T180000
DTEND;TZID=UTC:20230218T210000
DTSTAMP:20260425T120408
CREATED:20230202T063425Z
LAST-MODIFIED:20230202T063425Z
UID:1200-1676743200-1676754000@terryklinefelter.com
SUMMARY:Solo Piano at Will and Bill's Brewery
DESCRIPTION:Great new venue in Berwyn\, PA\, hosting jazz piano. Please come out and support live music!
URL:https://terryklinefelter.com/event/solo-piano-at-will-and-bills-brewery-16/
END:VEVENT
BEGIN:VEVENT
DTSTART;TZID=UTC:20230217T180000
DTEND;TZID=UTC:20230217T210000
DTSTAMP:20260425T120408
CREATED:20230113T043247Z
LAST-MODIFIED:20230113T043248Z
UID:1175-1676656800-1676667600@terryklinefelter.com
SUMMARY:Live Jazz @ Hook and Ladder Sky Bar
DESCRIPTION:Great venue in Conshohocken’s new luxury Hotel West and Main. w/Paul Klinefelter\, bass.
URL:https://terryklinefelter.com/event/live-jazz-hook-and-ladder-sky-bar-5/
END:VEVENT
BEGIN:VEVENT
DTSTART;TZID=UTC:20230211T210000
DTEND;TZID=UTC:20230211T210000
DTSTAMP:20260425T120408
CREATED:20230113T050823Z
LAST-MODIFIED:20230113T050824Z
UID:1190-1676149200-1676149200@terryklinefelter.com
SUMMARY:Hummingbird to Mars
DESCRIPTION:w/vocalist\, Jill Salkin
URL:https://terryklinefelter.com/event/hummingbird-to-mars/
END:VEVENT
BEGIN:VEVENT
DTSTART;TZID=UTC:20230203T180000
DTEND;TZID=UTC:20230203T210000
DTSTAMP:20260425T120408
CREATED:20230113T043211Z
LAST-MODIFIED:20230113T043212Z
UID:1174-1675447200-1675458000@terryklinefelter.com
SUMMARY:Live Jazz @ Hook and Ladder Sky Bar
DESCRIPTION:Great venue in Conshohocken’s new luxury Hotel West and Main. w/Paul Klinefelter\, bass.
URL:https://terryklinefelter.com/event/live-jazz-hook-and-ladder-sky-bar-3/
END:VEVENT
BEGIN:VEVENT
DTSTART;TZID=UTC:20230126T200000
DTEND;TZID=UTC:20230126T230000
DTSTAMP:20260425T120408
CREATED:20230113T044221Z
LAST-MODIFIED:20230113T044222Z
UID:1186-1674763200-1674774000@terryklinefelter.com
SUMMARY:Slow Hand
DESCRIPTION:Jazz Quartet feat. Bob Howell\, tenor sax\, Paul Klinefelter\, bass\, Glenn Ferracone\, drums
URL:https://terryklinefelter.com/event/slow-hand-9/
END:VEVENT
BEGIN:VEVENT
DTSTART;TZID=UTC:20230125T113000
DTEND;TZID=UTC:20230125T130000
DTSTAMP:20260425T120408
CREATED:20230113T044124Z
LAST-MODIFIED:20230113T044124Z
UID:1183-1674646200-1674651600@terryklinefelter.com
SUMMARY:Solo Piano at One Liberty Place
DESCRIPTION:
URL:https://terryklinefelter.com/event/solo-piano-at-one-liberty-place-3/
END:VEVENT
BEGIN:VEVENT
DTSTART;TZID=UTC:20230120T180000
DTEND;TZID=UTC:20230120T210000
DTSTAMP:20260425T120408
CREATED:20221216T033004Z
LAST-MODIFIED:20221216T033005Z
UID:1168-1674237600-1674248400@terryklinefelter.com
SUMMARY:Live Jazz @ Hook and Ladder Sky Bar
DESCRIPTION:Great venue in Conshohocken’s new luxury Hotel West and Main. w/Paul Klinefelter\, bass.
URL:https://terryklinefelter.com/event/live-jazz-hook-and-ladder-sky-bar-4/
END:VEVENT
BEGIN:VEVENT
DTSTART;TZID=UTC:20230118T113000
DTEND;TZID=UTC:20230118T130000
DTSTAMP:20260425T120408
CREATED:20230113T043532Z
LAST-MODIFIED:20230113T043532Z
UID:1180-1674041400-1674046800@terryklinefelter.com
SUMMARY:Solo Piano at One Liberty Place
DESCRIPTION:
URL:https://terryklinefelter.com/event/solo-piano-at-one-liberty-place-2/
END:VEVENT
BEGIN:VEVENT
DTSTART;TZID=UTC:20230111T113000
DTEND;TZID=UTC:20230111T130000
DTSTAMP:20260425T120408
CREATED:20230113T043425Z
LAST-MODIFIED:20230113T043426Z
UID:1178-1673436600-1673442000@terryklinefelter.com
SUMMARY:Solo Piano at One Liberty Place
DESCRIPTION:
URL:https://terryklinefelter.com/event/solo-piano-at-one-liberty-place/
END:VEVENT
BEGIN:VEVENT
DTSTART;TZID=UTC:20221231T180000
DTEND;TZID=UTC:20221231T210000
DTSTAMP:20260425T120408
CREATED:20221214T061135Z
LAST-MODIFIED:20221214T061258Z
UID:1165-1672509600-1672520400@terryklinefelter.com
SUMMARY:Jazz Duo at Will and Bill's Brewery
DESCRIPTION:w/Paul Klinefelter\, bass.
URL:https://terryklinefelter.com/event/jazz-duo-at-will-and-bills-brewery/
END:VEVENT
BEGIN:VEVENT
DTSTART;TZID=UTC:20221224T180000
DTEND;TZID=UTC:20221224T220000
DTSTAMP:20260425T120408
CREATED:20221205T163217Z
LAST-MODIFIED:20221205T163218Z
UID:1161-1671904800-1671919200@terryklinefelter.com
SUMMARY:Solo piano at the Rittenhouse Grill
DESCRIPTION:Live piano jazz in a sophisticated supper club atmosphere.
URL:https://terryklinefelter.com/event/solo-piano-at-the-rittenhouse-grill-4/
END:VEVENT
BEGIN:VEVENT
DTSTART;TZID=UTC:20221223T193000
DTEND;TZID=UTC:20221223T193000
DTSTAMP:20260425T120408
CREATED:20221106T183347Z
LAST-MODIFIED:20221106T183725Z
UID:1136-1671823800-1671823800@terryklinefelter.com
SUMMARY:PA Philharmonic Big Band
DESCRIPTION:Holiday favorites with the PA Philharmonic Big Band. Phoenixville Middle School.
URL:https://terryklinefelter.com/event/pa-philharmonic-big-band-3/
END:VEVENT
BEGIN:VEVENT
DTSTART;TZID=UTC:20221222T200000
DTEND;TZID=UTC:20221222T230000
DTSTAMP:20260425T120408
CREATED:20221205T163446Z
LAST-MODIFIED:20221205T163446Z
UID:1163-1671739200-1671750000@terryklinefelter.com
SUMMARY:Slow Hand
DESCRIPTION:Jazz Quartet feat. Bob Howell\, tenor sax\, Paul Klinefelter\, bass\, Glenn Ferracone\, drums
URL:https://terryklinefelter.com/event/slow-hand-8/
END:VEVENT
BEGIN:VEVENT
DTSTART;TZID=UTC:20221217T193000
DTEND;TZID=UTC:20221217T213000
DTSTAMP:20260425T120408
CREATED:20221120T070522Z
LAST-MODIFIED:20221120T070522Z
UID:1151-1671305400-1671312600@terryklinefelter.com
SUMMARY:Allentown Symphony Orchestra
DESCRIPTION:Holiday Pops! Featuring Broadway star\, Phoenix Best.
URL:https://terryklinefelter.com/event/allentown-symphony-orchestra-3/
END:VEVENT
BEGIN:VEVENT
DTSTART;TZID=UTC:20221217T140000
DTEND;TZID=UTC:20221217T160000
DTSTAMP:20260425T120408
CREATED:20221101T052815Z
LAST-MODIFIED:20221101T052815Z
UID:1132-1671285600-1671292800@terryklinefelter.com
SUMMARY:Allentown Symphony Orchestra
DESCRIPTION:Holiday Pops! Featuring Broadway star\, Phoenix Best.
URL:https://terryklinefelter.com/event/allentown-symphony-orchestra/
END:VEVENT
BEGIN:VEVENT
DTSTART;TZID=UTC:20221215T190000
DTEND;TZID=UTC:20221215T210000
DTSTAMP:20260425T120408
CREATED:20221216T033242Z
LAST-MODIFIED:20221216T033243Z
UID:1169-1671130800-1671138000@terryklinefelter.com
SUMMARY:The Jazz Sanctuary
DESCRIPTION:w/Alan Segal and Friends. Feat. Paula Johns\, Vocals. Bethlehem Baptist Church\, Spring House\, PA
URL:https://terryklinefelter.com/event/the-jazz-sanctuary-3/
END:VEVENT
BEGIN:VEVENT
DTSTART;TZID=UTC:20221210T180000
DTEND;TZID=UTC:20221210T210000
DTSTAMP:20260425T120408
CREATED:20221205T163043Z
LAST-MODIFIED:20221205T163044Z
UID:1156-1670695200-1670706000@terryklinefelter.com
SUMMARY:Solo Piano at Will and Bill's Brewery
DESCRIPTION:Great new venue in Berwyn\, PA\, hosting jazz piano. Please come out and support live music!
URL:https://terryklinefelter.com/event/solo-piano-at-will-and-bills-brewery-15/
END:VEVENT
BEGIN:VEVENT
DTSTART;TZID=UTC:20221209T180000
DTEND;TZID=UTC:20221209T210000
DTSTAMP:20260425T120408
CREATED:20221118T161611Z
LAST-MODIFIED:20221118T161612Z
UID:1149-1670608800-1670619600@terryklinefelter.com
SUMMARY:Live Jazz @ Hook and Ladder Sky Bar
DESCRIPTION:Great venue in Conshohocken’s new luxury Hotel West and Main. w/Paul Klinefelter\, bass.
URL:https://terryklinefelter.com/event/live-jazz-hook-and-ladder-sky-bar/
END:VEVENT
BEGIN:VEVENT
DTSTART;TZID=UTC:20221204T143000
DTEND;TZID=UTC:20221204T143000
DTSTAMP:20260425T120408
CREATED:20221106T183229Z
LAST-MODIFIED:20221106T183756Z
UID:1137-1670164200-1670164200@terryklinefelter.com
SUMMARY:PA Philharmonic Big Band
DESCRIPTION:Holiday favorites with the PA Philharmonic Big Band. Bucks County Community College.
URL:https://terryklinefelter.com/event/pa-philharmonic-big-band-2/
END:VEVENT
BEGIN:VEVENT
DTSTART;TZID=UTC:20221203T180000
DTEND;TZID=UTC:20221203T210000
DTSTAMP:20260425T120408
CREATED:20221205T162923Z
LAST-MODIFIED:20221205T162924Z
UID:1157-1670090400-1670101200@terryklinefelter.com
SUMMARY:Solo Piano at Will and Bill's Brewery
DESCRIPTION:Great new venue in Berwyn\, PA\, hosting jazz piano. Please come out and support live music!
URL:https://terryklinefelter.com/event/solo-piano-at-will-and-bills-brewery-14/
END:VEVENT
BEGIN:VEVENT
DTSTART;TZID=UTC:20221126T180000
DTEND;TZID=UTC:20221126T210000
DTSTAMP:20260425T120408
CREATED:20221101T052217Z
LAST-MODIFIED:20221101T052217Z
UID:1128-1669485600-1669496400@terryklinefelter.com
SUMMARY:Solo Piano at Will and Bill's Brewery
DESCRIPTION:Great new venue in Berwyn\, PA\, hosting jazz piano. Please come out and support live music!
URL:https://terryklinefelter.com/event/solo-piano-at-will-and-bills-brewery-13/
END:VEVENT
BEGIN:VEVENT
DTSTART;TZID=UTC:20221126T143000
DTEND;TZID=UTC:20221126T143000
DTSTAMP:20260425T120408
CREATED:20221106T183053Z
LAST-MODIFIED:20221106T183837Z
UID:1134-1669473000-1669473000@terryklinefelter.com
SUMMARY:PA Philharmonic Big Band
DESCRIPTION:Holiday favorites with the PA Philharmonic Big Band. Reading Area Community College.
URL:https://terryklinefelter.com/event/pa-philharmonic-big-band/
END:VEVENT
BEGIN:VEVENT
DTSTART;TZID=UTC:20221125T180000
DTEND;TZID=UTC:20221125T210000
DTSTAMP:20260425T120408
CREATED:20221121T055824Z
LAST-MODIFIED:20221121T055825Z
UID:1154-1669399200-1669410000@terryklinefelter.com
SUMMARY:Live Jazz @ Hook and Ladder Sky Bar
DESCRIPTION:Great venue in Conshohocken’s new luxury Hotel West and Main. w/Paul Klinefelter\, bass.
URL:https://terryklinefelter.com/event/live-jazz-hook-and-ladder-sky-bar-2/
END:VEVENT
BEGIN:VEVENT
DTSTART;TZID=UTC:20221119T180000
DTEND;TZID=UTC:20221119T220000
DTSTAMP:20260425T120408
CREATED:20221101T052310Z
LAST-MODIFIED:20221101T052311Z
UID:1130-1668880800-1668895200@terryklinefelter.com
SUMMARY:Solo piano at the Rittenhouse Grill
DESCRIPTION:Live piano jazz in a sophisticated supper club atmosphere.
URL:https://terryklinefelter.com/event/solo-piano-at-the-rittenhouse-grill-3/
END:VEVENT
BEGIN:VEVENT
DTSTART;TZID=UTC:20221118T190000
DTEND;TZID=UTC:20221118T220000
DTSTAMP:20260425T120408
CREATED:20220817T044511Z
LAST-MODIFIED:20220817T044512Z
UID:1101-1668798000-1668808800@terryklinefelter.com
SUMMARY:River House at Odette's
DESCRIPTION:w/vocalist Jill Salkin
URL:https://terryklinefelter.com/event/river-house-at-odettes-2/
END:VEVENT
BEGIN:VEVENT
DTSTART;TZID=UTC:20221104T183000
DTEND;TZID=UTC:20221104T213000
DTSTAMP:20260425T120408
CREATED:20221003T070425Z
LAST-MODIFIED:20221003T070509Z
UID:1125-1667586600-1667597400@terryklinefelter.com
SUMMARY:Josephine's
DESCRIPTION:I’ll be performing on the Steinway with Tom Hilliker\, bass. Beautiful venue. Hope to see you there!
URL:https://terryklinefelter.com/event/josephines/
END:VEVENT
BEGIN:VEVENT
DTSTART;TZID=UTC:20221028T190000
DTEND;TZID=UTC:20221028T210000
DTSTAMP:20260425T120408
CREATED:20220817T045708Z
LAST-MODIFIED:20220817T045709Z
UID:1103-1666983600-1666990800@terryklinefelter.com
SUMMARY:The Jazz Sanctuary
DESCRIPTION:w/Alan Segal\, bass and Leon Jordan\, drums
URL:https://terryklinefelter.com/event/the-jazz-sanctuary-2/
END:VEVENT
BEGIN:VEVENT
DTSTART;TZID=UTC:20221022T180000
DTEND;TZID=UTC:20221022T220000
DTSTAMP:20260425T120408
CREATED:20221003T064649Z
LAST-MODIFIED:20221003T064650Z
UID:1123-1666461600-1666476000@terryklinefelter.com
SUMMARY:Solo piano at the Rittenhouse Grill
DESCRIPTION:Live piano jazz in a sophisticated supper club atmosphere.
URL:https://terryklinefelter.com/event/solo-piano-at-the-rittenhouse-grill-2/
END:VEVENT
END:VCALENDAR