BEGIN:VCALENDAR
VERSION:2.0
PRODID:-//Terry Klinefelter Music - ECPv6.13.2.1//NONSGML v1.0//EN
CALSCALE:GREGORIAN
METHOD:PUBLISH
X-WR-CALNAME:Terry Klinefelter Music
X-ORIGINAL-URL:https://terryklinefelter.com
X-WR-CALDESC:Events for Terry Klinefelter Music
REFRESH-INTERVAL;VALUE=DURATION:PT1H
X-Robots-Tag:noindex
X-PUBLISHED-TTL:PT1H
BEGIN:VTIMEZONE
TZID:UTC
BEGIN:STANDARD
TZOFFSETFROM:+0000
TZOFFSETTO:+0000
TZNAME:UTC
DTSTART:20240101T000000
END:STANDARD
END:VTIMEZONE
BEGIN:VEVENT
DTSTART;TZID=UTC:20250516T180000
DTEND;TZID=UTC:20250516T210000
DTSTAMP:20260423T223512
CREATED:20250516T062525Z
LAST-MODIFIED:20250528T171626Z
UID:1815-1747418400-1747429200@terryklinefelter.com
SUMMARY:Solo Piano at Will and Bill's Brewery
DESCRIPTION:Great new venue in Berwyn\, PA\, hosting jazz piano. Please come out and support live music!
URL:https://terryklinefelter.com/event/solo-piano-at-will-and-bills-brewery-copy/
END:VEVENT
BEGIN:VEVENT
DTSTART;TZID=UTC:20250511T100000
DTEND;TZID=UTC:20250511T130000
DTSTAMP:20260423T223512
CREATED:20250424T183452Z
LAST-MODIFIED:20250424T183453Z
UID:1794-1746957600-1746968400@terryklinefelter.com
SUMMARY:Mother's Day Jazz Brunch
DESCRIPTION:Brew Ha Ha\, Greenville\, DE. w/Rob Swanson\, bass.
URL:https://terryklinefelter.com/event/mothers-day-jazz-brunch/
END:VEVENT
BEGIN:VEVENT
DTSTART;TZID=UTC:20250505T190000
DTEND;TZID=UTC:20250505T190000
DTSTAMP:20260423T223512
CREATED:20250424T185034Z
LAST-MODIFIED:20250424T185203Z
UID:1808-1746471600-1746471600@terryklinefelter.com
SUMMARY:Black Squirrel
DESCRIPTION:Jazz and Jokes International. w/featured comedians\, and Richard Hill\, Jr.\, bass
URL:https://terryklinefelter.com/event/black-squirrel-7/
END:VEVENT
BEGIN:VEVENT
DTSTART;TZID=UTC:20250503T140000
DTEND;TZID=UTC:20250503T140000
DTSTAMP:20260423T223512
CREATED:20250424T185855Z
LAST-MODIFIED:20250424T185856Z
UID:1812-1746280800-1746280800@terryklinefelter.com
SUMMARY:House Concert w/Gus Mercante
DESCRIPTION:House concert w/countertenor & baritone Gus Mercante. Message Gus on FB for tickets.
URL:https://terryklinefelter.com/event/house-concert-w-gus-mercante-2/
END:VEVENT
BEGIN:VEVENT
DTSTART;TZID=UTC:20250502T180000
DTEND;TZID=UTC:20250502T180000
DTSTAMP:20260423T223512
CREATED:20250424T185748Z
LAST-MODIFIED:20250424T191246Z
UID:1810-1746208800-1746208800@terryklinefelter.com
SUMMARY:House Concert w/Gus Mercante
DESCRIPTION:House concert w/countertenor & baritone Gus Mercante. Message Gus on FB for tickets.
URL:https://terryklinefelter.com/event/house-concert-w-gus-mercante/
END:VEVENT
BEGIN:VEVENT
DTSTART;TZID=UTC:20250426T210000
DTEND;TZID=UTC:20250426T210000
DTSTAMP:20260423T223512
CREATED:20250225T195656Z
LAST-MODIFIED:20250902T150611Z
UID:1766-1745701200-1745701200@terryklinefelter.com
SUMMARY:Hummingbird to Mars w/Massimo Brutto
DESCRIPTION:Fantastic speakeasy in Wilmington! w/Paul Klinefelter\, bass.
URL:https://terryklinefelter.com/event/hummingbird-to-mars-w-massimo-brutto-5/
ATTACH;FMTTYPE=image/jpeg:https://terryklinefelter.com/wp-content/uploads/2025/09/IMG_4087-scaled.jpg
END:VEVENT
BEGIN:VEVENT
DTSTART;TZID=UTC:20250424T200000
DTEND;TZID=UTC:20250424T230000
DTSTAMP:20260423T223512
CREATED:20250424T183754Z
LAST-MODIFIED:20250424T183755Z
UID:1799-1745524800-1745535600@terryklinefelter.com
SUMMARY:Slow Hand
DESCRIPTION:Jazz Quartet feat. Joe Anderson\, EVI/trumpet\, Paul Klinefelter\, bass\, Glenn Ferracone\, drums.
URL:https://terryklinefelter.com/event/slow-hand-22/
END:VEVENT
BEGIN:VEVENT
DTSTART;TZID=UTC:20250412T190000
DTEND;TZID=UTC:20250412T220000
DTSTAMP:20260423T223512
CREATED:20250225T200413Z
LAST-MODIFIED:20250225T200414Z
UID:1768-1744484400-1744495200@terryklinefelter.com
SUMMARY:Bowman's Tavern w/vocalist Jill Salkin
DESCRIPTION:Great restaurant in New Hope! Nice bar scene with a lovely Yahama grand. I’ll be accompanying talented vocalist Jill Salkin.
URL:https://terryklinefelter.com/event/bowmans-tavern-w-vocalist-jill-salkin/
END:VEVENT
BEGIN:VEVENT
DTSTART;TZID=UTC:20250405T140000
DTEND;TZID=UTC:20250405T140000
DTSTAMP:20260423T223512
CREATED:20240904T153606Z
LAST-MODIFIED:20250225T195302Z
UID:1646-1743861600-1743861600@terryklinefelter.com
SUMMARY:88 Time.
DESCRIPTION:Mandel Theatre. In this Pew-awarded project\, four pianists (myself\, Sumi Tonooka\, Kendrah Butler\, and Suzzette Ortiz) unveil a concert-length collection of original pieces for four pianos and solos\, reflecting life’s journeys and interweaving social justice themes.
URL:https://terryklinefelter.com/event/88-time-2/
END:VEVENT
BEGIN:VEVENT
DTSTART;TZID=UTC:20250405T120000
DTEND;TZID=UTC:20250405T120000
DTSTAMP:20260423T223512
CREATED:20250716T064614Z
LAST-MODIFIED:20250716T064615Z
UID:1875-1743854400-1743854400@terryklinefelter.com
SUMMARY:88 Time
DESCRIPTION:A reprise of this Pew-awarded project\, originally presented at Philadelphia’s Mandell Theatre\, now coming to Delaware audiences! Four pianists (myself\, Sumi Tonooka\, Kendrah Butler\, and Suzzette Ortiz) unveil a concert-length collection of original pieces for four pianos and solos\, reflecting life’s journeys and interweaving social justice themes. Details TBA.
URL:https://terryklinefelter.com/event/88-time-3/
END:VEVENT
BEGIN:VEVENT
DTSTART;TZID=UTC:20250404T193000
DTEND;TZID=UTC:20250404T193000
DTSTAMP:20260423T223512
CREATED:20240904T153342Z
LAST-MODIFIED:20250225T195139Z
UID:1644-1743795000-1743795000@terryklinefelter.com
SUMMARY:88 Time.
DESCRIPTION:Mandel Theatre. In this Pew-awarded project\, four pianists (myself\, Sumi Tonooka\, Kendrah Butler\, and Suzzette Ortiz) unveil a concert-length collection of original pieces for four pianos and solos\, reflecting life’s journeys and interweaving social justice themes.
URL:https://terryklinefelter.com/event/88-time/
END:VEVENT
BEGIN:VEVENT
DTSTART;TZID=UTC:20250403T193000
DTEND;TZID=UTC:20250403T193000
DTSTAMP:20260423T223512
CREATED:20250207T065304Z
LAST-MODIFIED:20250225T195044Z
UID:1744-1743708600-1743708600@terryklinefelter.com
SUMMARY:88 Time.
DESCRIPTION:Mandel Theatre. In this Pew-awarded project\, four pianists (myself\, Sumi Tonooka\, Kendrah Butler\, and Suzzette Ortiz) unveil a concert-length collection of original pieces for four pianos and solos\, reflecting life’s journeys and interweaving social justice themes.
URL:https://terryklinefelter.com/event/88-time-copy/
END:VEVENT
BEGIN:VEVENT
DTSTART;TZID=UTC:20250327T200000
DTEND;TZID=UTC:20250327T230000
DTSTAMP:20260423T223512
CREATED:20250219T064032Z
LAST-MODIFIED:20250225T195210Z
UID:1760-1743105600-1743116400@terryklinefelter.com
SUMMARY:Slow Hand
DESCRIPTION:Jazz Quartet feat. Joe Anderson\, EVI/trumpet\, Paul Klinefelter\, bass\, Glenn Ferracone\, drums.
URL:https://terryklinefelter.com/event/slow-hand-copy-2/
END:VEVENT
BEGIN:VEVENT
DTSTART;TZID=UTC:20250325T190000
DTEND;TZID=UTC:20250325T190000
DTSTAMP:20260423T223512
CREATED:20241119T060301Z
LAST-MODIFIED:20241119T060302Z
UID:1700-1742929200-1742929200@terryklinefelter.com
SUMMARY:Allentown Symphony New Chamber Music with Clarice Assad
DESCRIPTION:
URL:https://terryklinefelter.com/event/allentown-symphony-new-chamber-music-with-clarice-assad/
END:VEVENT
BEGIN:VEVENT
DTSTART;TZID=UTC:20250323T193000
DTEND;TZID=UTC:20250323T193000
DTSTAMP:20260423T223512
CREATED:20250109T065403Z
LAST-MODIFIED:20250109T065422Z
UID:1731-1742758200-1742758200@terryklinefelter.com
SUMMARY:Kennett Symphony @ Longwood Gardens
DESCRIPTION:Masterworks 2: Works by Fauré\, Shaw\, Respighi\, and Boccherini.
URL:https://terryklinefelter.com/event/kennett-symphony-longwood-gardens/
END:VEVENT
BEGIN:VEVENT
DTSTART;TZID=UTC:20250306T190000
DTEND;TZID=UTC:20250306T220000
DTSTAMP:20260423T223512
CREATED:20250219T063526Z
LAST-MODIFIED:20250219T063908Z
UID:1755-1741287600-1741298400@terryklinefelter.com
SUMMARY:Hummingbird to Mars w/Massimo Brutto
DESCRIPTION:Fantastic speakeasy in Wilmington!
URL:https://terryklinefelter.com/event/hummingbird-to-mars-w-massimo-brutto-copy/
END:VEVENT
BEGIN:VEVENT
DTSTART;TZID=UTC:20250301T173000
DTEND;TZID=UTC:20250301T173000
DTSTAMP:20260423T223512
CREATED:20250424T184127Z
LAST-MODIFIED:20250424T184128Z
UID:1780-1740850200-1740850200@terryklinefelter.com
SUMMARY:Lederach Corner Store Piano Bar w/Massimo Brutto
DESCRIPTION:Great venue featuring live jazz! w/Paul Klinefelter on bass.
URL:https://terryklinefelter.com/event/lederach-corner-store-piano-bar-w-massimo-brutto-4/
END:VEVENT
BEGIN:VEVENT
DTSTART;TZID=UTC:20250301T173000
DTEND;TZID=UTC:20250301T173000
DTSTAMP:20260423T223512
CREATED:20250109T064620Z
LAST-MODIFIED:20250109T064621Z
UID:1729-1740850200-1740850200@terryklinefelter.com
SUMMARY:Lederach Corner Store Piano Bar w/Massimo Brutto
DESCRIPTION:Great venue featuring live jazz! w/Paul Klinefelter on bass.
URL:https://terryklinefelter.com/event/lederach-corner-store-piano-bar-w-massimo-brutto-2/
END:VEVENT
BEGIN:VEVENT
DTSTART;TZID=UTC:20250228T180000
DTEND;TZID=UTC:20250228T210000
DTSTAMP:20260423T223512
CREATED:20250207T065025Z
LAST-MODIFIED:20250207T071633Z
UID:1741-1740765600-1740776400@terryklinefelter.com
SUMMARY:Solo Piano at Crown Tavern
DESCRIPTION:Great new venue in Glen Mills\, PA
URL:https://terryklinefelter.com/event/solo-piano-at-crown-tavern-copy/
END:VEVENT
BEGIN:VEVENT
DTSTART;TZID=UTC:20250227T200000
DTEND;TZID=UTC:20250227T230000
DTSTAMP:20260423T223512
CREATED:20250207T064851Z
LAST-MODIFIED:20250207T071651Z
UID:1738-1740686400-1740697200@terryklinefelter.com
SUMMARY:Slow Hand
DESCRIPTION:Jazz Quartet feat. Joe Anderson\, EVI/trumpet\, Paul Klinefelter\, bass\, Glenn Ferracone\, drums.
URL:https://terryklinefelter.com/event/slow-hand-copy/
END:VEVENT
BEGIN:VEVENT
DTSTART;TZID=UTC:20250224T080000
DTEND;TZID=UTC:20250224T170000
DTSTAMP:20260423T223512
CREATED:20240826T062927Z
LAST-MODIFIED:20250207T065639Z
UID:1628-1740384000-1740416400@terryklinefelter.com
SUMMARY:Faculty Recital w/Annie Sciolla. Rowan University
DESCRIPTION:A crossover recital with soprano Annie Sciolla. Works to include Strauss’ Four Last Songs\, Dave Grusin’s River Songs\, and jazz selections TBA
URL:https://terryklinefelter.com/event/faculty-recital-w-annie-sciolla-rowan-university/
END:VEVENT
BEGIN:VEVENT
DTSTART;TZID=UTC:20250221T180000
DTEND;TZID=UTC:20250221T210000
DTSTAMP:20260423T223512
CREATED:20250207T065102Z
LAST-MODIFIED:20250207T071709Z
UID:1740-1740160800-1740171600@terryklinefelter.com
SUMMARY:Solo Piano at Crown Tavern
DESCRIPTION:Great new venue in Glen Mills\, PA
URL:https://terryklinefelter.com/event/solo-piano-at-crown-tavern-copy-2/
END:VEVENT
BEGIN:VEVENT
DTSTART;TZID=UTC:20250214T170000
DTEND;TZID=UTC:20250214T193000
DTSTAMP:20260423T223512
CREATED:20250118T063149Z
LAST-MODIFIED:20250118T063150Z
UID:1734-1739552400-1739561400@terryklinefelter.com
SUMMARY:Valentine's Day at 9 Prime
DESCRIPTION:West Chester’s premier steakhouse presents an evening of romantic favorites with Kevin Valentine\, vocalist\, Terry Klinefelter\, piano\, and Paul Klinefelter\, bass.
URL:https://terryklinefelter.com/event/valentines-day-at-9-prime/
END:VEVENT
BEGIN:VEVENT
DTSTART;TZID=UTC:20250207T180000
DTEND;TZID=UTC:20250207T210000
DTSTAMP:20260423T223512
CREATED:20250207T070118Z
LAST-MODIFIED:20250207T071724Z
UID:1747-1738951200-1738962000@terryklinefelter.com
SUMMARY:Solo Piano at Crown Tavern
DESCRIPTION:Great new venue in Glen Mills\, PA
URL:https://terryklinefelter.com/event/solo-piano-at-crown-tavern-copy-copy/
END:VEVENT
BEGIN:VEVENT
DTSTART;TZID=UTC:20250123T200000
DTEND;TZID=UTC:20250123T230000
DTSTAMP:20260423T223512
CREATED:20241213T203407Z
LAST-MODIFIED:20241213T203407Z
UID:1714-1737662400-1737673200@terryklinefelter.com
SUMMARY:Slow Hand
DESCRIPTION:Jazz Quartet feat. Joe Anderson\, EVI/trumpet\, Paul Klinefelter\, bass\, Glenn Ferracone\, drums.
URL:https://terryklinefelter.com/event/slow-hand-23/
END:VEVENT
BEGIN:VEVENT
DTSTART;TZID=UTC:20250118T193000
DTEND;TZID=UTC:20250118T193000
DTSTAMP:20260423T223512
CREATED:20241130T063004Z
LAST-MODIFIED:20250109T063252Z
UID:1703-1737228600-1737228600@terryklinefelter.com
SUMMARY:House Concert @ Rosemary Ostrowski
DESCRIPTION:I will be accompanying vocalists from the studio of renowned vocal coach Rosemary Ostrowski. Wine and hors d’oeuvres will be served. Guests are welcome…message me for details!
URL:https://terryklinefelter.com/event/house-concert-rosemary-ostrowski/
END:VEVENT
BEGIN:VEVENT
DTSTART;TZID=UTC:20250117T180000
DTEND;TZID=UTC:20250117T210000
DTSTAMP:20260423T223512
CREATED:20241230T051732Z
LAST-MODIFIED:20241230T051733Z
UID:1718-1737136800-1737147600@terryklinefelter.com
SUMMARY:Solo Piano at Crown Tavern
DESCRIPTION:Great new venue in Glen Mills\, PA
URL:https://terryklinefelter.com/event/solo-piano-at-crown-tavern-34/
END:VEVENT
BEGIN:VEVENT
DTSTART;TZID=UTC:20250111T180000
DTEND;TZID=UTC:20250111T210000
DTSTAMP:20260423T223512
CREATED:20241230T051652Z
LAST-MODIFIED:20241230T051652Z
UID:1716-1736618400-1736629200@terryklinefelter.com
SUMMARY:Solo Piano at Crown Tavern
DESCRIPTION:Great new venue in Glen Mills\, PA
URL:https://terryklinefelter.com/event/solo-piano-at-crown-tavern-33/
END:VEVENT
BEGIN:VEVENT
DTSTART;TZID=UTC:20250104T180000
DTEND;TZID=UTC:20250104T210000
DTSTAMP:20260423T223512
CREATED:20241230T051828Z
LAST-MODIFIED:20241230T051828Z
UID:1720-1736013600-1736024400@terryklinefelter.com
SUMMARY:Solo Piano at Will and Bill's Brewery
DESCRIPTION:Great new venue in Berwyn\, PA\, hosting jazz piano. Please come out and support live music!
URL:https://terryklinefelter.com/event/solo-piano-at-will-and-bills-brewery-35/
END:VEVENT
BEGIN:VEVENT
DTSTART;TZID=UTC:20241231T180000
DTEND;TZID=UTC:20241231T210000
DTSTAMP:20260423T223512
CREATED:20241230T124049Z
LAST-MODIFIED:20241230T124050Z
UID:1722-1735668000-1735678800@terryklinefelter.com
SUMMARY:Solo Piano at Crown Tavern
DESCRIPTION:Great new venue in Glen Mills\, PA
URL:https://terryklinefelter.com/event/solo-piano-at-crown-tavern-35/
END:VEVENT
END:VCALENDAR