BEGIN:VCALENDAR
VERSION:2.0
PRODID:-//Terry Klinefelter Music - ECPv6.13.2.1//NONSGML v1.0//EN
CALSCALE:GREGORIAN
METHOD:PUBLISH
X-WR-CALNAME:Terry Klinefelter Music
X-ORIGINAL-URL:https://terryklinefelter.com
X-WR-CALDESC:Events for Terry Klinefelter Music
REFRESH-INTERVAL;VALUE=DURATION:PT1H
X-Robots-Tag:noindex
X-PUBLISHED-TTL:PT1H
BEGIN:VTIMEZONE
TZID:UTC
BEGIN:STANDARD
TZOFFSETFROM:+0000
TZOFFSETTO:+0000
TZNAME:UTC
DTSTART:20250101T000000
END:STANDARD
END:VTIMEZONE
BEGIN:VEVENT
DTSTART;TZID=UTC:20251025T183000
DTEND;TZID=UTC:20251025T213000
DTSTAMP:20260423T195417
CREATED:20251021T174703Z
LAST-MODIFIED:20251021T175539Z
UID:1969-1761417000-1761427800@terryklinefelter.com
SUMMARY:Bowman's Tavern w/vocalist Maci Miller
DESCRIPTION:Great restaurant in New Hope! Nice bar scene with a lovely Yahama grand. I’ll be accompanying talented vocalist Maci Miller.
URL:https://terryklinefelter.com/event/bowmans-tavern-w-vocalist-maci-miller/
ATTACH;FMTTYPE=image/jpeg:https://terryklinefelter.com/wp-content/uploads/2025/10/Maci-Miller-768x762-1.jpg
END:VEVENT
BEGIN:VEVENT
DTSTART;TZID=UTC:20251024T180000
DTEND;TZID=UTC:20251024T210000
DTSTAMP:20260423T195417
CREATED:20251021T171238Z
LAST-MODIFIED:20251021T174729Z
UID:1966-1761328800-1761339600@terryklinefelter.com
SUMMARY:Solo Piano at Will and Bill's Brewery
DESCRIPTION:Great new venue in Berwyn\, PA\, hosting jazz piano. Please come out and support live music!
URL:https://terryklinefelter.com/event/solo-piano-at-will-and-bills-brewery-copy-5/
ATTACH;FMTTYPE=image/jpeg:https://terryklinefelter.com/wp-content/uploads/2025/07/fireplaces-and-group.jpg
END:VEVENT
BEGIN:VEVENT
DTSTART;TZID=UTC:20251023T200000
DTEND;TZID=UTC:20251023T230000
DTSTAMP:20260423T195417
CREATED:20250908T151244Z
LAST-MODIFIED:20250908T151245Z
UID:1949-1761249600-1761260400@terryklinefelter.com
SUMMARY:Slow Hand
DESCRIPTION:Jazz Quartet feat. Joe Anderson\, EVI/trumpet\, Paul Klinefelter\, bass\, Glenn Ferracone\, drums.
URL:https://terryklinefelter.com/event/slow-hand-26/
ATTACH;FMTTYPE=image/png:https://terryklinefelter.com/wp-content/uploads/2025/07/55066b_cd61603203fe4f9982f36065ea88d1d7mv2.png
END:VEVENT
BEGIN:VEVENT
DTSTART;TZID=UTC:20251012T150000
DTEND;TZID=UTC:20251012T150000
DTSTAMP:20260423T195417
CREATED:20250728T063542Z
LAST-MODIFIED:20250728T064520Z
UID:1911-1760281200-1760281200@terryklinefelter.com
SUMMARY:Brandywine Valley Symphony
DESCRIPTION:Where the River Meets the Sky. Duffy Arts Center at Malvern Preparatory School
URL:https://terryklinefelter.com/event/brandywine-valley-symphony/
ATTACH;FMTTYPE=image/png:https://terryklinefelter.com/wp-content/uploads/2025/06/H.-Masterworks-3_-Hispanic-Fiesta-Longwood-Open-Air-Theatre.png
END:VEVENT
BEGIN:VEVENT
DTSTART;TZID=UTC:20251005T103000
DTEND;TZID=UTC:20251005T140000
DTSTAMP:20260423T195417
CREATED:20250716T073218Z
LAST-MODIFIED:20250930T043405Z
UID:1884-1759660200-1759672800@terryklinefelter.com
SUMMARY:Classics at Brantwyn
DESCRIPTION:Classic car show at the beautiful Brantwyn estate\, benefitting the Brandywine Valley Symphony. Enjoy a champagne brunch and great blues with the Klinefelter Quartet featuring Roger Girke on guitar and vocals\, and Glenn Ferracone\, drums.
URL:https://terryklinefelter.com/event/classics-at-brantwyn-2/
ATTACH;FMTTYPE=image/jpeg:https://terryklinefelter.com/wp-content/uploads/2025/07/IMG_5164-2-scaled.jpg
END:VEVENT
BEGIN:VEVENT
DTSTART;TZID=UTC:20251004T120000
DTEND;TZID=UTC:20251004T120000
DTSTAMP:20260423T195417
CREATED:20250728T060651Z
LAST-MODIFIED:20250828T203612Z
UID:1903-1759579200-1759579200@terryklinefelter.com
SUMMARY:88 Time.
DESCRIPTION:A reprise of the Pew-awarded project following last April’s Mandell Theatre debut\, featuring four pianists (myself\, Sumi Tonooka\, Kendrah Butler\, and Suzzette Ortiz) in a concert-length collection of original pieces for four pianos and solos\, reflecting life’s journeys and interweaving social justice themes. The Grand\, Wilmington\, DE.
URL:https://terryklinefelter.com/event/88-time-4/
ATTACH;FMTTYPE=image/jpeg:https://terryklinefelter.com/wp-content/uploads/2025/07/IMG_9391-2-scaled.jpg
END:VEVENT
BEGIN:VEVENT
DTSTART;TZID=UTC:20250925T200000
DTEND;TZID=UTC:20250925T230000
DTSTAMP:20260423T195417
CREATED:20250902T150900Z
LAST-MODIFIED:20250902T150921Z
UID:1946-1758830400-1758841200@terryklinefelter.com
SUMMARY:Slow Hand
DESCRIPTION:Jazz Quartet feat. Joe Anderson\, EVI/trumpet\, Paul Klinefelter\, bass\, Glenn Ferracone\, drums.
URL:https://terryklinefelter.com/event/slow-hand-copy-4/
ATTACH;FMTTYPE=image/png:https://terryklinefelter.com/wp-content/uploads/2025/07/55066b_cd61603203fe4f9982f36065ea88d1d7mv2.png
END:VEVENT
BEGIN:VEVENT
DTSTART;TZID=UTC:20250908T190000
DTEND;TZID=UTC:20250908T200000
DTSTAMP:20260423T195417
CREATED:20250908T151656Z
LAST-MODIFIED:20250908T151657Z
UID:1951-1757358000-1757361600@terryklinefelter.com
SUMMARY:Black Squirrel
DESCRIPTION:Special event–one set only! Vocalist Joey O’Donnell w/Richard Hill on bass.
URL:https://terryklinefelter.com/event/black-squirrel-10/
ATTACH;FMTTYPE=image/jpeg:https://terryklinefelter.com/wp-content/uploads/2025/08/IMG_2334.jpeg
END:VEVENT
BEGIN:VEVENT
DTSTART;TZID=UTC:20250906T180000
DTEND;TZID=UTC:20250906T210000
DTSTAMP:20260423T195417
CREATED:20250822T071613Z
LAST-MODIFIED:20250822T071701Z
UID:1930-1757181600-1757192400@terryklinefelter.com
SUMMARY:Solo Piano at Will and Bill's Brewery
DESCRIPTION:Great new venue in Berwyn\, PA\, hosting jazz piano. Please come out and support live music!
URL:https://terryklinefelter.com/event/solo-piano-at-will-and-bills-brewery-copy-4/
ATTACH;FMTTYPE=image/jpeg:https://terryklinefelter.com/wp-content/uploads/2025/07/fireplaces-and-group.jpg
END:VEVENT
BEGIN:VEVENT
DTSTART;TZID=UTC:20250830T173000
DTEND;TZID=UTC:20250830T203000
DTSTAMP:20260423T195417
CREATED:20250728T055450Z
LAST-MODIFIED:20250728T055451Z
UID:1897-1756575000-1756585800@terryklinefelter.com
SUMMARY:Lederach Corner Store Piano Bar w/Massimo Brutto
DESCRIPTION:Great venue featuring live jazz! w/Paul Klinefelter on bass.
URL:https://terryklinefelter.com/event/lederach-corner-store-piano-bar-w-massimo-brutto-5/
ATTACH;FMTTYPE=image/png:https://terryklinefelter.com/wp-content/uploads/2025/03/5q2ddava.png
END:VEVENT
BEGIN:VEVENT
DTSTART;TZID=UTC:20250829T180000
DTEND;TZID=UTC:20250829T210000
DTSTAMP:20260423T195417
CREATED:20250728T054301Z
LAST-MODIFIED:20250728T054408Z
UID:1889-1756490400-1756501200@terryklinefelter.com
SUMMARY:Solo Piano at Will and Bill's Brewery
DESCRIPTION:Great new venue in Berwyn\, PA\, hosting jazz piano. Please come out and support live music!
URL:https://terryklinefelter.com/event/solo-piano-at-will-and-bills-brewery-copy-3/
ATTACH;FMTTYPE=image/jpeg:https://terryklinefelter.com/wp-content/uploads/2025/07/fireplaces-and-group.jpg
END:VEVENT
BEGIN:VEVENT
DTSTART;TZID=UTC:20250828T200000
DTEND;TZID=UTC:20250828T230000
DTSTAMP:20260423T195417
CREATED:20250716T064159Z
LAST-MODIFIED:20250716T070258Z
UID:1871-1756411200-1756422000@terryklinefelter.com
SUMMARY:Slow Hand
DESCRIPTION:Jazz Quartet feat. Joe Anderson\, EVI/trumpet\, Paul Klinefelter\, bass\, Glenn Ferracone\, drums.
URL:https://terryklinefelter.com/event/slow-hand-25/
ATTACH;FMTTYPE=image/png:https://terryklinefelter.com/wp-content/uploads/2025/07/55066b_cd61603203fe4f9982f36065ea88d1d7mv2.png
END:VEVENT
BEGIN:VEVENT
DTSTART;TZID=UTC:20250825T190000
DTEND;TZID=UTC:20250825T220000
DTSTAMP:20260423T195417
CREATED:20250807T205915Z
LAST-MODIFIED:20250807T205917Z
UID:1924-1756148400-1756159200@terryklinefelter.com
SUMMARY:Black Squirrel
DESCRIPTION:Jam session hosted by Richard Hill\, Jr.\, bass
URL:https://terryklinefelter.com/event/black-squirrel-9/
ATTACH;FMTTYPE=image/jpeg:https://terryklinefelter.com/wp-content/uploads/2025/08/IMG_2334.jpeg
END:VEVENT
BEGIN:VEVENT
DTSTART;TZID=UTC:20250823T170000
DTEND;TZID=UTC:20250823T180000
DTSTAMP:20260423T195417
CREATED:20250716T063953Z
LAST-MODIFIED:20250822T074801Z
UID:1869-1755968400-1755972000@terryklinefelter.com
SUMMARY:Summer Music Festival-FDR Park
DESCRIPTION:The Velvet Swing Sextet performs the final set of this festival. High-energy covers and originals. Bands start at 1:00 p.m. Feat. Kevin Valentine\, vocals\, Leon Jordan\, trumpet\, Victor North\, saxophone\, Tim Ragsdale\, bass\, Jerry Tanenbaum\, drums
URL:https://terryklinefelter.com/event/jazz-festival-fdr-park/
END:VEVENT
BEGIN:VEVENT
DTSTART;TZID=UTC:20250822T210000
DTEND;TZID=UTC:20250822T210000
DTSTAMP:20260423T195417
CREATED:20250902T150536Z
LAST-MODIFIED:20250902T150538Z
UID:1942-1755896400-1755896400@terryklinefelter.com
SUMMARY:Hummingbird to Mars w/Massimo Brutto
DESCRIPTION:Fantastic speakeasy in Wilmington! w/Paul Klinefelter\, bass.
URL:https://terryklinefelter.com/event/hummingbird-to-mars-w-massimo-brutto-6/
ATTACH;FMTTYPE=image/jpeg:https://terryklinefelter.com/wp-content/uploads/2025/09/IMG_4087-scaled.jpg
END:VEVENT
BEGIN:VEVENT
DTSTART;TZID=UTC:20250809T183000
DTEND;TZID=UTC:20250809T213000
DTSTAMP:20260423T195417
CREATED:20250716T063525Z
LAST-MODIFIED:20250716T063527Z
UID:1866-1754764200-1754775000@terryklinefelter.com
SUMMARY:Josephine's
DESCRIPTION:Beautiful fine dining venue in Lancaster\, PA. Feat. bassist Paul Klinefelter\, and myself on the lovely Steinway B.
URL:https://terryklinefelter.com/event/josephines-2/
ATTACH;FMTTYPE=image/jpeg:https://terryklinefelter.com/wp-content/uploads/2025/07/dining-at-josephine-s.jpg
END:VEVENT
BEGIN:VEVENT
DTSTART;TZID=UTC:20250807T190000
DTEND;TZID=UTC:20250807T220000
DTSTAMP:20260423T195417
CREATED:20250807T210054Z
LAST-MODIFIED:20250807T210055Z
UID:1927-1754593200-1754604000@terryklinefelter.com
SUMMARY:Treasure's Cove Jam Session
DESCRIPTION:Great Germantown venue! With Kenny Davis on bass\, and host Jerry Tanenbaum on drums. BYOB and delicious food. Bring your instrument (or voice) and join us for a fun night of music!
URL:https://terryklinefelter.com/event/treasures-cove-jam-session-2/
ATTACH;FMTTYPE=image/webp:https://terryklinefelter.com/wp-content/uploads/2025/07/IMG_4717.webp
END:VEVENT
BEGIN:VEVENT
DTSTART;TZID=UTC:20250807T120000
DTEND;TZID=UTC:20250807T120000
DTSTAMP:20260423T195417
CREATED:20250716T062714Z
LAST-MODIFIED:20250728T063005Z
UID:1864-1754568000-1754568000@terryklinefelter.com
SUMMARY:CCP Summer Music Institute--Studio recording workshop
DESCRIPTION:Workshop w/vocalist Jacob Lapp exploring studio recording techniques for vocalists and singers. Community College of Philadelphia.
URL:https://terryklinefelter.com/event/ccp-summer-music-institute-studio-recording-workshop/
ATTACH;FMTTYPE=image/jpeg:https://terryklinefelter.com/wp-content/uploads/2025/07/0f35e059-778c-494d-820c-0614dfde6ee6_04d622db-dd46-0f8b-b6220a5479e8d96a.jpg
END:VEVENT
BEGIN:VEVENT
DTSTART;TZID=UTC:20250802T180000
DTEND;TZID=UTC:20250802T210000
DTSTAMP:20260423T195417
CREATED:20250728T054218Z
LAST-MODIFIED:20250728T054219Z
UID:1890-1754157600-1754168400@terryklinefelter.com
SUMMARY:Solo Piano at Will and Bill's Brewery
DESCRIPTION:Great new venue in Berwyn\, PA\, hosting jazz piano. Please come out and support live music!
URL:https://terryklinefelter.com/event/solo-piano-at-will-and-bills-brewery-38/
ATTACH;FMTTYPE=image/jpeg:https://terryklinefelter.com/wp-content/uploads/2025/07/fireplaces-and-group.jpg
END:VEVENT
BEGIN:VEVENT
DTSTART;TZID=UTC:20250726T180000
DTEND;TZID=UTC:20250726T210000
DTSTAMP:20260423T195417
CREATED:20250716T062056Z
LAST-MODIFIED:20250716T064901Z
UID:1861-1753552800-1753563600@terryklinefelter.com
SUMMARY:Solo Piano at Will and Bill's Brewery
DESCRIPTION:Great new venue in Berwyn\, PA\, hosting jazz piano. Please come out and support live music!
URL:https://terryklinefelter.com/event/solo-piano-at-will-and-bills-brewery-copy-2/
ATTACH;FMTTYPE=image/jpeg:https://terryklinefelter.com/wp-content/uploads/2025/07/fireplaces-and-group.jpg
END:VEVENT
BEGIN:VEVENT
DTSTART;TZID=UTC:20250725T173000
DTEND;TZID=UTC:20250725T173000
DTSTAMP:20260423T195417
CREATED:20250328T071621Z
LAST-MODIFIED:20250602T172108Z
UID:1773-1753464600-1753464600@terryklinefelter.com
SUMMARY:Lederach Corner Store Piano Bar w/Massimo Brutto
DESCRIPTION:Great venue featuring live jazz! w/Paul Klinefelter on bass.
URL:https://terryklinefelter.com/event/lederach-corner-store-piano-bar-w-massimo-brutto-copy/
ATTACH;FMTTYPE=image/png:https://terryklinefelter.com/wp-content/uploads/2025/03/5q2ddava.png
END:VEVENT
BEGIN:VEVENT
DTSTART;TZID=UTC:20250724T200000
DTEND;TZID=UTC:20250724T230000
DTSTAMP:20260423T195417
CREATED:20250716T064127Z
LAST-MODIFIED:20250716T070230Z
UID:1872-1753387200-1753398000@terryklinefelter.com
SUMMARY:Slow Hand
DESCRIPTION:Jazz Quartet feat. Joe Anderson\, EVI/trumpet\, Paul Klinefelter\, bass\, Glenn Ferracone\, drums.
URL:https://terryklinefelter.com/event/slow-hand-24/
ATTACH;FMTTYPE=image/png:https://terryklinefelter.com/wp-content/uploads/2025/07/55066b_cd61603203fe4f9982f36065ea88d1d7mv2-1.png
END:VEVENT
BEGIN:VEVENT
DTSTART;TZID=UTC:20250719T190000
DTEND;TZID=UTC:20250719T190000
DTSTAMP:20260423T195417
CREATED:20250616T192918Z
LAST-MODIFIED:20250616T192920Z
UID:1846-1752951600-1752951600@terryklinefelter.com
SUMMARY:Aaron Tveit
DESCRIPTION:Tony-award winning singer/actor with the Shippensburg Festival Orchestra
URL:https://terryklinefelter.com/event/aaron-tveit/
ATTACH;FMTTYPE=image/jpeg:https://terryklinefelter.com/wp-content/uploads/2025/06/SHIPFESTWEB-1-e1750102140910.jpg
END:VEVENT
BEGIN:VEVENT
DTSTART;TZID=UTC:20250717T190000
DTEND;TZID=UTC:20250717T190000
DTSTAMP:20260423T195417
CREATED:20250227T211300Z
LAST-MODIFIED:20250616T194727Z
UID:1770-1752778800-1752778800@terryklinefelter.com
SUMMARY:Star Wars in Concert!
DESCRIPTION:Film screening with live music by Shippensburg Festival Orchestra.
URL:https://terryklinefelter.com/event/star-wars-in-concert/
ATTACH;FMTTYPE=image/jpeg:https://terryklinefelter.com/wp-content/uploads/2025/02/image-e1750103190583.jpg
END:VEVENT
BEGIN:VEVENT
DTSTART;TZID=UTC:20250712T183000
DTEND;TZID=UTC:20250712T213000
DTSTAMP:20260423T195417
CREATED:20250424T184016Z
LAST-MODIFIED:20250616T194959Z
UID:1803-1752345000-1752355800@terryklinefelter.com
SUMMARY:Bowman's Tavern w/vocalist Jill Salkin
DESCRIPTION:Great restaurant in New Hope! Nice bar scene with a lovely Yahama grand. I’ll be accompanying talented vocalist Jill Salkin.
URL:https://terryklinefelter.com/event/bowmans-tavern-w-vocalist-jill-salkin-2/
ATTACH;FMTTYPE=image/jpeg:https://terryklinefelter.com/wp-content/uploads/2025/04/jill.jpg
END:VEVENT
BEGIN:VEVENT
DTSTART;TZID=UTC:20250703T190000
DTEND;TZID=UTC:20250703T220000
DTSTAMP:20260423T195417
CREATED:20250702T080045Z
LAST-MODIFIED:20250702T081135Z
UID:1854-1751569200-1751580000@terryklinefelter.com
SUMMARY:Treasure's Cove Jam Session
DESCRIPTION:Great Germantown venue! With Kenny Davis on bass\, and host Jerry Tanenbaum on drums. BYOB and delicious food. Bring your instrument (or voice) and join us for a fun night of music!
URL:https://terryklinefelter.com/event/treasures-cove-jam-session/
ATTACH;FMTTYPE=image/webp:https://terryklinefelter.com/wp-content/uploads/2025/07/IMG_4717.webp
END:VEVENT
BEGIN:VEVENT
DTSTART;TZID=UTC:20250627T180000
DTEND;TZID=UTC:20250627T210000
DTSTAMP:20260423T195417
CREATED:20250616T192147Z
LAST-MODIFIED:20250616T195121Z
UID:1844-1751047200-1751058000@terryklinefelter.com
SUMMARY:Solo Piano at Will and Bill's Brewery
DESCRIPTION:Great new venue in Berwyn\, PA\, hosting jazz piano. Please come out and support live music!
URL:https://terryklinefelter.com/event/solo-piano-at-will-and-bills-brewery-37/
ATTACH;FMTTYPE=image/jpeg:https://terryklinefelter.com/wp-content/uploads/2025/06/fireplaces-and-group.jpg
END:VEVENT
BEGIN:VEVENT
DTSTART;TZID=UTC:20250626T193000
DTEND;TZID=UTC:20250626T193000
DTSTAMP:20260423T195417
CREATED:20250602T174433Z
LAST-MODIFIED:20250603T044703Z
UID:1838-1750966200-1750966200@terryklinefelter.com
SUMMARY:Kennett Symphony @ Longwood Gardens
DESCRIPTION:Masterworks 3: Hispanic Fiesta. Works by Rodrigo\, Falla\, Piazzolla.
URL:https://terryklinefelter.com/event/kennett-symphony-longwood-gardens-2/
ATTACH;FMTTYPE=image/png:https://terryklinefelter.com/wp-content/uploads/2025/06/H.-Masterworks-3_-Hispanic-Fiesta-Longwood-Open-Air-Theatre.png
END:VEVENT
BEGIN:VEVENT
DTSTART;TZID=UTC:20250621T173000
DTEND;TZID=UTC:20250621T203000
DTSTAMP:20260423T195417
CREATED:20250424T183633Z
LAST-MODIFIED:20250602T172518Z
UID:1796-1750527000-1750537800@terryklinefelter.com
SUMMARY:Lederach Corner Store Piano Bar w/Massimo Brutto
DESCRIPTION:Great venue featuring live jazz! w/Paul Klinefelter on bass.
URL:https://terryklinefelter.com/event/lederach-corner-store-piano-bar-w-massimo-brutto-3/
ATTACH;FMTTYPE=image/png:https://terryklinefelter.com/wp-content/uploads/2025/03/5q2ddava.png
END:VEVENT
BEGIN:VEVENT
DTSTART;TZID=UTC:20250604T180000
DTEND;TZID=UTC:20250604T193000
DTSTAMP:20260423T195417
CREATED:20250424T182947Z
LAST-MODIFIED:20250602T175844Z
UID:1789-1749060000-1749065400@terryklinefelter.com
SUMMARY:Jazz Bridge Concert
DESCRIPTION:Settlement Music School\, Germantown Branch. Klinefelter Quartet. Feat. Daniel Spearman\, trumpet\, Byron Landham\, drums.
URL:https://terryklinefelter.com/event/jazz-bridge-concert-copy/
ATTACH;FMTTYPE=image/jpeg:https://terryklinefelter.com/wp-content/uploads/2025/04/499220764_1013247261000091_3346270689823369624_n.jpg
END:VEVENT
END:VCALENDAR