BEGIN:VCALENDAR
VERSION:2.0
PRODID:-//Terry Klinefelter Music - ECPv6.13.2.1//NONSGML v1.0//EN
CALSCALE:GREGORIAN
METHOD:PUBLISH
X-WR-CALNAME:Terry Klinefelter Music
X-ORIGINAL-URL:https://terryklinefelter.com
X-WR-CALDESC:Events for Terry Klinefelter Music
REFRESH-INTERVAL;VALUE=DURATION:PT1H
X-Robots-Tag:noindex
X-PUBLISHED-TTL:PT1H
BEGIN:VTIMEZONE
TZID:UTC
BEGIN:STANDARD
TZOFFSETFROM:+0000
TZOFFSETTO:+0000
TZNAME:UTC
DTSTART:20200101T000000
END:STANDARD
END:VTIMEZONE
BEGIN:VEVENT
DTSTART;TZID=UTC:20210103T120000
DTEND;TZID=UTC:20210103T150000
DTSTAMP:20260425T161615
CREATED:20210106T024045Z
LAST-MODIFIED:20210106T024047Z
UID:818-1609675200-1609686000@terryklinefelter.com
SUMMARY:Jazz Brunch at Pizza by Elizabeths
DESCRIPTION:Trio with Rob Swanson\, bass and Jonathan Whitney\, drums.
URL:https://terryklinefelter.com/event/jazz-brunch-at-pizza-by-elizabeths-2/
END:VEVENT
BEGIN:VEVENT
DTSTART;TZID=UTC:20201206T120000
DTEND;TZID=UTC:20201206T150000
DTSTAMP:20260425T161615
CREATED:20201205T153148Z
LAST-MODIFIED:20210106T024139Z
UID:810-1607256000-1607266800@terryklinefelter.com
SUMMARY:Jazz Brunch at Pizza by Elizabeths
DESCRIPTION:Trio with Rob Swanson\, bass\, Jonathan Whitney\, drums
URL:https://terryklinefelter.com/event/jazz-brunch-at-pizza-by-elizabeths/
END:VEVENT
BEGIN:VEVENT
DTSTART;TZID=UTC:20201101T120000
DTEND;TZID=UTC:20201101T150000
DTSTAMP:20260425T161615
CREATED:20201101T025330Z
LAST-MODIFIED:20210106T024236Z
UID:807-1604232000-1604242800@terryklinefelter.com
SUMMARY:Jazz Brunch at Pizza by Elizabeths
DESCRIPTION:Trio with Rob Swanson\, bass and Jonathan Whitney\, drums
URL:https://terryklinefelter.com/event/jazz-trio-pizza-by-elizabeths/
END:VEVENT
BEGIN:VEVENT
DTSTART;TZID=UTC:20201031T193000
DTEND;TZID=UTC:20201031T210000
DTSTAMP:20260425T161615
CREATED:20200311T173632Z
LAST-MODIFIED:20201027T021820Z
UID:644-1604172600-1604178000@terryklinefelter.com
SUMMARY:Harrisburg Symphony Orchestra
DESCRIPTION:HSO Pops season begins! Big Band Broadway with Tony award-winning Debbie Gravitte will be pre-recorded at the Whitaker Center. Concert will be available for streaming between October 31 and November 8. Click on the link for virtual tickets: https://harrisburgsymphony.secure.force.com/ticket/#/instances/a0F0W00000uVI8nUAG \n\n\n\n\n\n\n\n\n\n\n\nHSO Pops season begins! Big Band Broadway with Tony award-winning Debbie Gravitte will be pre-recorded at the Whitaker Center. Concert will be available for streaming between October 31 and November 8. Click on the link for virtual tickets: https://harrisburgsymphony.secure.force.com/ticket/#/instances/a0F0W00000uVI8nUAG
URL:https://terryklinefelter.com/event/harrisburg-symphony-orchestra/
LOCATION:Harrisburg Symphony Orchestra\, 800 Corporate Cir.\, Harrisburg\, PA\, 17110\, United States
ATTACH;FMTTYPE=image/jpeg:https://terryklinefelter.com/wp-content/uploads/2020/03/HarrisburgSymphonyOrchestra-TerryKlineflter.jpg
END:VEVENT
BEGIN:VEVENT
DTSTART;TZID=UTC:20201020T173000
DTEND;TZID=UTC:20201020T210000
DTSTAMP:20260425T161615
CREATED:20201019T205850Z
LAST-MODIFIED:20201027T020943Z
UID:772-1603215000-1603227600@terryklinefelter.com
SUMMARY:Solo Piano
DESCRIPTION:The Union League (private club)
URL:https://terryklinefelter.com/event/solo-piano-2/
END:VEVENT
BEGIN:VEVENT
DTSTART;TZID=UTC:20201013T173000
DTEND;TZID=UTC:20201013T210000
DTSTAMP:20260425T161615
CREATED:20210305T051032Z
LAST-MODIFIED:20210305T051033Z
UID:842-1602610200-1602622800@terryklinefelter.com
SUMMARY:Solo Piano
DESCRIPTION:The Union League (private club)
URL:https://terryklinefelter.com/event/solo-piano/
END:VEVENT
BEGIN:VEVENT
DTSTART;TZID=UTC:20201010T190000
DTEND;TZID=UTC:20201010T200000
DTSTAMP:20260425T161615
CREATED:20200823T202708Z
LAST-MODIFIED:20200823T202710Z
UID:755-1602356400-1602360000@terryklinefelter.com
SUMMARY:Kendal at Longwood
DESCRIPTION:Tribute to George Gershwin with Anne Sciolla\, vocals and Paul Klinefelter\, bass. I will be performing Rhapsody in Blue for solo piano\, followed by trio selections from the Great American Songbook. (This concert will be live-streamed. Stay tuned for details!)
URL:https://terryklinefelter.com/event/kendal-at-longwood/
END:VEVENT
BEGIN:VEVENT
DTSTART;TZID=UTC:20201001T193000
DTEND;TZID=UTC:20201001T203000
DTSTAMP:20260425T161615
CREATED:20201001T042104Z
LAST-MODIFIED:20201001T042329Z
UID:762-1601580600-1601584200@terryklinefelter.com
SUMMARY:Live at Friendzone Studios
DESCRIPTION:The Livestream with Mike Boone and special guests!
URL:https://terryklinefelter.com/event/live-at-friendzone-studios/
END:VEVENT
BEGIN:VEVENT
DTSTART;TZID=UTC:20200404T193000
DTEND;TZID=UTC:20200404T203000
DTSTAMP:20260425T161615
CREATED:20200311T184037Z
LAST-MODIFIED:20201027T015526Z
UID:648-1586028600-1586032200@terryklinefelter.com
SUMMARY:Jazz Trio Concert
DESCRIPTION:7:30 p.m. Community Music School\, Trappe\, PA \n\n\n\n**POSTPONED**
URL:https://terryklinefelter.com/event/jazz-trio-concert/
LOCATION:Community Music School\, 775 W Main St.\, Trappe\, Pennsylvania\, 19426\, United States
ATTACH;FMTTYPE=image/jpeg:https://terryklinefelter.com/wp-content/uploads/2020/03/CommunityMusicSchool-TerryKlinfelter.jpg
END:VEVENT
END:VCALENDAR