BEGIN:VCALENDAR
VERSION:2.0
PRODID:-//Terry Klinefelter Music - ECPv6.13.2.1//NONSGML v1.0//EN
CALSCALE:GREGORIAN
METHOD:PUBLISH
X-WR-CALNAME:Terry Klinefelter Music
X-ORIGINAL-URL:https://terryklinefelter.com
X-WR-CALDESC:Events for Terry Klinefelter Music
REFRESH-INTERVAL;VALUE=DURATION:PT1H
X-Robots-Tag:noindex
X-PUBLISHED-TTL:PT1H
BEGIN:VTIMEZONE
TZID:UTC
BEGIN:STANDARD
TZOFFSETFROM:+0000
TZOFFSETTO:+0000
TZNAME:UTC
DTSTART:20210101T000000
END:STANDARD
END:VTIMEZONE
BEGIN:VEVENT
DTSTART;TZID=UTC:20210919T173000
DTEND;TZID=UTC:20210919T223000
DTSTAMP:20260425T151820
CREATED:20210918T015858Z
LAST-MODIFIED:20210918T020051Z
UID:956-1632072600-1632090600@terryklinefelter.com
SUMMARY:Solo Piano at the Merion Inn
DESCRIPTION:I will be performing on George Mesterhazy’s legendary Steinway at the beautiful Merion Inn. Last two sets will include Paul Klinefelter on bass. Hope to see you there!
URL:https://terryklinefelter.com/event/solo-piano-at-the-merion-inn-2/
END:VEVENT
BEGIN:VEVENT
DTSTART;TZID=UTC:20210918T173000
DTEND;TZID=UTC:20210918T223000
DTSTAMP:20260425T151820
CREATED:20210918T020142Z
LAST-MODIFIED:20210918T020144Z
UID:959-1631986200-1632004200@terryklinefelter.com
SUMMARY:Solo Piano at the Merion Inn
DESCRIPTION:I will be performing on George Mesterhazy’s legendary Steinway at the beautiful Merion Inn. Last two sets will include Paul Klinefelter on bass. Hope to see you there!
URL:https://terryklinefelter.com/event/solo-piano-at-the-merion-inn-3/
END:VEVENT
BEGIN:VEVENT
DTSTART;TZID=UTC:20210827T173000
DTEND;TZID=UTC:20210827T220000
DTSTAMP:20260425T151820
CREATED:20210622T030332Z
LAST-MODIFIED:20210622T030334Z
UID:935-1630085400-1630101600@terryklinefelter.com
SUMMARY:Solo Piano at Rittenhouse Grill
DESCRIPTION:
URL:https://terryklinefelter.com/event/solo-piano-at-rittenhouse-grill/
END:VEVENT
BEGIN:VEVENT
DTSTART;TZID=UTC:20210727T173000
DTEND;TZID=UTC:20210727T210000
DTSTAMP:20260425T151820
CREATED:20210622T030710Z
LAST-MODIFIED:20210622T030711Z
UID:945-1627407000-1627419600@terryklinefelter.com
SUMMARY:Solo Piano at the Union League
DESCRIPTION:The Union League (private club)
URL:https://terryklinefelter.com/event/solo-piano-at-the-union-league-13/
END:VEVENT
BEGIN:VEVENT
DTSTART;TZID=UTC:20210725T110000
DTEND;TZID=UTC:20210725T140000
DTSTAMP:20260425T151820
CREATED:20210701T185342Z
LAST-MODIFIED:20210701T185344Z
UID:949-1627210800-1627221600@terryklinefelter.com
SUMMARY:Sunday Brunch at Torresdale
DESCRIPTION:Live Jazz with Jill Salkin\, vocals\, Dylan Taylor\, bass.
URL:https://terryklinefelter.com/event/sunday-brunch-at-torresdale/
END:VEVENT
BEGIN:VEVENT
DTSTART;TZID=UTC:20210720T173000
DTEND;TZID=UTC:20210720T210000
DTSTAMP:20260425T151820
CREATED:20210622T030616Z
LAST-MODIFIED:20210622T030617Z
UID:941-1626802200-1626814800@terryklinefelter.com
SUMMARY:Solo Piano at the Union League
DESCRIPTION:The Union League (private club)
URL:https://terryklinefelter.com/event/solo-piano-at-the-union-league-12/
END:VEVENT
BEGIN:VEVENT
DTSTART;TZID=UTC:20210718T120000
DTEND;TZID=UTC:20210718T120000
DTSTAMP:20260425T151820
CREATED:20210605T162811Z
LAST-MODIFIED:20210605T162813Z
UID:925-1626609600-1626609600@terryklinefelter.com
SUMMARY:Not Just Your Jazz Standards
DESCRIPTION:Sara Michaels and Sharon Sable\, vocals. w/Joe Hrin\, tenor sax/clarinet; Shawn Qaissaunee\, guitar; Paul Klinefelter\, bass; Mary Anne Hrin\, drums
URL:https://terryklinefelter.com/event/not-just-your-jazz-standards/
LOCATION:Long Beach Island Foundation of the Arts and Sciences\, 120 Long Beach Blvd.\, Long Beach Township\, New Jersey\, 08008\, United States
END:VEVENT
BEGIN:VEVENT
DTSTART;TZID=UTC:20210713T173000
DTEND;TZID=UTC:20210713T210000
DTSTAMP:20260425T151820
CREATED:20210622T030544Z
LAST-MODIFIED:20210622T030545Z
UID:939-1626197400-1626210000@terryklinefelter.com
SUMMARY:Solo Piano at the Union League
DESCRIPTION:The Union League (private club)
URL:https://terryklinefelter.com/event/solo-piano-at-the-union-league-11/
END:VEVENT
BEGIN:VEVENT
DTSTART;TZID=UTC:20210709T190000
DTEND;TZID=UTC:20210709T200000
DTSTAMP:20260425T151820
CREATED:20210701T185926Z
LAST-MODIFIED:20210701T185928Z
UID:951-1625857200-1625860800@terryklinefelter.com
SUMMARY:The Jazz Sanctuary
DESCRIPTION:Quintet featuring Eddie Etkins\, sax\, Randy Sutin\, vibes\, Alan Segal\, bass\, and Leon Jordan\, Sr.\, drums.
URL:https://terryklinefelter.com/event/the-jazz-sanctuary/
LOCATION:St. Andrews Episcopal Church\, Yardley\, PA\, 47 West Aston Avenue\, Yardley\, Pennsylvania\, 19067\, United States
END:VEVENT
BEGIN:VEVENT
DTSTART;TZID=UTC:20210702T173000
DTEND;TZID=UTC:20210702T223000
DTSTAMP:20260425T151820
CREATED:20210622T025515Z
LAST-MODIFIED:20210622T025516Z
UID:931-1625247000-1625265000@terryklinefelter.com
SUMMARY:Solo Piano at the Merion Inn
DESCRIPTION:I will be performing on George Mesterhazy’s legendary Steinway at the beautiful Merion Inn. Hope to see you there!
URL:https://terryklinefelter.com/event/solo-piano-at-the-merion-inn/
END:VEVENT
BEGIN:VEVENT
DTSTART;TZID=UTC:20210622T173000
DTEND;TZID=UTC:20210622T210000
DTSTAMP:20260425T151820
CREATED:20210604T024944Z
LAST-MODIFIED:20210604T024946Z
UID:912-1624383000-1624395600@terryklinefelter.com
SUMMARY:Solo Piano at the Union League
DESCRIPTION:The Union League (private club)
URL:https://terryklinefelter.com/event/solo-piano-at-the-union-league-8/
END:VEVENT
BEGIN:VEVENT
DTSTART;TZID=UTC:20210613T173000
DTEND;TZID=UTC:20210613T183000
DTSTAMP:20260425T151820
CREATED:20210604T025607Z
LAST-MODIFIED:20210604T025655Z
UID:916-1623605400-1623609000@terryklinefelter.com
SUMMARY:Jazz Quartet Concert
DESCRIPTION:Beth Chaim Reform Congregation in Malvern\, PA. w/John Swana\, trumpet/EVI; Adam Niewood\, tenor sax; Paul Klinefelter\, bass; Glenn Ferracone\, drums.
URL:https://terryklinefelter.com/event/jazz-quartet-cncert/
END:VEVENT
BEGIN:VEVENT
DTSTART;TZID=UTC:20210608T173000
DTEND;TZID=UTC:20210608T210000
DTSTAMP:20260425T151820
CREATED:20210604T024918Z
LAST-MODIFIED:20210604T024920Z
UID:910-1623173400-1623186000@terryklinefelter.com
SUMMARY:Solo Piano at the Union League
DESCRIPTION:The Union League (private club)
URL:https://terryklinefelter.com/event/solo-piano-at-the-union-league-7/
END:VEVENT
BEGIN:VEVENT
DTSTART;TZID=UTC:20210606T100000
DTEND;TZID=UTC:20210606T110000
DTSTAMP:20260425T151820
CREATED:20210604T164905Z
LAST-MODIFIED:20210604T164907Z
UID:921-1622973600-1622977200@terryklinefelter.com
SUMMARY:Church of the Loving Shepherd
DESCRIPTION:Special 49th anniversary celebration! Hybrid Zoom and In-person. I will be accompanying Barbara Prugh\, trumpet\, on the beautiful Steinway B.
URL:https://terryklinefelter.com/event/church-of-the-loving-shepherd/
END:VEVENT
BEGIN:VEVENT
DTSTART;TZID=UTC:20210601T173000
DTEND;TZID=UTC:20210601T210000
DTSTAMP:20260425T151820
CREATED:20210604T024845Z
LAST-MODIFIED:20210604T024847Z
UID:908-1622568600-1622581200@terryklinefelter.com
SUMMARY:Solo Piano at the Union League
DESCRIPTION:The Union League (private club)
URL:https://terryklinefelter.com/event/solo-piano-at-the-union-league-6/
END:VEVENT
BEGIN:VEVENT
DTSTART;TZID=UTC:20210424T190000
DTEND;TZID=UTC:20210424T200000
DTSTAMP:20260425T151820
CREATED:20210403T032936Z
LAST-MODIFIED:20210403T032937Z
UID:893-1619290800-1619294400@terryklinefelter.com
SUMMARY:Jazz Duo at Whitehorse Village
DESCRIPTION:
URL:https://terryklinefelter.com/event/jazz-duo-at-whitehorse-village/
END:VEVENT
BEGIN:VEVENT
DTSTART;TZID=UTC:20210424T153000
DTEND;TZID=UTC:20210424T163000
DTSTAMP:20260425T151820
CREATED:20210403T033642Z
LAST-MODIFIED:20210407T184944Z
UID:895-1619278200-1619281800@terryklinefelter.com
SUMMARY:LOVE HEALS: A Benefit Concert for onelife2Love
DESCRIPTION:For tickets:  https://www.eventbrite.com/e/love-heals-tickets-145377344551
URL:https://terryklinefelter.com/event/benefit-concert-for-onelife2love/
END:VEVENT
BEGIN:VEVENT
DTSTART;TZID=UTC:20210418T120000
DTEND;TZID=UTC:20210418T150000
DTSTAMP:20260425T151820
CREATED:20210403T031642Z
LAST-MODIFIED:20210403T031644Z
UID:879-1618747200-1618758000@terryklinefelter.com
SUMMARY:Jazz Brunch at Pizza by Elizabeths
DESCRIPTION:Trio with Rob Swanson\, bass and Jonathan Whitney\, drums.
URL:https://terryklinefelter.com/event/jazz-brunch-at-pizza-by-elizabeths-5/
END:VEVENT
BEGIN:VEVENT
DTSTART;TZID=UTC:20210417T110000
DTEND;TZID=UTC:20210417T150000
DTSTAMP:20260425T151820
CREATED:20210403T032520Z
LAST-MODIFIED:20210403T032522Z
UID:891-1618657200-1618671600@terryklinefelter.com
SUMMARY:Jazz Duo at Union League Liberty Hill
DESCRIPTION:w/Paul Klinefelter\, bass.
URL:https://terryklinefelter.com/event/jazz-duo-at-union-league-liberty-hill/
END:VEVENT
BEGIN:VEVENT
DTSTART;TZID=UTC:20210413T173000
DTEND;TZID=UTC:20210413T210000
DTSTAMP:20260425T151820
CREATED:20210403T031831Z
LAST-MODIFIED:20210403T032125Z
UID:883-1618335000-1618347600@terryklinefelter.com
SUMMARY:Solo Piano at the Union League
DESCRIPTION:The Union League (private club)
URL:https://terryklinefelter.com/event/solo-piano-9/
END:VEVENT
BEGIN:VEVENT
DTSTART;TZID=UTC:20210412T200000
DTEND;TZID=UTC:20210412T200000
DTSTAMP:20260425T151820
CREATED:20210305T051637Z
LAST-MODIFIED:20210407T185400Z
UID:871-1618257600-1618257600@terryklinefelter.com
SUMMARY:WCU Faculty Recital
DESCRIPTION:Solo Piano. Works by Bach and Chopin. This concert was recorded in Ware Recital Hall for livestream on March 29th\, but is now rescheduled to be streamed on April 12. Use the following link: https://livestream.com/wcupa/events/9588312  You can also listen via WCU Wells School of Music Facebook page.
URL:https://terryklinefelter.com/event/wcu-faculty-recital/
END:VEVENT
BEGIN:VEVENT
DTSTART;TZID=UTC:20210412T143000
DTEND;TZID=UTC:20210412T153000
DTSTAMP:20260425T151820
CREATED:20210403T031321Z
LAST-MODIFIED:20210403T033817Z
UID:875-1618237800-1618241400@terryklinefelter.com
SUMMARY:Solo Concert at Rosemont Presbyterian Village
DESCRIPTION:
URL:https://terryklinefelter.com/event/solo-concert-at-rosemont-presbyterian-village/
END:VEVENT
BEGIN:VEVENT
DTSTART;TZID=UTC:20210406T173000
DTEND;TZID=UTC:20210406T210000
DTSTAMP:20260425T151820
CREATED:20210403T031744Z
LAST-MODIFIED:20210403T032207Z
UID:881-1617730200-1617742800@terryklinefelter.com
SUMMARY:Solo Piano at the Union League
DESCRIPTION:The Union League (private club)
URL:https://terryklinefelter.com/event/solo-piano-8/
END:VEVENT
BEGIN:VEVENT
DTSTART;TZID=UTC:20210404T103000
DTEND;TZID=UTC:20210404T103000
DTSTAMP:20260425T151820
CREATED:20210403T031112Z
LAST-MODIFIED:20210403T031114Z
UID:873-1617532200-1617532200@terryklinefelter.com
SUMMARY:Easter Sunday at Gladwyne Presbyterian
DESCRIPTION:Chamber ensemble with Anne Sciolla\, soprano Riley Bland\, clarinet\, Paul Klinefelter\, bass. Works to include Schubert’s Shepherd on the Rock\, and Mozart’s Alleluia.  \n\n\n\nTo tune in to this service\, log on to Zoom: https://zoom.us/j/6388516404?pwd=TThBRkNwNHEwVHBGaGNwN25TaDRZZz09 Meeting ID: 638 851 6404 Password: 336078
URL:https://terryklinefelter.com/event/easter-sunday-at-gladwyne-presbyterian/
END:VEVENT
BEGIN:VEVENT
DTSTART;TZID=UTC:20210320T073000
DTEND;TZID=UTC:20210320T080000
DTSTAMP:20260425T151820
CREATED:20210305T051259Z
LAST-MODIFIED:20210305T051303Z
UID:869-1616225400-1616227200@terryklinefelter.com
SUMMARY:Solo Recital
DESCRIPTION:
URL:https://terryklinefelter.com/event/solo-recital/
END:VEVENT
BEGIN:VEVENT
DTSTART;TZID=UTC:20210309T173000
DTEND;TZID=UTC:20210309T210000
DTSTAMP:20260425T151820
CREATED:20210305T045642Z
LAST-MODIFIED:20210305T045644Z
UID:860-1615311000-1615323600@terryklinefelter.com
SUMMARY:Solo Piano
DESCRIPTION:The Union League (private club)
URL:https://terryklinefelter.com/event/solo-piano-7/
END:VEVENT
BEGIN:VEVENT
DTSTART;TZID=UTC:20210307T120000
DTEND;TZID=UTC:20210307T150000
DTSTAMP:20260425T151820
CREATED:20210305T050920Z
LAST-MODIFIED:20210305T050921Z
UID:865-1615118400-1615129200@terryklinefelter.com
SUMMARY:Jazz Brunch at Pizza by Elizabeths
DESCRIPTION:Trio with Rob Swanson\, bass and Jonathan Whitney\, drums.
URL:https://terryklinefelter.com/event/jazz-brunch-at-pizza-by-elizabeths-4/
END:VEVENT
BEGIN:VEVENT
DTSTART;TZID=UTC:20210302T173000
DTEND;TZID=UTC:20210302T210000
DTSTAMP:20260425T151820
CREATED:20210305T045517Z
LAST-MODIFIED:20210305T045518Z
UID:858-1614706200-1614718800@terryklinefelter.com
SUMMARY:Solo Piano
DESCRIPTION:The Union League (private club)
URL:https://terryklinefelter.com/event/solo-piano-5/
END:VEVENT
BEGIN:VEVENT
DTSTART;TZID=UTC:20210301T000000
DTEND;TZID=UTC:20210331T235900
DTSTAMP:20260425T151820
CREATED:20210305T050321Z
LAST-MODIFIED:20210305T050426Z
UID:862-1614556800-1617235140@terryklinefelter.com
SUMMARY:Harrisburg Symphony Orchestra
DESCRIPTION:HSO Pops Concert–Big Band Broadway with Tony award-winning Debbie Gravitte\, will be re-released and available for streaming between March 1 and March 31! Click on the link for virtual tickets: https://www.harrisburgsymphony.org/concerts/pops/ \n\n\n\n\n\n\n\n\n\n\n\nHSO Pops Concert–Big Band Broadway with Tony award-winning Debbie Gravitte\, will be re-released and available for streaming between March 1 and March 31! Click on the link for virtual tickets: https://www.harrisburgsymphony.org/concerts/pops/
URL:https://terryklinefelter.com/event/harrisburg-symphony-orchestra-2/
LOCATION:Harrisburg Symphony Orchestra\, 800 Corporate Cir.\, Harrisburg\, PA\, 17110\, United States
ATTACH;FMTTYPE=image/jpeg:https://terryklinefelter.com/wp-content/uploads/2020/03/HarrisburgSymphonyOrchestra-TerryKlineflter.jpg
END:VEVENT
BEGIN:VEVENT
DTSTART;TZID=UTC:20210223T173000
DTEND;TZID=UTC:20210223T210000
DTSTAMP:20260425T151820
CREATED:20210206T065343Z
LAST-MODIFIED:20210206T065344Z
UID:849-1614101400-1614114000@terryklinefelter.com
SUMMARY:Solo Piano
DESCRIPTION:The Union League (private club)
URL:https://terryklinefelter.com/event/solo-piano-6/
END:VEVENT
END:VCALENDAR