BEGIN:VCALENDAR
VERSION:2.0
PRODID:-//Terry Klinefelter Music - ECPv6.13.2.1//NONSGML v1.0//EN
CALSCALE:GREGORIAN
METHOD:PUBLISH
X-WR-CALNAME:Terry Klinefelter Music
X-ORIGINAL-URL:https://terryklinefelter.com
X-WR-CALDESC:Events for Terry Klinefelter Music
REFRESH-INTERVAL;VALUE=DURATION:PT1H
X-Robots-Tag:noindex
X-PUBLISHED-TTL:PT1H
BEGIN:VTIMEZONE
TZID:UTC
BEGIN:STANDARD
TZOFFSETFROM:+0000
TZOFFSETTO:+0000
TZNAME:UTC
DTSTART:20230101T000000
END:STANDARD
END:VTIMEZONE
BEGIN:VEVENT
DTSTART;TZID=UTC:20230824T200000
DTEND;TZID=UTC:20230824T230000
DTSTAMP:20260424T132845
CREATED:20230718T184243Z
LAST-MODIFIED:20230718T184244Z
UID:1296-1692907200-1692918000@terryklinefelter.com
SUMMARY:Slow Hand
DESCRIPTION:Jazz Quartet feat. Bob Howell\, tenor sax\, Paul Klinefelter\, bass\, Glenn Ferracone\, drums
URL:https://terryklinefelter.com/event/slow-hand-12/
END:VEVENT
BEGIN:VEVENT
DTSTART;TZID=UTC:20230819T180000
DTEND;TZID=UTC:20230819T210000
DTSTAMP:20260424T132845
CREATED:20230718T184019Z
LAST-MODIFIED:20230718T184020Z
UID:1291-1692468000-1692478800@terryklinefelter.com
SUMMARY:Solo Piano at Crown Tavern
DESCRIPTION:Great new venue in Glen Mills\, PA
URL:https://terryklinefelter.com/event/solo-piano-at-crown-tavern-11/
END:VEVENT
BEGIN:VEVENT
DTSTART;TZID=UTC:20230814T120000
DTEND;TZID=UTC:20230818T120000
DTSTAMP:20260424T132845
CREATED:20230627T180358Z
LAST-MODIFIED:20230627T180359Z
UID:1274-1692014400-1692360000@terryklinefelter.com
SUMMARY:Music School of Delaware-Adult Piano Festival
DESCRIPTION:I will be playing in the festival faculty recital and also giving lessons\, masterclasses and a lecture during this 5-day festival. Date and time TBA
URL:https://terryklinefelter.com/event/music-school-of-delaware-adult-piano-festival-2/
END:VEVENT
BEGIN:VEVENT
DTSTART;TZID=UTC:20230810T183000
DTEND;TZID=UTC:20230810T213000
DTSTAMP:20260424T132845
CREATED:20230722T124626Z
LAST-MODIFIED:20230722T124627Z
UID:1299-1691692200-1691703000@terryklinefelter.com
SUMMARY:Bowman's Tavern
DESCRIPTION:w/vocalist Jill Salkin
URL:https://terryklinefelter.com/event/bowmans-tavern/
END:VEVENT
BEGIN:VEVENT
DTSTART;TZID=UTC:20230804T180000
DTEND;TZID=UTC:20230804T210000
DTSTAMP:20260424T132845
CREATED:20230718T183913Z
LAST-MODIFIED:20230718T183913Z
UID:1288-1691172000-1691182800@terryklinefelter.com
SUMMARY:Solo Piano at Crown Tavern
DESCRIPTION:Great new venue in Glen Mills\, PA
URL:https://terryklinefelter.com/event/solo-piano-at-crown-tavern-10/
END:VEVENT
BEGIN:VEVENT
DTSTART;TZID=UTC:20230728T180000
DTEND;TZID=UTC:20230728T210000
DTSTAMP:20260424T132845
CREATED:20230627T180548Z
LAST-MODIFIED:20230627T180548Z
UID:1278-1690567200-1690578000@terryklinefelter.com
SUMMARY:Solo Piano at Crown Tavern
DESCRIPTION:Great new venue in Glen Mills\, PA
URL:https://terryklinefelter.com/event/solo-piano-at-crown-tavern-9/
END:VEVENT
BEGIN:VEVENT
DTSTART;TZID=UTC:20230727T200000
DTEND;TZID=UTC:20230727T230000
DTSTAMP:20260424T132845
CREATED:20230718T184202Z
LAST-MODIFIED:20230718T184203Z
UID:1294-1690488000-1690498800@terryklinefelter.com
SUMMARY:Slow Hand
DESCRIPTION:Jazz Quartet feat. Bob Howell\, tenor sax\, Paul Klinefelter\, bass\, Glenn Ferracone\, drums
URL:https://terryklinefelter.com/event/slow-hand-11/
END:VEVENT
BEGIN:VEVENT
DTSTART;TZID=UTC:20230725T113000
DTEND;TZID=UTC:20230725T130000
DTSTAMP:20260424T132845
CREATED:20230718T183811Z
LAST-MODIFIED:20230718T183811Z
UID:1286-1690284600-1690290000@terryklinefelter.com
SUMMARY:Solo Piano at One Liberty Place
DESCRIPTION:
URL:https://terryklinefelter.com/event/solo-piano-at-one-liberty-place-4/
END:VEVENT
BEGIN:VEVENT
DTSTART;TZID=UTC:20230722T180000
DTEND;TZID=UTC:20230722T210000
DTSTAMP:20260424T132845
CREATED:20230627T180516Z
LAST-MODIFIED:20230627T180516Z
UID:1276-1690048800-1690059600@terryklinefelter.com
SUMMARY:Solo Piano at Crown Tavern
DESCRIPTION:Great new venue in Glen Mills\, PA
URL:https://terryklinefelter.com/event/solo-piano-at-crown-tavern-8/
END:VEVENT
BEGIN:VEVENT
DTSTART;TZID=UTC:20230720T190000
DTEND;TZID=UTC:20230720T190000
DTSTAMP:20260424T132845
CREATED:20230502T065753Z
LAST-MODIFIED:20230502T065815Z
UID:1264-1689879600-1689879600@terryklinefelter.com
SUMMARY:Shippensburg Summer Music Festival
DESCRIPTION:Jurassic Park. Film w/live orchestra.
URL:https://terryklinefelter.com/event/shippensburg-summer-music-festival-2/
END:VEVENT
BEGIN:VEVENT
DTSTART;TZID=UTC:20230715T193000
DTEND;TZID=UTC:20230715T213000
DTSTAMP:20260424T132845
CREATED:20230627T180943Z
LAST-MODIFIED:20230627T180944Z
UID:1280-1689449400-1689456600@terryklinefelter.com
SUMMARY:Allentown Symphony Orchestra
DESCRIPTION:Disney in Concert!
URL:https://terryklinefelter.com/event/allentown-symphony-orchestra-4/
END:VEVENT
BEGIN:VEVENT
DTSTART;TZID=UTC:20230713T190000
DTEND;TZID=UTC:20230713T190000
DTSTAMP:20260424T132845
CREATED:20230502T065528Z
LAST-MODIFIED:20230502T065905Z
UID:1262-1689274800-1689274800@terryklinefelter.com
SUMMARY:Shippensburg Summer Music Festival
DESCRIPTION:w/Guest Artist Sarah Chang. Bruch Violin Concerto\, Rachmaninoff Symphonic Dances and Valeri Coleman Umoja Anthem of Unity.
URL:https://terryklinefelter.com/event/shippensburg-summer-music-festival/
END:VEVENT
BEGIN:VEVENT
DTSTART;TZID=UTC:20230702T120000
DTEND;TZID=UTC:20230702T150000
DTSTAMP:20260424T132845
CREATED:20230627T181038Z
LAST-MODIFIED:20230627T181039Z
UID:1282-1688299200-1688310000@terryklinefelter.com
SUMMARY:Jazz Trio @ Pizza by Elizabeth's
DESCRIPTION:w/Rob Swanson\, bass\, and Jonathan Whitney\, drums
URL:https://terryklinefelter.com/event/jazz-trio-pizza-by-elizabeths-4/
END:VEVENT
BEGIN:VEVENT
DTSTART;TZID=UTC:20230625T193000
DTEND;TZID=UTC:20230625T193000
DTSTAMP:20260424T132845
CREATED:20230311T133847Z
LAST-MODIFIED:20230311T133847Z
UID:1220-1687721400-1687721400@terryklinefelter.com
SUMMARY:Symphony Under the Stars
DESCRIPTION:Kennett Symphony Orchestra performs a program of classical favorites at Longwood Gardens Open Air Theatre.
URL:https://terryklinefelter.com/event/symphony-under-the-stars-2/
END:VEVENT
BEGIN:VEVENT
DTSTART;TZID=UTC:20230623T180000
DTEND;TZID=UTC:20230623T210000
DTSTAMP:20260424T132845
CREATED:20230502T065146Z
LAST-MODIFIED:20230502T065147Z
UID:1260-1687543200-1687554000@terryklinefelter.com
SUMMARY:Solo Piano at Will and Bill's Brewery
DESCRIPTION:Great new venue in Berwyn\, PA\, hosting jazz piano. Please come out and support live music!
URL:https://terryklinefelter.com/event/solo-piano-at-will-and-bills-brewery-19/
END:VEVENT
BEGIN:VEVENT
DTSTART;TZID=UTC:20230617T180000
DTEND;TZID=UTC:20230617T210000
DTSTAMP:20260424T132845
CREATED:20230502T064325Z
LAST-MODIFIED:20230502T064326Z
UID:1254-1687024800-1687035600@terryklinefelter.com
SUMMARY:Live Jazz @ Hook and Ladder Sky Bar
DESCRIPTION:Great venue in Conshohocken’s new luxury Hotel West and Main. w/Paul Klinefelter\, bass.
URL:https://terryklinefelter.com/event/live-jazz-hook-and-ladder-sky-bar-8/
END:VEVENT
BEGIN:VEVENT
DTSTART;TZID=UTC:20230610T180000
DTEND;TZID=UTC:20230610T210000
DTSTAMP:20260424T132845
CREATED:20230502T064905Z
LAST-MODIFIED:20230502T064907Z
UID:1258-1686420000-1686430800@terryklinefelter.com
SUMMARY:Solo Piano at Crown Tavern
DESCRIPTION:Great new venue in Glen Mills\, PA
URL:https://terryklinefelter.com/event/solo-piano-at-crown-tavern-7/
END:VEVENT
BEGIN:VEVENT
DTSTART;TZID=UTC:20230526T180000
DTEND;TZID=UTC:20230526T210000
DTSTAMP:20260424T132845
CREATED:20230425T160726Z
LAST-MODIFIED:20230425T160727Z
UID:1250-1685124000-1685134800@terryklinefelter.com
SUMMARY:Solo Piano at Will and Bill's Brewery
DESCRIPTION:Great new venue in Berwyn\, PA\, hosting jazz piano. Please come out and support live music!
URL:https://terryklinefelter.com/event/solo-piano-at-will-and-bills-brewery-18/
END:VEVENT
BEGIN:VEVENT
DTSTART;TZID=UTC:20230520T180000
DTEND;TZID=UTC:20230520T210000
DTSTAMP:20260424T132845
CREATED:20230425T160654Z
LAST-MODIFIED:20230425T160654Z
UID:1248-1684605600-1684616400@terryklinefelter.com
SUMMARY:Solo Piano at Will and Bill's Brewery
DESCRIPTION:Great new venue in Berwyn\, PA\, hosting jazz piano. Please come out and support live music!
URL:https://terryklinefelter.com/event/solo-piano-at-will-and-bills-brewery-17/
END:VEVENT
BEGIN:VEVENT
DTSTART;TZID=UTC:20230520T130000
DTEND;TZID=UTC:20230520T130000
DTSTAMP:20260424T132845
CREATED:20221106T184649Z
LAST-MODIFIED:20230425T161026Z
UID:1146-1684587600-1684587600@terryklinefelter.com
SUMMARY:Masterclass for Anemone Piano Studio
DESCRIPTION:I will be coaching piano students from the Anemone Piano Studio at  Church of the Loving Shepherd\, West Chester\, PA
URL:https://terryklinefelter.com/event/masterclass-for-anemone-piano-studio/
END:VEVENT
BEGIN:VEVENT
DTSTART;TZID=UTC:20230514T120000
DTEND;TZID=UTC:20230514T150000
DTSTAMP:20260424T132845
CREATED:20230316T055010Z
LAST-MODIFIED:20230316T055011Z
UID:1238-1684065600-1684076400@terryklinefelter.com
SUMMARY:Jazz Trio @ Pizza by Elizabeth's
DESCRIPTION:w/Rob Swanson\, bass\, and Jonathan Whitney\, drums
URL:https://terryklinefelter.com/event/jazz-trio-pizza-by-elizabeths-3/
END:VEVENT
BEGIN:VEVENT
DTSTART;TZID=UTC:20230513T190000
DTEND;TZID=UTC:20230513T200000
DTSTAMP:20260424T132845
CREATED:20230202T063022Z
LAST-MODIFIED:20230425T160854Z
UID:1197-1684004400-1684008000@terryklinefelter.com
SUMMARY:Kendal at Longwood
DESCRIPTION:Private jazz trio performance\, featuring vocalist Annie Sciolla.
URL:https://terryklinefelter.com/event/kendall-at-longwood/
END:VEVENT
BEGIN:VEVENT
DTSTART;TZID=UTC:20230513T110000
DTEND;TZID=UTC:20230513T110000
DTSTAMP:20260424T132845
CREATED:20230210T051332Z
LAST-MODIFIED:20230210T051332Z
UID:1208-1683975600-1683975600@terryklinefelter.com
SUMMARY:Winterthur Museum
DESCRIPTION:Kennett Symphony Chamber Music Concert featuring Florence Price’s Piano Quintet in a minor.
URL:https://terryklinefelter.com/event/winterthur-museum/
END:VEVENT
BEGIN:VEVENT
DTSTART;TZID=UTC:20230511T180000
DTEND;TZID=UTC:20230511T210000
DTSTAMP:20260424T132845
CREATED:20230502T064508Z
LAST-MODIFIED:20230502T064509Z
UID:1256-1683828000-1683838800@terryklinefelter.com
SUMMARY:Quoin Hotel Rooftop Lounge w/vocalist Keli Vale
DESCRIPTION:
URL:https://terryklinefelter.com/event/quoin-hotel-rooftop-lounge-w-vocalist-keli-vale/
END:VEVENT
BEGIN:VEVENT
DTSTART;TZID=UTC:20230506T180000
DTEND;TZID=UTC:20230506T210000
DTSTAMP:20260424T132845
CREATED:20230425T160527Z
LAST-MODIFIED:20230425T160527Z
UID:1246-1683396000-1683406800@terryklinefelter.com
SUMMARY:Solo Piano at Crown Tavern
DESCRIPTION:Great new venue in Glen Mills\, PA
URL:https://terryklinefelter.com/event/solo-piano-at-crown-tavern-6/
END:VEVENT
BEGIN:VEVENT
DTSTART;TZID=UTC:20230505T193000
DTEND;TZID=UTC:20230505T210000
DTSTAMP:20260424T132845
CREATED:20230202T064042Z
LAST-MODIFIED:20230202T064043Z
UID:1204-1683315000-1683320400@terryklinefelter.com
SUMMARY:The Jazz Sanctuary
DESCRIPTION:Trio featuring Alan Siegal\, bass\, and Grant MacAvoy\, drums.
URL:https://terryklinefelter.com/event/the-jazz-sanctuary-4/
END:VEVENT
BEGIN:VEVENT
DTSTART;TZID=UTC:20230429T154500
DTEND;TZID=UTC:20230429T163000
DTSTAMP:20260424T132845
CREATED:20230202T062108Z
LAST-MODIFIED:20230425T160423Z
UID:1193-1682783100-1682785800@terryklinefelter.com
SUMMARY:Kennett Jazz Festival
DESCRIPTION:Trio w/Paul Klinefelter\, bass\, and special guest\, legendary drummer Bill Goodwin.  Our set begins at 3:45 p.m. Kennett Brewing Company.
URL:https://terryklinefelter.com/event/kennett-jazz-festival/
END:VEVENT
BEGIN:VEVENT
DTSTART;TZID=UTC:20230423T193000
DTEND;TZID=UTC:20230423T213000
DTSTAMP:20260424T132845
CREATED:20230425T160310Z
LAST-MODIFIED:20230425T160310Z
UID:1244-1682278200-1682285400@terryklinefelter.com
SUMMARY:Wayne Oratorio Society
DESCRIPTION:I will be performing in Will Todd’s Jazz Mass with the Wayne Oratorio Society\, John Grecia directing.
URL:https://terryklinefelter.com/event/wayne-oratorio-society-2/
END:VEVENT
BEGIN:VEVENT
DTSTART;TZID=UTC:20230422T193000
DTEND;TZID=UTC:20230422T213000
DTSTAMP:20260424T132845
CREATED:20230113T045221Z
LAST-MODIFIED:20230425T160233Z
UID:1188-1682191800-1682199000@terryklinefelter.com
SUMMARY:Wayne Oratorio Society
DESCRIPTION:I will be performing in Will Todd’s Jazz Mass with the Wayne Oratorio Society\, John Grecia directing.
URL:https://terryklinefelter.com/event/wayne-oratorio-society/
END:VEVENT
BEGIN:VEVENT
DTSTART;TZID=UTC:20230421T180000
DTEND;TZID=UTC:20230421T210000
DTSTAMP:20260424T132845
CREATED:20230314T072935Z
LAST-MODIFIED:20230314T072936Z
UID:1224-1682100000-1682110800@terryklinefelter.com
SUMMARY:Solo Piano at Crown Tavern
DESCRIPTION:Great new venue in Glen Mills\, PA
URL:https://terryklinefelter.com/event/solo-piano-at-crown-tavern-5/
END:VEVENT
END:VCALENDAR