BEGIN:VCALENDAR
VERSION:2.0
PRODID:-//Terry Klinefelter Music - ECPv6.13.2.1//NONSGML v1.0//EN
CALSCALE:GREGORIAN
METHOD:PUBLISH
X-WR-CALNAME:Terry Klinefelter Music
X-ORIGINAL-URL:https://terryklinefelter.com
X-WR-CALDESC:Events for Terry Klinefelter Music
REFRESH-INTERVAL;VALUE=DURATION:PT1H
X-Robots-Tag:noindex
X-PUBLISHED-TTL:PT1H
BEGIN:VTIMEZONE
TZID:UTC
BEGIN:STANDARD
TZOFFSETFROM:+0000
TZOFFSETTO:+0000
TZNAME:UTC
DTSTART:20220101T000000
END:STANDARD
END:VTIMEZONE
BEGIN:VEVENT
DTSTART;TZID=UTC:20220909T180000
DTEND;TZID=UTC:20220909T210000
DTSTAMP:20260425T121140
CREATED:20220901T204400Z
LAST-MODIFIED:20220901T204401Z
UID:1105-1662746400-1662757200@terryklinefelter.com
SUMMARY:Solo Piano at Will and Bill's Brewery
DESCRIPTION:Great new venue in Berwyn\, PA\, hosting jazz piano. Please come out and support live music!
URL:https://terryklinefelter.com/event/solo-piano-at-will-and-bills-brewery-11/
END:VEVENT
BEGIN:VEVENT
DTSTART;TZID=UTC:20220825T200000
DTEND;TZID=UTC:20220825T230000
DTSTAMP:20260425T121140
CREATED:20220421T045207Z
LAST-MODIFIED:20220421T045207Z
UID:1051-1661457600-1661468400@terryklinefelter.com
SUMMARY:Slow Hand
DESCRIPTION:Jazz Quartet feat. Bob Meashey\, trumpet\, Paul Klinefelter\, bass\, Glenn Ferracone\, drums
URL:https://terryklinefelter.com/event/slow-hand-6/
END:VEVENT
BEGIN:VEVENT
DTSTART;TZID=UTC:20220820T180000
DTEND;TZID=UTC:20220820T210000
DTSTAMP:20260425T121140
CREATED:20220810T020038Z
LAST-MODIFIED:20220810T020039Z
UID:1091-1661018400-1661029200@terryklinefelter.com
SUMMARY:Solo Piano at Will and Bill's Brewery
DESCRIPTION:Great new venue in Berwyn\, PA\, hosting jazz piano. Please come out and support live music!
URL:https://terryklinefelter.com/event/solo-piano-at-will-and-bills-brewery-10/
END:VEVENT
BEGIN:VEVENT
DTSTART;TZID=UTC:20220816T190000
DTEND;TZID=UTC:20220816T190000
DTSTAMP:20260425T121140
CREATED:20220810T022232Z
LAST-MODIFIED:20220817T043713Z
UID:1097-1660676400-1660676400@terryklinefelter.com
SUMMARY:Allentown Symphony Orchestra
DESCRIPTION:ASO Composers Symposium score reading session. Brand new works for flute\, piano and cello.
URL:https://terryklinefelter.com/event/allentown-symphony-orchestra-2/
END:VEVENT
BEGIN:VEVENT
DTSTART;TZID=UTC:20220815T120000
DTEND;TZID=UTC:20220819T120000
DTSTAMP:20260425T121140
CREATED:20220421T045949Z
LAST-MODIFIED:20220728T194027Z
UID:1059-1660564800-1660910400@terryklinefelter.com
SUMMARY:Music School of Delaware-Adult Piano Festival
DESCRIPTION:I will be playing in the festival faculty recital and also giving lessons\, masterclasses and a lecture during this 4-day festival. Date and time TBA
URL:https://terryklinefelter.com/event/music-school-of-delaware-adult-piano-festival/
END:VEVENT
BEGIN:VEVENT
DTSTART;TZID=UTC:20220813T190000
DTEND;TZID=UTC:20220813T220000
DTSTAMP:20260425T121140
CREATED:20220626T122332Z
LAST-MODIFIED:20220626T122332Z
UID:1079-1660417200-1660428000@terryklinefelter.com
SUMMARY:River House at Odette's
DESCRIPTION:w/vocalist Jill Salkin
URL:https://terryklinefelter.com/event/river-house-at-odettes/
END:VEVENT
BEGIN:VEVENT
DTSTART;TZID=UTC:20220730T190000
DTEND;TZID=UTC:20220730T220000
DTSTAMP:20260425T121140
CREATED:20220626T121357Z
LAST-MODIFIED:20220627T151654Z
UID:1077-1659207600-1659218400@terryklinefelter.com
SUMMARY:Brick and Brew-Malvern
DESCRIPTION:w/vocalist Jill Salkin
URL:https://terryklinefelter.com/event/the-vault/
END:VEVENT
BEGIN:VEVENT
DTSTART;TZID=UTC:20220729T190000
DTEND;TZID=UTC:20220729T200000
DTSTAMP:20260425T121140
CREATED:20220728T193652Z
LAST-MODIFIED:20220728T193653Z
UID:1087-1659121200-1659124800@terryklinefelter.com
SUMMARY:Rosemont Presbyterian Village
DESCRIPTION:Works by Mozart and Rachmaninoff. Program includes a duo performance of Mozart’s Piano Concerto in Eb Major\, K. 271\, with Paul Klinefelter\, bass.
URL:https://terryklinefelter.com/event/rosemont-presbyterian-village/
END:VEVENT
BEGIN:VEVENT
DTSTART;TZID=UTC:20220728T200000
DTEND;TZID=UTC:20220728T230000
DTSTAMP:20260425T121140
CREATED:20220421T045121Z
LAST-MODIFIED:20220421T045121Z
UID:1052-1659038400-1659049200@terryklinefelter.com
SUMMARY:Slow Hand
DESCRIPTION:Jazz Quartet feat. Bob Meashey\, trumpet\, Paul Klinefelter\, bass\, Glenn Ferracone\, drums
URL:https://terryklinefelter.com/event/slow-hand-5/
END:VEVENT
BEGIN:VEVENT
DTSTART;TZID=UTC:20220723T180000
DTEND;TZID=UTC:20220723T210000
DTSTAMP:20260425T121140
CREATED:20220617T145659Z
LAST-MODIFIED:20220617T145700Z
UID:1070-1658599200-1658610000@terryklinefelter.com
SUMMARY:Solo Piano at Will and Bill's Brewery
DESCRIPTION:Great new venue in Berwyn\, PA\, hosting jazz piano. Please come out and support live music!
URL:https://terryklinefelter.com/event/solo-piano-at-will-and-bills-brewery-8/
END:VEVENT
BEGIN:VEVENT
DTSTART;TZID=UTC:20220716T180000
DTEND;TZID=UTC:20220716T210000
DTSTAMP:20260425T121140
CREATED:20220703T133004Z
LAST-MODIFIED:20220703T133005Z
UID:1083-1657994400-1658005200@terryklinefelter.com
SUMMARY:Solo Piano at Will and Bill's Brewery
DESCRIPTION:Great new venue in Berwyn\, PA\, hosting jazz piano. Please come out and support live music!
URL:https://terryklinefelter.com/event/solo-piano-at-will-and-bills-brewery-9/
END:VEVENT
BEGIN:VEVENT
DTSTART;TZID=UTC:20220709T180000
DTEND;TZID=UTC:20220709T210000
DTSTAMP:20260425T121140
CREATED:20220617T145610Z
LAST-MODIFIED:20220617T145611Z
UID:1071-1657389600-1657400400@terryklinefelter.com
SUMMARY:Solo Piano at Will and Bill's Brewery
DESCRIPTION:Great new venue in Berwyn\, PA\, hosting jazz piano. Please come out and support live music!
URL:https://terryklinefelter.com/event/solo-piano-at-will-and-bills-brewery-7/
END:VEVENT
BEGIN:VEVENT
DTSTART;TZID=UTC:20220703T120000
DTEND;TZID=UTC:20220703T150000
DTSTAMP:20260425T121140
CREATED:20220703T133334Z
LAST-MODIFIED:20220703T133334Z
UID:1085-1656849600-1656860400@terryklinefelter.com
SUMMARY:Jazz Trio @ Pizza by Elizabeths
DESCRIPTION:w/Rob Swanson\, bass\, and Jonathan Whitney\, drums
URL:https://terryklinefelter.com/event/jazz-trio-pizza-by-elizabeths-2/
END:VEVENT
BEGIN:VEVENT
DTSTART;TZID=UTC:20220626T193000
DTEND;TZID=UTC:20220626T213000
DTSTAMP:20260425T121140
CREATED:20220523T145140Z
LAST-MODIFIED:20220523T145141Z
UID:1066-1656271800-1656279000@terryklinefelter.com
SUMMARY:Symphony Under the Stars
DESCRIPTION:Kennett Symphony Orchestra performs in the Open Air Theatre at Longwood Gardens.
URL:https://terryklinefelter.com/event/symphony-under-the-stars/
END:VEVENT
BEGIN:VEVENT
DTSTART;TZID=UTC:20220624T180000
DTEND;TZID=UTC:20220624T210000
DTSTAMP:20260425T121140
CREATED:20220617T145453Z
LAST-MODIFIED:20220617T145454Z
UID:1068-1656093600-1656104400@terryklinefelter.com
SUMMARY:Solo Piano at Will and Bill's Brewery
DESCRIPTION:Great new venue in Berwyn\, PA\, hosting jazz piano. Please come out and support live music!
URL:https://terryklinefelter.com/event/solo-piano-at-will-and-bills-brewery-6/
END:VEVENT
BEGIN:VEVENT
DTSTART;TZID=UTC:20220623T200000
DTEND;TZID=UTC:20220623T230000
DTSTAMP:20260425T121140
CREATED:20220421T045048Z
LAST-MODIFIED:20220620T044357Z
UID:1053-1656014400-1656025200@terryklinefelter.com
SUMMARY:Slow Hand
DESCRIPTION:Jazz Quartet feat. Adam Niewood\, tenor sax\, Paul Klinefelter\, bass\, Glenn Ferracone\, drums
URL:https://terryklinefelter.com/event/slow-hand-4/
END:VEVENT
BEGIN:VEVENT
DTSTART;TZID=UTC:20220605T150000
DTEND;TZID=UTC:20220605T173000
DTSTAMP:20260425T121140
CREATED:20220328T001759Z
LAST-MODIFIED:20220523T144318Z
UID:1044-1654441200-1654450200@terryklinefelter.com
SUMMARY:Jazz at the Springs
DESCRIPTION:w/Glenn Ferracone and Friends
URL:https://terryklinefelter.com/event/jazz-at-the-springs/
END:VEVENT
BEGIN:VEVENT
DTSTART;TZID=UTC:20220526T200000
DTEND;TZID=UTC:20220526T230000
DTSTAMP:20260425T121140
CREATED:20220421T044915Z
LAST-MODIFIED:20220421T044916Z
UID:1048-1653595200-1653606000@terryklinefelter.com
SUMMARY:Slow Hand
DESCRIPTION:Jazz Quartet feat. Bob Meashey\, trumpet\, Paul Klinefelter\, bass\, Glenn Ferracone\, drums
URL:https://terryklinefelter.com/event/slow-hand-2/
END:VEVENT
BEGIN:VEVENT
DTSTART;TZID=UTC:20220510T190000
DTEND;TZID=UTC:20220510T210000
DTSTAMP:20260425T121140
CREATED:20220509T182238Z
LAST-MODIFIED:20220509T182239Z
UID:1061-1652209200-1652216400@terryklinefelter.com
SUMMARY:Dinner and Jazz with Vocalist Callie Graver
DESCRIPTION:w/Tony DeSantis\, trumpet; Chico Huff\, bass; Glenn Ferracone\, drums. Spence Cafe. Private event hosted by Bruce Donahoe. For tickets\, call 610.547.4417
URL:https://terryklinefelter.com/event/dinner-and-jazz-with-vocalist-callie-graver/
END:VEVENT
BEGIN:VEVENT
DTSTART;TZID=UTC:20220507T193000
DTEND;TZID=UTC:20220507T213000
DTSTAMP:20260425T121140
CREATED:20211105T032832Z
LAST-MODIFIED:20211105T032833Z
UID:984-1651951800-1651959000@terryklinefelter.com
SUMMARY:Allentown Symphony: Aretha Tribute
DESCRIPTION:Allentown Symphony celebrates the Queen of Soul!
URL:https://terryklinefelter.com/event/allentown-symphony-aretha-tribute/
END:VEVENT
BEGIN:VEVENT
DTSTART;TZID=UTC:20220502T200000
DTEND;TZID=UTC:20220502T213000
DTSTAMP:20260425T121140
CREATED:20210604T030123Z
LAST-MODIFIED:20220305T180654Z
UID:919-1651521600-1651527000@terryklinefelter.com
SUMMARY:WCU Faculty Recital
DESCRIPTION:Celebrating 25 years of teaching at WCU. World premiere of Grammy-nominated composer Clarice Assad’s Sonic Landscapes\, with the Dali Quartet\, and Mozart’s Concerto in Eb Major\, K. 271\, with the WCU Chamber Orchestra.
URL:https://terryklinefelter.com/event/wcu-faculty-recital-2/
END:VEVENT
BEGIN:VEVENT
DTSTART;TZID=UTC:20220429T113000
DTEND;TZID=UTC:20220429T130000
DTSTAMP:20260425T121140
CREATED:20220305T175539Z
LAST-MODIFIED:20220305T175540Z
UID:1031-1651231800-1651237200@terryklinefelter.com
SUMMARY:One Liberty Place
DESCRIPTION:Solo Piano
URL:https://terryklinefelter.com/event/one-liberty-place-4/
END:VEVENT
BEGIN:VEVENT
DTSTART;TZID=UTC:20220406T113000
DTEND;TZID=UTC:20220406T130000
DTSTAMP:20260425T121140
CREATED:20220421T044944Z
LAST-MODIFIED:20220421T044945Z
UID:1046-1649244600-1649250000@terryklinefelter.com
SUMMARY:One Liberty Place
DESCRIPTION:Solo Piano
URL:https://terryklinefelter.com/event/one-liberty-place-5/
END:VEVENT
BEGIN:VEVENT
DTSTART;TZID=UTC:20220326T180000
DTEND;TZID=UTC:20220326T210000
DTSTAMP:20260425T121140
CREATED:20220302T060700Z
LAST-MODIFIED:20220303T061358Z
UID:1022-1648317600-1648328400@terryklinefelter.com
SUMMARY:Solo Piano at Will and Bill's Brewery
DESCRIPTION:Great new venue in Berwyn\, PA\, hosting jazz piano. Please come out and support live music!
URL:https://terryklinefelter.com/event/solo-piano-at-will-and-bills-brewery-5/
END:VEVENT
BEGIN:VEVENT
DTSTART;TZID=UTC:20220324T200000
DTEND;TZID=UTC:20220324T200000
DTSTAMP:20260425T121140
CREATED:20220305T173300Z
LAST-MODIFIED:20220305T173302Z
UID:1028-1648152000-1648152000@terryklinefelter.com
SUMMARY:WCU Jazz Festival
DESCRIPTION:WCU Criterions celebrate alumni.
URL:https://terryklinefelter.com/event/wcu-jazz-festival-2/
END:VEVENT
BEGIN:VEVENT
DTSTART;TZID=UTC:20220323T200000
DTEND;TZID=UTC:20220323T200000
DTSTAMP:20260425T121140
CREATED:20220305T172909Z
LAST-MODIFIED:20220305T172911Z
UID:1026-1648065600-1648065600@terryklinefelter.com
SUMMARY:WCU Jazz Festival
DESCRIPTION:WCU Faculty Jazz Group
URL:https://terryklinefelter.com/event/wcu-jazz-festival/
END:VEVENT
BEGIN:VEVENT
DTSTART;TZID=UTC:20220319T080000
DTEND;TZID=UTC:20220319T170000
DTSTAMP:20260425T121140
CREATED:20220305T175920Z
LAST-MODIFIED:20220305T180501Z
UID:1035-1647676800-1647709200@terryklinefelter.com
SUMMARY:Connie Murray Piano Festival
DESCRIPTION:I will be adjudicating piano students for this annual MLMTA-sponsored festival\, held at WCU.
URL:https://terryklinefelter.com/event/connie-murray-piano-festival/
END:VEVENT
BEGIN:VEVENT
DTSTART;TZID=UTC:20220312T193000
DTEND;TZID=UTC:20220312T203000
DTSTAMP:20260425T121140
CREATED:20220305T180400Z
LAST-MODIFIED:20220305T180403Z
UID:1037-1647113400-1647117000@terryklinefelter.com
SUMMARY:Concert at Lion's Gate
DESCRIPTION:Terry Klinefelter\, piano\, and Paul Klinefelter\, bass. This crossover concert will feature classical selections\, as well as Great American Songbook favorites.
URL:https://terryklinefelter.com/event/concert-at-lions-gate/
END:VEVENT
BEGIN:VEVENT
DTSTART;TZID=UTC:20220311T180000
DTEND;TZID=UTC:20220311T210000
DTSTAMP:20260425T121140
CREATED:20220303T061137Z
LAST-MODIFIED:20220303T061139Z
UID:1021-1647021600-1647032400@terryklinefelter.com
SUMMARY:Solo Piano at Will and Bill's Brewery
DESCRIPTION:Great new venue in Berwyn\, PA\, hosting jazz piano. Please come out and support live music!
URL:https://terryklinefelter.com/event/solo-piano-at-will-and-bills-brewery-4/
END:VEVENT
BEGIN:VEVENT
DTSTART;TZID=UTC:20220305T180000
DTEND;TZID=UTC:20220305T210000
DTSTAMP:20260425T121140
CREATED:20220303T060612Z
LAST-MODIFIED:20220303T060614Z
UID:1019-1646503200-1646514000@terryklinefelter.com
SUMMARY:Solo Piano at Will and Bill's Brewery
DESCRIPTION:Great new venue in Berwyn\, PA\, hosting jazz piano. Please come out and support live music!
URL:https://terryklinefelter.com/event/solo-piano-at-will-and-bills-brewery-3/
END:VEVENT
END:VCALENDAR