BEGIN:VCALENDAR
VERSION:2.0
PRODID:-//Terry Klinefelter Music - ECPv6.13.2.1//NONSGML v1.0//EN
CALSCALE:GREGORIAN
METHOD:PUBLISH
X-ORIGINAL-URL:https://terryklinefelter.com
X-WR-CALDESC:Events for Terry Klinefelter Music
REFRESH-INTERVAL;VALUE=DURATION:PT1H
X-Robots-Tag:noindex
X-PUBLISHED-TTL:PT1H
BEGIN:VTIMEZONE
TZID:UTC
BEGIN:STANDARD
TZOFFSETFROM:+0000
TZOFFSETTO:+0000
TZNAME:UTC
DTSTART:20230101T000000
END:STANDARD
END:VTIMEZONE
BEGIN:VEVENT
DTSTART;TZID=UTC:20231118T193000
DTEND;TZID=UTC:20231118T193000
DTSTAMP:20260425T105152
CREATED:20230627T175851Z
LAST-MODIFIED:20230627T175852Z
UID:1272-1700335800-1700335800@terryklinefelter.com
SUMMARY:Will Todd's Mass in Blue
DESCRIPTION:Trinity Lutheran Church\, Lansdale\, PA. The Choristers\, with jazz quartet and soloists. Second half will feature spirituals and sacred jazz selections.
URL:https://terryklinefelter.com/event/will-todds-mass-in-blue/
END:VEVENT
BEGIN:VEVENT
DTSTART;TZID=UTC:20231209T190000
DTEND;TZID=UTC:20231209T220000
DTSTAMP:20260425T105152
CREATED:20231129T065445Z
LAST-MODIFIED:20231129T065446Z
UID:1335-1702148400-1702159200@terryklinefelter.com
SUMMARY:Bowman's Tavern
DESCRIPTION:w/vocalist Kevin Valentine
URL:https://terryklinefelter.com/event/bowmans-tavern-2/
END:VEVENT
BEGIN:VEVENT
DTSTART;TZID=UTC:20231213T190000
DTEND;TZID=UTC:20231213T190000
DTSTAMP:20260425T105152
CREATED:20230803T053658Z
LAST-MODIFIED:20230803T053817Z
UID:1302-1702494000-1702494000@terryklinefelter.com
SUMMARY:Recital w/Trumpet Virtuoso Barb Prugh
DESCRIPTION:Maris Grove in Glen Mills\, PA
URL:https://terryklinefelter.com/event/recital-w-trumpet-virtuoso-barb-prugh/
END:VEVENT
BEGIN:VEVENT
DTSTART;TZID=UTC:20231223T180000
DTEND;TZID=UTC:20231223T210000
DTSTAMP:20260425T105152
CREATED:20231129T065645Z
LAST-MODIFIED:20231129T065645Z
UID:1340-1703354400-1703365200@terryklinefelter.com
SUMMARY:Solo Piano at Will and Bill's Brewery
DESCRIPTION:Great new venue in Berwyn\, PA\, hosting jazz piano. Please come out and support live music!
URL:https://terryklinefelter.com/event/solo-piano-at-will-and-bills-brewery-21/
END:VEVENT
BEGIN:VEVENT
DTSTART;TZID=UTC:20231228T200000
DTEND;TZID=UTC:20231228T230000
DTSTAMP:20260425T105152
CREATED:20240103T044725Z
LAST-MODIFIED:20240103T044726Z
UID:1358-1703793600-1703804400@terryklinefelter.com
SUMMARY:Slow Hand
DESCRIPTION:Jazz Quartet feat. Bob Howell\, tenor sax\, Paul Klinefelter\, bass\, Glenn Ferracone\, drums
URL:https://terryklinefelter.com/event/slow-hand-14/
END:VEVENT
BEGIN:VEVENT
DTSTART;TZID=UTC:20231229T180000
DTEND;TZID=UTC:20231229T210000
DTSTAMP:20260425T105152
CREATED:20231129T065716Z
LAST-MODIFIED:20231129T065717Z
UID:1338-1703872800-1703883600@terryklinefelter.com
SUMMARY:Solo Piano at Will and Bill's Brewery
DESCRIPTION:Great new venue in Berwyn\, PA\, hosting jazz piano. Please come out and support live music!
URL:https://terryklinefelter.com/event/solo-piano-at-will-and-bills-brewery-22/
END:VEVENT
BEGIN:VEVENT
DTSTART;TZID=UTC:20231230T180000
DTEND;TZID=UTC:20231230T210000
DTSTAMP:20260425T105152
CREATED:20231129T065750Z
LAST-MODIFIED:20231129T065751Z
UID:1339-1703959200-1703970000@terryklinefelter.com
SUMMARY:Solo Piano at Will and Bill's Brewery
DESCRIPTION:Great new venue in Berwyn\, PA\, hosting jazz piano. Please come out and support live music!
URL:https://terryklinefelter.com/event/solo-piano-at-will-and-bills-brewery-23/
END:VEVENT
BEGIN:VEVENT
DTSTART;TZID=UTC:20231231T180000
DTEND;TZID=UTC:20231231T210000
DTSTAMP:20260425T105152
CREATED:20231209T213140Z
LAST-MODIFIED:20231209T213141Z
UID:1353-1704045600-1704056400@terryklinefelter.com
SUMMARY:Solo Piano at Will and Bill's Brewery
DESCRIPTION:Great new venue in Berwyn\, PA\, hosting jazz piano. Please come out and support live music!
URL:https://terryklinefelter.com/event/solo-piano-at-will-and-bills-brewery-24/
END:VEVENT
BEGIN:VEVENT
DTSTART;TZID=UTC:20240104T200000
DTEND;TZID=UTC:20240104T230000
DTSTAMP:20260425T105152
CREATED:20240103T044838Z
LAST-MODIFIED:20240103T044838Z
UID:1360-1704398400-1704409200@terryklinefelter.com
SUMMARY:Slow Hand
DESCRIPTION:Jazz Quartet feat. John Swana\, EVI/trumpet\, Dave Brodie\, bass\, Glenn Ferracone\, drums
URL:https://terryklinefelter.com/event/slow-hand-15/
END:VEVENT
BEGIN:VEVENT
DTSTART;TZID=UTC:20240106T180000
DTEND;TZID=UTC:20240106T210000
DTSTAMP:20260425T105152
CREATED:20240103T045152Z
LAST-MODIFIED:20240103T045152Z
UID:1362-1704564000-1704574800@terryklinefelter.com
SUMMARY:Solo Piano at Will and Bill's Brewery
DESCRIPTION:Great new venue in Berwyn\, PA\, hosting jazz piano. Please come out and support live music!
URL:https://terryklinefelter.com/event/solo-piano-at-will-and-bills-brewery-25/
END:VEVENT
BEGIN:VEVENT
DTSTART;TZID=UTC:20240108T120000
DTEND;TZID=UTC:20240108T170000
DTSTAMP:20260425T105152
CREATED:20231209T171701Z
LAST-MODIFIED:20231209T171702Z
UID:1345-1704715200-1704733200@terryklinefelter.com
SUMMARY:Recording: David Bennett Thomas Wind Quintet
DESCRIPTION:University of the Arts
URL:https://terryklinefelter.com/event/recording-david-bennett-thomas-wind-quintet/
END:VEVENT
BEGIN:VEVENT
DTSTART;TZID=UTC:20240113T120000
DTEND;TZID=UTC:20240113T170000
DTSTAMP:20260425T105152
CREATED:20231012T043858Z
LAST-MODIFIED:20231209T171731Z
UID:1333-1705147200-1705165200@terryklinefelter.com
SUMMARY:Recording: Clarice Assad's Sonic Landscapes
DESCRIPTION:Premier recording of this multi Grammy-nominated composer’s piano quintet with the Sirius Quartet. Skyline Studios.
URL:https://terryklinefelter.com/event/recording-clarice-assads-sonic-landscapes/
END:VEVENT
BEGIN:VEVENT
DTSTART;TZID=UTC:20240120T193000
DTEND;TZID=UTC:20240120T193000
DTSTAMP:20260425T105152
CREATED:20231209T172851Z
LAST-MODIFIED:20231213T072551Z
UID:1350-1705779000-1705779000@terryklinefelter.com
SUMMARY:Allentown Symphony Orchestra
DESCRIPTION:LUSH LIFE: The Music of Duke Ellington and Billy Strayhorn\, w/the award-winning Canadian jazz vocalist Denzal Sinclaire.
URL:https://terryklinefelter.com/event/allentown-symphony-orchestra-5/
END:VEVENT
BEGIN:VEVENT
DTSTART;TZID=UTC:20240210T180000
DTEND;TZID=UTC:20240210T210000
DTSTAMP:20260425T105152
CREATED:20240201T015844Z
LAST-MODIFIED:20240201T015844Z
UID:1367-1707588000-1707598800@terryklinefelter.com
SUMMARY:Solo Piano at Crown Tavern
DESCRIPTION:Great new venue in Glen Mills\, PA
URL:https://terryklinefelter.com/event/solo-piano-at-crown-tavern-16/
END:VEVENT
BEGIN:VEVENT
DTSTART;TZID=UTC:20240217T180000
DTEND;TZID=UTC:20240217T210000
DTSTAMP:20260425T105152
CREATED:20240201T015928Z
LAST-MODIFIED:20240201T015929Z
UID:1366-1708192800-1708203600@terryklinefelter.com
SUMMARY:Solo Piano at Crown Tavern
DESCRIPTION:Great new venue in Glen Mills\, PA
URL:https://terryklinefelter.com/event/solo-piano-at-crown-tavern-17/
END:VEVENT
BEGIN:VEVENT
DTSTART;TZID=UTC:20240304T183000
DTEND;TZID=UTC:20240304T213000
DTSTAMP:20260425T105152
CREATED:20240229T044315Z
LAST-MODIFIED:20240229T044755Z
UID:1378-1709577000-1709587800@terryklinefelter.com
SUMMARY:Black Squirrel
DESCRIPTION:Monday night jam session led by Jerry Tannenbaum\, drums. With Madison Rast\, bass.
URL:https://terryklinefelter.com/event/black-squirrel-2/
END:VEVENT
BEGIN:VEVENT
DTSTART;TZID=UTC:20240308T190000
DTEND;TZID=UTC:20240308T220000
DTSTAMP:20260425T105152
CREATED:20240208T182358Z
LAST-MODIFIED:20240208T182358Z
UID:1370-1709924400-1709935200@terryklinefelter.com
SUMMARY:Black Squirrel
DESCRIPTION:w/vocalist Kevin Valentine
URL:https://terryklinefelter.com/event/black-squirrel/
END:VEVENT
BEGIN:VEVENT
DTSTART;TZID=UTC:20240315T080000
DTEND;TZID=UTC:20240317T170000
DTSTAMP:20260425T105152
CREATED:20240211T080734Z
LAST-MODIFIED:20240211T080735Z
UID:1374-1710489600-1710694800@terryklinefelter.com
SUMMARY:NATS Conference @ WCU
DESCRIPTION:I will be accompanying vocal competitors in classical\, musical theatre and commercial music categories\, and also performing in a lecture-recital with baritone\, Nicholas Provenzale.
URL:https://terryklinefelter.com/event/nats-conference-wcu/
END:VEVENT
BEGIN:VEVENT
DTSTART;TZID=UTC:20240323T180000
DTEND;TZID=UTC:20240323T210000
DTSTAMP:20260425T105152
CREATED:20240323T181626Z
LAST-MODIFIED:20240323T181627Z
UID:1404-1711216800-1711227600@terryklinefelter.com
SUMMARY:Solo Piano at Will and Bill's Brewery
DESCRIPTION:Great new venue in Berwyn\, PA\, hosting jazz piano. Please come out and support live music!
URL:https://terryklinefelter.com/event/solo-piano-at-will-and-bills-brewery-27/
END:VEVENT
BEGIN:VEVENT
DTSTART;TZID=UTC:20240324T130000
DTEND;TZID=UTC:20240324T160000
DTSTAMP:20260425T105152
CREATED:20240321T055526Z
LAST-MODIFIED:20240321T055527Z
UID:1387-1711285200-1711296000@terryklinefelter.com
SUMMARY:Sip and Soiree
DESCRIPTION:Society Hill Dance Academy.  Free drinks\, bites\, and favorite vendors for all of your event needs. This event is free\, but please RSVP via the eventbrite link.
URL:https://terryklinefelter.com/event/sip-and-soiree/
END:VEVENT
BEGIN:VEVENT
DTSTART;TZID=UTC:20240328T200000
DTEND;TZID=UTC:20240328T230000
DTSTAMP:20260425T105152
CREATED:20240321T054954Z
LAST-MODIFIED:20240321T054955Z
UID:1385-1711656000-1711666800@terryklinefelter.com
SUMMARY:Slow Hand
DESCRIPTION:Jazz Quartet feat. Joe Anderson\, EVI/trumpet\, Paul Klinefelter\, bass\, Glenn Ferracone\, drums
URL:https://terryklinefelter.com/event/slow-hand-16/
END:VEVENT
BEGIN:VEVENT
DTSTART;TZID=UTC:20240329T183000
DTEND;TZID=UTC:20240329T203000
DTSTAMP:20260425T105152
CREATED:20240213T194036Z
LAST-MODIFIED:20240213T194202Z
UID:1376-1711737000-1711744200@terryklinefelter.com
SUMMARY:Acadia Winery
DESCRIPTION:Live music at this beautiful Chester County winery. With Joe Anderson\, trumpet\, Rob Swanson\, bass.
URL:https://terryklinefelter.com/event/acadia-winery/
END:VEVENT
BEGIN:VEVENT
DTSTART;TZID=UTC:20240330T180000
DTEND;TZID=UTC:20240330T210000
DTSTAMP:20260425T105152
CREATED:20240321T054758Z
LAST-MODIFIED:20240321T054758Z
UID:1383-1711821600-1711832400@terryklinefelter.com
SUMMARY:Solo Piano at Crown Tavern
DESCRIPTION:Great new venue in Glen Mills\, PA
URL:https://terryklinefelter.com/event/solo-piano-at-crown-tavern-19/
END:VEVENT
BEGIN:VEVENT
DTSTART;TZID=UTC:20240408T183000
DTEND;TZID=UTC:20240408T213000
DTSTAMP:20260425T105152
CREATED:20240323T174713Z
LAST-MODIFIED:20240323T174714Z
UID:1399-1712601000-1712611800@terryklinefelter.com
SUMMARY:Black Squirrel
DESCRIPTION:Monday night jam session led by Jerry Tannenbaum\, drums.
URL:https://terryklinefelter.com/event/black-squirrel-3/
END:VEVENT
BEGIN:VEVENT
DTSTART;TZID=UTC:20240411T183000
DTEND;TZID=UTC:20240411T220000
DTSTAMP:20260425T105152
CREATED:20240201T015422Z
LAST-MODIFIED:20240201T015423Z
UID:1364-1712860200-1712872800@terryklinefelter.com
SUMMARY:Bowman's Tavern
DESCRIPTION:w/vocalist Jill Salkin\, and Sam Nobles on bass.
URL:https://terryklinefelter.com/event/bowmans-tavern-3/
END:VEVENT
BEGIN:VEVENT
DTSTART;TZID=UTC:20240413T090000
DTEND;TZID=UTC:20240413T170000
DTSTAMP:20260425T105152
CREATED:20240323T173648Z
LAST-MODIFIED:20240323T173649Z
UID:1397-1712998800-1713027600@terryklinefelter.com
SUMMARY:WCU Pre-Collegiate Piano Competition
DESCRIPTION:I will be adjudicating for this annual event.
URL:https://terryklinefelter.com/event/wcu-pre-collegiate-piano-competition/
END:VEVENT
BEGIN:VEVENT
DTSTART;TZID=UTC:20240419T210000
DTEND;TZID=UTC:20240420T000000
DTSTAMP:20260425T105152
CREATED:20240413T005208Z
LAST-MODIFIED:20240413T005209Z
UID:1432-1713560400-1713571200@terryklinefelter.com
SUMMARY:Hummingbird to Mars w/Sharon Sable
DESCRIPTION:Fantastic speakeasy in Wilmington! w/Paul Klinefelter\, bass.
URL:https://terryklinefelter.com/event/hummingbird-to-mars-w-sharon-sable/
END:VEVENT
BEGIN:VEVENT
DTSTART;TZID=UTC:20240420T180000
DTEND;TZID=UTC:20240420T210000
DTSTAMP:20260425T105152
CREATED:20240321T055651Z
LAST-MODIFIED:20240321T055651Z
UID:1392-1713636000-1713646800@terryklinefelter.com
SUMMARY:Solo Piano at Will and Bill's Brewery
DESCRIPTION:Great new venue in Berwyn\, PA\, hosting jazz piano. Please come out and support live music!
URL:https://terryklinefelter.com/event/solo-piano-at-will-and-bills-brewery-26/
END:VEVENT
BEGIN:VEVENT
DTSTART;TZID=UTC:20240421T150000
DTEND;TZID=UTC:20240421T150000
DTSTAMP:20260425T105152
CREATED:20240413T022132Z
LAST-MODIFIED:20240413T022249Z
UID:1436-1713711600-1713711600@terryklinefelter.com
SUMMARY:Carl Orff's Carmina Burana
DESCRIPTION:I will be performing with the Franklin & Marshall College Chorus and Chamber Singers and members of the Lancaster Symphony Chorus.  Barshinger Center on the campus of Franklin and Marshall College.
URL:https://terryklinefelter.com/event/carl-orffs-carmina-burana/
END:VEVENT
BEGIN:VEVENT
DTSTART;TZID=UTC:20240426T180000
DTEND;TZID=UTC:20240426T210000
DTSTAMP:20260425T105152
CREATED:20240321T055614Z
LAST-MODIFIED:20240321T055614Z
UID:1390-1714154400-1714165200@terryklinefelter.com
SUMMARY:Solo Piano at Crown Tavern
DESCRIPTION:Great new venue in Glen Mills\, PA
URL:https://terryklinefelter.com/event/solo-piano-at-crown-tavern-20/
END:VEVENT
END:VCALENDAR