BEGIN:VCALENDAR
VERSION:2.0
PRODID:-//Terry Klinefelter Music - ECPv6.13.2.1//NONSGML v1.0//EN
CALSCALE:GREGORIAN
METHOD:PUBLISH
X-WR-CALNAME:Terry Klinefelter Music
X-ORIGINAL-URL:https://terryklinefelter.com
X-WR-CALDESC:Events for Terry Klinefelter Music
REFRESH-INTERVAL;VALUE=DURATION:PT1H
X-Robots-Tag:noindex
X-PUBLISHED-TTL:PT1H
BEGIN:VTIMEZONE
TZID:UTC
BEGIN:STANDARD
TZOFFSETFROM:+0000
TZOFFSETTO:+0000
TZNAME:UTC
DTSTART:20250101T000000
END:STANDARD
END:VTIMEZONE
BEGIN:VEVENT
DTSTART;TZID=UTC:20260429T120000
DTEND;TZID=UTC:20260517T120000
DTSTAMP:20260423T221100
CREATED:20260207T072834Z
LAST-MODIFIED:20260207T072836Z
UID:2051-1777464000-1779019200@terryklinefelter.com
SUMMARY:Ain't Misbehavin'
DESCRIPTION:I will be pianist/conductor at Theatre Horizon for this Tony Award-winning celebration of the music of Fats Waller.
URL:https://terryklinefelter.com/event/aint-misbehavin/
ATTACH;FMTTYPE=image/png:https://terryklinefelter.com/wp-content/uploads/2026/02/TH_Aint_Misbehavin__1080x1350InstaGraphic.png
END:VEVENT
BEGIN:VEVENT
DTSTART;TZID=UTC:20260423T200000
DTEND;TZID=UTC:20260423T230000
DTSTAMP:20260423T221100
CREATED:20260409T180259Z
LAST-MODIFIED:20260409T180300Z
UID:2086-1776974400-1776985200@terryklinefelter.com
SUMMARY:Slow Hand
DESCRIPTION:Jazz Quartet feat. John Swana\, EVI/trombone\, Joe Anderson\, EVI/trumpet\, Paul Klinefelter\, bass\, Glenn Ferracone\, drums.
URL:https://terryklinefelter.com/event/slow-hand-30/
ATTACH;FMTTYPE=image/png:https://terryklinefelter.com/wp-content/uploads/2025/07/55066b_cd61603203fe4f9982f36065ea88d1d7mv2.png
END:VEVENT
BEGIN:VEVENT
DTSTART;TZID=UTC:20260417T190000
DTEND;TZID=UTC:20260417T200000
DTSTAMP:20260423T221100
CREATED:20260115T184524Z
LAST-MODIFIED:20260207T073655Z
UID:2030-1776452400-1776456000@terryklinefelter.com
SUMMARY:Recital w/Soprano Anne Sciolla
DESCRIPTION:Calvary Presbyterian Church\, Wyncote\, PA. World Premiere of David Bennett Thomas’ gorgeous new song cycle\, Poetess\, with soprano\, Anne Sciolla. Will also feature Samuel Barber’s spiritual and uplifting Hermit Songs.
URL:https://terryklinefelter.com/event/recital-w-soprano-anne-sciolla/
ATTACH;FMTTYPE=image/jpeg:https://terryklinefelter.com/wp-content/uploads/2026/01/IMG_6077-3-scaled.jpg
END:VEVENT
BEGIN:VEVENT
DTSTART;TZID=UTC:20260410T180000
DTEND;TZID=UTC:20260410T210000
DTSTAMP:20260423T221100
CREATED:20260409T180144Z
LAST-MODIFIED:20260409T180145Z
UID:2084-1775844000-1775854800@terryklinefelter.com
SUMMARY:Solo Piano at Will and Bill's Brewery
DESCRIPTION:Great new venue in Berwyn\, PA\, hosting jazz piano. Please come out and support live music!
URL:https://terryklinefelter.com/event/solo-piano-at-will-and-bills-brewery-43/
ATTACH;FMTTYPE=image/jpeg:https://terryklinefelter.com/wp-content/uploads/2025/07/fireplaces-and-group.jpg
END:VEVENT
BEGIN:VEVENT
DTSTART;TZID=UTC:20260328T183000
DTEND;TZID=UTC:20260328T213000
DTSTAMP:20260423T221100
CREATED:20260122T074031Z
LAST-MODIFIED:20260129T071916Z
UID:2045-1774722600-1774733400@terryklinefelter.com
SUMMARY:Bowman's Tavern w/vocalist Jill Salkin
DESCRIPTION:Great restaurant in New Hope! Nice bar scene with a lovely Yahama grand. I’ll be accompanying talented vocalist Jill Salkin.
URL:https://terryklinefelter.com/event/bowmans-tavern-w-vocalist-jill-salkin-copy/
ATTACH;FMTTYPE=image/jpeg:https://terryklinefelter.com/wp-content/uploads/2025/04/jill.jpg
END:VEVENT
BEGIN:VEVENT
DTSTART;TZID=UTC:20260327T210000
DTEND;TZID=UTC:20260327T210000
DTSTAMP:20260423T221100
CREATED:20260313T180351Z
LAST-MODIFIED:20260313T180352Z
UID:2082-1774645200-1774645200@terryklinefelter.com
SUMMARY:Hummingbird to Mars w/Massimo Brutto
DESCRIPTION:Fantastic speakeasy in Wilmington! w/Paul Klinefelter\, bass.
URL:https://terryklinefelter.com/event/hummingbird-to-mars-w-massimo-brutto-8/
ATTACH;FMTTYPE=image/jpeg:https://terryklinefelter.com/wp-content/uploads/2025/09/IMG_4087-scaled.jpg
END:VEVENT
BEGIN:VEVENT
DTSTART;TZID=UTC:20260326T200000
DTEND;TZID=UTC:20260326T230000
DTSTAMP:20260423T221100
CREATED:20251128T085444Z
LAST-MODIFIED:20260207T074606Z
UID:2003-1774555200-1774566000@terryklinefelter.com
SUMMARY:Slow Hand
DESCRIPTION:Jazz Quartet feat. John Swana\, EVI/trombone\, Joe Anderson\, EVI/trumpet\, Paul Klinefelter\, bass\, Glenn Ferracone\, drums.
URL:https://terryklinefelter.com/event/slow-hand-29/
ATTACH;FMTTYPE=image/png:https://terryklinefelter.com/wp-content/uploads/2025/07/55066b_cd61603203fe4f9982f36065ea88d1d7mv2.png
END:VEVENT
BEGIN:VEVENT
DTSTART;TZID=UTC:20260228T190000
DTEND;TZID=UTC:20260228T190000
DTSTAMP:20260423T221100
CREATED:20260207T074114Z
LAST-MODIFIED:20260207T074115Z
UID:2059-1772305200-1772305200@terryklinefelter.com
SUMMARY:Mike Kaplan's Trombone Incursion
DESCRIPTION:Exciting and creative original compositions and arrangements for trombones and rhythm section\, Calvary Presbyterian Church in Wyncote\, PA
URL:https://terryklinefelter.com/event/mike-kaplans-trombone-incursion/
ATTACH;FMTTYPE=image/jpeg:https://terryklinefelter.com/wp-content/uploads/2026/02/7261168.jpg
END:VEVENT
BEGIN:VEVENT
DTSTART;TZID=UTC:20260227T190000
DTEND;TZID=UTC:20260227T230000
DTSTAMP:20260423T221100
CREATED:20260210T193705Z
LAST-MODIFIED:20260210T193705Z
UID:2065-1772218800-1772233200@terryklinefelter.com
SUMMARY:Midnight and the Wicked w/Massimo Brutto
DESCRIPTION:Please join us at this fabulous venue featuring amazing cocktails and a speakeasy vibe right in the heart of Center City.
URL:https://terryklinefelter.com/event/midnight-and-the-wicked-w-massimo-brutto-2/
ATTACH;FMTTYPE=image/jpeg:https://terryklinefelter.com/wp-content/uploads/2025/12/258s.jpg
END:VEVENT
BEGIN:VEVENT
DTSTART;TZID=UTC:20260226T200000
DTEND;TZID=UTC:20260226T230000
DTSTAMP:20260423T221100
CREATED:20260129T072034Z
LAST-MODIFIED:20260207T074513Z
UID:2049-1772136000-1772146800@terryklinefelter.com
SUMMARY:Slow Hand
DESCRIPTION:Jazz Quintet feat. John Swana\, EVI/trombone\, Joe Anderson\, EVI/trumpet\, Paul Klinefelter\, bass\, Glenn Ferracone\, drums.
URL:https://terryklinefelter.com/event/slow-hand-27/
ATTACH;FMTTYPE=image/png:https://terryklinefelter.com/wp-content/uploads/2025/07/55066b_cd61603203fe4f9982f36065ea88d1d7mv2.png
END:VEVENT
BEGIN:VEVENT
DTSTART;TZID=UTC:20260221T180000
DTEND;TZID=UTC:20260221T210000
DTSTAMP:20260423T221100
CREATED:20260207T075000Z
LAST-MODIFIED:20260207T075001Z
UID:2063-1771696800-1771707600@terryklinefelter.com
SUMMARY:Solo Piano at Will and Bill's Brewery
DESCRIPTION:Great new venue in Berwyn\, PA\, hosting jazz piano. Please come out and support live music!
URL:https://terryklinefelter.com/event/solo-piano-at-will-and-bills-brewery-42/
ATTACH;FMTTYPE=image/jpeg:https://terryklinefelter.com/wp-content/uploads/2025/07/fireplaces-and-group.jpg
END:VEVENT
BEGIN:VEVENT
DTSTART;TZID=UTC:20260215T160000
DTEND;TZID=UTC:20260215T160000
DTSTAMP:20260423T221100
CREATED:20260115T185002Z
LAST-MODIFIED:20260207T074812Z
UID:2033-1771171200-1771171200@terryklinefelter.com
SUMMARY:Music Transforms Benefit Concert
DESCRIPTION:Wayne Presbyterian Church. Tristen Krueger Jazz Quartet.
URL:https://terryklinefelter.com/event/music-transforms-benefit-concert/
ATTACH;FMTTYPE=image/jpeg:https://terryklinefelter.com/wp-content/uploads/2026/01/o.jpg
END:VEVENT
BEGIN:VEVENT
DTSTART;TZID=UTC:20260214T200000
DTEND;TZID=UTC:20260214T213000
DTSTAMP:20260423T221100
CREATED:20260210T194259Z
LAST-MODIFIED:20260210T194259Z
UID:2070-1771099200-1771104600@terryklinefelter.com
SUMMARY:Down with Love\, feat. Augustine Mercante
DESCRIPTION:A Valentine’s Day concert in beautiful historic New Castle\, DE.
URL:https://terryklinefelter.com/event/down-with-love-feat-augustine-mercante-2/
ATTACH;FMTTYPE=image/jpeg:https://terryklinefelter.com/wp-content/uploads/2026/02/632507333_10118434481558220_4361976707782822047_n.jpg
END:VEVENT
BEGIN:VEVENT
DTSTART;TZID=UTC:20260213T200000
DTEND;TZID=UTC:20260213T213000
DTSTAMP:20260423T221100
CREATED:20260210T194213Z
LAST-MODIFIED:20260210T194213Z
UID:2067-1771012800-1771018200@terryklinefelter.com
SUMMARY:Down with Love\, feat. Augustine Mercante
DESCRIPTION:A Valentine’s Day concert in beautiful historic New Castle\, DE.
URL:https://terryklinefelter.com/event/down-with-love-feat-augustine-mercante/
ATTACH;FMTTYPE=image/jpeg:https://terryklinefelter.com/wp-content/uploads/2026/02/632507333_10118434481558220_4361976707782822047_n.jpg
END:VEVENT
BEGIN:VEVENT
DTSTART;TZID=UTC:20260131T180000
DTEND;TZID=UTC:20260131T210000
DTSTAMP:20260423T221100
CREATED:20260108T064515Z
LAST-MODIFIED:20260108T064516Z
UID:2023-1769882400-1769893200@terryklinefelter.com
SUMMARY:Solo Piano at Will and Bill's Brewery
DESCRIPTION:Great new venue in Berwyn\, PA\, hosting jazz piano. Please come out and support live music!
URL:https://terryklinefelter.com/event/solo-piano-at-will-and-bills-brewery-41/
ATTACH;FMTTYPE=image/jpeg:https://terryklinefelter.com/wp-content/uploads/2025/07/fireplaces-and-group.jpg
END:VEVENT
BEGIN:VEVENT
DTSTART;TZID=UTC:20260122T200000
DTEND;TZID=UTC:20260122T230000
DTSTAMP:20260423T221100
CREATED:20251128T085003Z
LAST-MODIFIED:20260108T064623Z
UID:1999-1769112000-1769122800@terryklinefelter.com
SUMMARY:Slow Hand
DESCRIPTION:Jazz Quintet feat. John Swana\, EVI/trombone\, Joe Anderson\, EVI/trumpet\, Paul Klinefelter\, bass\, Glenn Ferracone\, drums.
URL:https://terryklinefelter.com/event/slow-hand-28/
ATTACH;FMTTYPE=image/png:https://terryklinefelter.com/wp-content/uploads/2025/07/55066b_cd61603203fe4f9982f36065ea88d1d7mv2.png
END:VEVENT
BEGIN:VEVENT
DTSTART;TZID=UTC:20260116T180000
DTEND;TZID=UTC:20260116T210000
DTSTAMP:20260423T221100
CREATED:20260108T064430Z
LAST-MODIFIED:20260108T064450Z
UID:2024-1768586400-1768597200@terryklinefelter.com
SUMMARY:Solo Piano at Will and Bill's Brewery
DESCRIPTION:Great new venue in Berwyn\, PA\, hosting jazz piano. Please come out and support live music!
URL:https://terryklinefelter.com/event/solo-piano-at-will-and-bills-brewery-copy-6/
ATTACH;FMTTYPE=image/jpeg:https://terryklinefelter.com/wp-content/uploads/2025/07/fireplaces-and-group.jpg
END:VEVENT
BEGIN:VEVENT
DTSTART;TZID=UTC:20251231T200000
DTEND;TZID=UTC:20251231T210000
DTSTAMP:20260423T221100
CREATED:20251016T063212Z
LAST-MODIFIED:20251129T082059Z
UID:1957-1767211200-1767214800@terryklinefelter.com
SUMMARY:Lederach Corner Store Piano Bar w/Massimo Brutto
DESCRIPTION:Ring in the New Year with a jazz trio featuring the Great American Songbook\, favorites from the Rat Pack\, and more! w/Paul Klinefelter on bass.
URL:https://terryklinefelter.com/event/lederach-corner-store-piano-bar-w-massimo-brutto-7/
ATTACH;FMTTYPE=image/png:https://terryklinefelter.com/wp-content/uploads/2025/03/5q2ddava.png
END:VEVENT
BEGIN:VEVENT
DTSTART;TZID=UTC:20251227T180000
DTEND;TZID=UTC:20251227T210000
DTSTAMP:20260423T221100
CREATED:20251128T084441Z
LAST-MODIFIED:20251128T084441Z
UID:1995-1766858400-1766869200@terryklinefelter.com
SUMMARY:Solo Piano at Will and Bill's Brewery
DESCRIPTION:Great new venue in Berwyn\, PA\, hosting jazz piano. Please come out and support live music!
URL:https://terryklinefelter.com/event/solo-piano-at-will-and-bills-brewery-40/
ATTACH;FMTTYPE=image/jpeg:https://terryklinefelter.com/wp-content/uploads/2025/07/fireplaces-and-group.jpg
END:VEVENT
BEGIN:VEVENT
DTSTART;TZID=UTC:20251226T190000
DTEND;TZID=UTC:20251226T230000
DTSTAMP:20260423T221100
CREATED:20251211T085321Z
LAST-MODIFIED:20251211T085322Z
UID:2013-1766775600-1766790000@terryklinefelter.com
SUMMARY:Midnight and the Wicked w/Massimo Brutto
DESCRIPTION:Please join us at this fabulous venue featuring amazing cocktails and a speakeasy vibe right in the heart of Center City.
URL:https://terryklinefelter.com/event/midnight-and-the-wicked-w-massimo-brutto/
ATTACH;FMTTYPE=image/jpeg:https://terryklinefelter.com/wp-content/uploads/2025/12/258s.jpg
END:VEVENT
BEGIN:VEVENT
DTSTART;TZID=UTC:20251214T143000
DTEND;TZID=UTC:20251214T143000
DTSTAMP:20260423T221100
CREATED:20251016T064229Z
LAST-MODIFIED:20251016T064230Z
UID:1962-1765722600-1765722600@terryklinefelter.com
SUMMARY:Good Witch/Bad Witch with the PA Philharmonic
DESCRIPTION:Celebrate the holidays with Glinda and Elphaba from the Land of Oz in a concert of diva showstoppers. Zlock Performing Arts Center\, Bucks County Community College
URL:https://terryklinefelter.com/event/good-witch-bad-witch-with-the-pa-philharmonic-2/
ATTACH;FMTTYPE=image/webp:https://terryklinefelter.com/wp-content/uploads/2025/10/GWBWFinal1.webp
END:VEVENT
BEGIN:VEVENT
DTSTART;TZID=UTC:20251213T190000
DTEND;TZID=UTC:20251213T220000
DTSTAMP:20260423T221100
CREATED:20251128T084608Z
LAST-MODIFIED:20251128T084609Z
UID:1997-1765652400-1765663200@terryklinefelter.com
SUMMARY:Bowman's Tavern w/vocalist Maci Miller
DESCRIPTION:Great restaurant in New Hope! Nice bar scene with a lovely Yahama grand. I’ll be accompanying talented vocalist Maci Miller.
URL:https://terryklinefelter.com/event/bowmans-tavern-w-vocalist-maci-miller-2/
ATTACH;FMTTYPE=image/jpeg:https://terryklinefelter.com/wp-content/uploads/2025/10/Maci-Miller-768x762-1.jpg
END:VEVENT
BEGIN:VEVENT
DTSTART;TZID=UTC:20251212T180000
DTEND;TZID=UTC:20251212T180000
DTSTAMP:20260423T221100
CREATED:20251211T090149Z
LAST-MODIFIED:20251211T090150Z
UID:2019-1765562400-1765562400@terryklinefelter.com
SUMMARY:Winter Lights w/countertenor Gus Mercante
DESCRIPTION:Holiday cheer with classic and new favorites with sets at 7 and 8 p.m.
URL:https://terryklinefelter.com/event/winter-lights-w-countertenor-gus-mercante/
ATTACH;FMTTYPE=image/jpeg:https://terryklinefelter.com/wp-content/uploads/2025/12/581044416_1312601477549476_1941980883191645626_n.jpg
END:VEVENT
BEGIN:VEVENT
DTSTART;TZID=UTC:20251210T190000
DTEND;TZID=UTC:20251210T210000
DTSTAMP:20260423T221100
CREATED:20250729T054209Z
LAST-MODIFIED:20251113T190334Z
UID:1921-1765393200-1765400400@terryklinefelter.com
SUMMARY:Celtic Woman Symphony Christmas Tour
DESCRIPTION:“This performance will enthrall audiences of all ages” – The Washington Post \n\n\n\nLuhrs Performing Arts Center\, Shippensburg\, PA
URL:https://terryklinefelter.com/event/celtic-woman-symphony-christmas-tour/
ATTACH;FMTTYPE=image/png:https://terryklinefelter.com/wp-content/uploads/2025/07/ai-generated-9134564_1280.png
END:VEVENT
BEGIN:VEVENT
DTSTART;TZID=UTC:20251207T143000
DTEND;TZID=UTC:20251207T143000
DTSTAMP:20260423T221100
CREATED:20251016T064011Z
LAST-MODIFIED:20251016T064012Z
UID:1959-1765117800-1765117800@terryklinefelter.com
SUMMARY:Good Witch/Bad Witch with the PA Philharmonic
DESCRIPTION:Celebrate the holidays with Glinda and Elphaba from the Land of Oz in a concert of diva showstoppers. Phoenixville Middle School
URL:https://terryklinefelter.com/event/good-witch-bad-witch-with-the-pa-philharmonic/
ATTACH;FMTTYPE=image/webp:https://terryklinefelter.com/wp-content/uploads/2025/10/GWBWFinal1.webp
END:VEVENT
BEGIN:VEVENT
DTSTART;TZID=UTC:20251206T140000
DTEND;TZID=UTC:20251206T140000
DTSTAMP:20260423T221100
CREATED:20251129T080958Z
LAST-MODIFIED:20251129T081251Z
UID:2005-1765029600-1765029600@terryklinefelter.com
SUMMARY:Roundtable Productions Winter Concert
DESCRIPTION:Moorestown Community House.
URL:https://terryklinefelter.com/event/roundtable-productions-winter-concert/
ATTACH;FMTTYPE=image/jpeg:https://terryklinefelter.com/wp-content/uploads/2025/11/586825857_10228508292560136_4358437593659432319_n.jpg
END:VEVENT
BEGIN:VEVENT
DTSTART;TZID=UTC:20251129T173000
DTEND;TZID=UTC:20251129T203000
DTSTAMP:20260423T221100
CREATED:20251016T064525Z
LAST-MODIFIED:20251016T064526Z
UID:1964-1764437400-1764448200@terryklinefelter.com
SUMMARY:Lederach Corner Store Piano Bar w/Massimo Brutto
DESCRIPTION:Great venue featuring live jazz! w/Paul Klinefelter on bass.
URL:https://terryklinefelter.com/event/lederach-corner-store-piano-bar-w-massimo-brutto-8/
ATTACH;FMTTYPE=image/png:https://terryklinefelter.com/wp-content/uploads/2025/03/5q2ddava.png
END:VEVENT
BEGIN:VEVENT
DTSTART;TZID=UTC:20251122T080000
DTEND;TZID=UTC:20251122T170000
DTSTAMP:20260423T221100
CREATED:20251108T075228Z
LAST-MODIFIED:20251108T080518Z
UID:1987-1763798400-1763830800@terryklinefelter.com
SUMMARY:Adjudicating for Lehigh Valley Music Teachers-Achievement Awards Auditions
DESCRIPTION:
URL:https://terryklinefelter.com/event/adjudicating-for-lehigh-valley-music-teachers-achievement-awards-auditions/
ATTACH;FMTTYPE=image/avif:https://terryklinefelter.com/wp-content/uploads/2025/11/moravian-scaled.avif
END:VEVENT
BEGIN:VEVENT
DTSTART;TZID=UTC:20251121T210000
DTEND;TZID=UTC:20251121T210000
DTSTAMP:20260423T221100
CREATED:20251108T074545Z
LAST-MODIFIED:20251108T074545Z
UID:1985-1763758800-1763758800@terryklinefelter.com
SUMMARY:Hummingbird to Mars w/Massimo Brutto
DESCRIPTION:Fantastic speakeasy in Wilmington! w/Paul Klinefelter\, bass.
URL:https://terryklinefelter.com/event/hummingbird-to-mars-w-massimo-brutto-7/
ATTACH;FMTTYPE=image/jpeg:https://terryklinefelter.com/wp-content/uploads/2025/09/IMG_4087-scaled.jpg
END:VEVENT
BEGIN:VEVENT
DTSTART;TZID=UTC:20251107T180000
DTEND;TZID=UTC:20251107T210000
DTSTAMP:20260423T221100
CREATED:20251108T074331Z
LAST-MODIFIED:20251108T074331Z
UID:1983-1762538400-1762549200@terryklinefelter.com
SUMMARY:Solo Piano at Will and Bill's Brewery
DESCRIPTION:Great new venue in Berwyn\, PA\, hosting jazz piano. Please come out and support live music!
URL:https://terryklinefelter.com/event/solo-piano-at-will-and-bills-brewery-39/
ATTACH;FMTTYPE=image/jpeg:https://terryklinefelter.com/wp-content/uploads/2025/07/fireplaces-and-group.jpg
END:VEVENT
END:VCALENDAR