BEGIN:VCALENDAR
VERSION:2.0
PRODID:-//Terry Klinefelter Music - ECPv6.13.2.1//NONSGML v1.0//EN
CALSCALE:GREGORIAN
METHOD:PUBLISH
X-ORIGINAL-URL:https://terryklinefelter.com
X-WR-CALDESC:Events for Terry Klinefelter Music
REFRESH-INTERVAL;VALUE=DURATION:PT1H
X-Robots-Tag:noindex
X-PUBLISHED-TTL:PT1H
BEGIN:VTIMEZONE
TZID:UTC
BEGIN:STANDARD
TZOFFSETFROM:+0000
TZOFFSETTO:+0000
TZNAME:UTC
DTSTART:20250101T000000
END:STANDARD
END:VTIMEZONE
BEGIN:VEVENT
DTSTART;TZID=UTC:20250602T190000
DTEND;TZID=UTC:20250602T220000
DTSTAMP:20260424T010709
CREATED:20250602T173804Z
LAST-MODIFIED:20250602T173950Z
UID:1834-1748890800-1748901600@terryklinefelter.com
SUMMARY:Black Squirrel
DESCRIPTION:Jam session w/Christian Klinefelter\, bass\, Kareem Thompson\, drummer and host.
URL:https://terryklinefelter.com/event/black-squirrel-8/
ATTACH;FMTTYPE=image/jpeg:https://terryklinefelter.com/wp-content/uploads/2025/06/blacksquirrelinterior-1.jpg
END:VEVENT
END:VCALENDAR