BEGIN:VCALENDAR
VERSION:2.0
PRODID:-//Terry Klinefelter Music - ECPv6.13.2.1//NONSGML v1.0//EN
CALSCALE:GREGORIAN
METHOD:PUBLISH
X-WR-CALNAME:Terry Klinefelter Music
X-ORIGINAL-URL:https://terryklinefelter.com
X-WR-CALDESC:Events for Terry Klinefelter Music
REFRESH-INTERVAL;VALUE=DURATION:PT1H
X-Robots-Tag:noindex
X-PUBLISHED-TTL:PT1H
BEGIN:VTIMEZONE
TZID:UTC
BEGIN:STANDARD
TZOFFSETFROM:+0000
TZOFFSETTO:+0000
TZNAME:UTC
DTSTART:20240101T000000
END:STANDARD
END:VTIMEZONE
BEGIN:VEVENT
DTSTART;TZID=UTC:20241214T140000
DTEND;TZID=UTC:20241214T140000
DTSTAMP:20260424T091348
CREATED:20241021T053310Z
LAST-MODIFIED:20241021T053311Z
UID:1681-1734184800-1734184800@terryklinefelter.com
SUMMARY:PA Philharmonic
DESCRIPTION:North Penn High School. Holiday favorites and the music of John Williams.
URL:https://terryklinefelter.com/event/pa-philharmonic-2/
END:VEVENT
END:VCALENDAR