BEGIN:VCALENDAR
VERSION:2.0
PRODID:-//Terry Klinefelter Music - ECPv6.13.2.1//NONSGML v1.0//EN
CALSCALE:GREGORIAN
METHOD:PUBLISH
X-ORIGINAL-URL:https://terryklinefelter.com
X-WR-CALDESC:Events for Terry Klinefelter Music
REFRESH-INTERVAL;VALUE=DURATION:PT1H
X-Robots-Tag:noindex
X-PUBLISHED-TTL:PT1H
BEGIN:VTIMEZONE
TZID:UTC
BEGIN:STANDARD
TZOFFSETFROM:+0000
TZOFFSETTO:+0000
TZNAME:UTC
DTSTART:20240101T000000
END:STANDARD
END:VTIMEZONE
BEGIN:VEVENT
DTSTART;TZID=UTC:20241110T180000
DTEND;TZID=UTC:20241110T180000
DTSTAMP:20260424T103930
CREATED:20240904T044906Z
LAST-MODIFIED:20240906T133125Z
UID:1637-1731261600-1731261600@terryklinefelter.com
SUMMARY:Kara Smith Vocal Pedagogy Graduate Recital
DESCRIPTION:6:00 p.m. St. Paul’s Episcopal Church. Doylestown\, PA. Works by Frances Poulenc\, Lori Laitman; selections from musical theatre and the Great American Songbook.
URL:https://terryklinefelter.com/event/kara-smith-vocal-pedagogy-graduate-recital/
END:VEVENT
END:VCALENDAR