BEGIN:VCALENDAR
VERSION:2.0
PRODID:-//Terry Klinefelter Music - ECPv6.13.2.1//NONSGML v1.0//EN
CALSCALE:GREGORIAN
METHOD:PUBLISH
X-WR-CALNAME:Terry Klinefelter Music
X-ORIGINAL-URL:https://terryklinefelter.com
X-WR-CALDESC:Events for Terry Klinefelter Music
REFRESH-INTERVAL;VALUE=DURATION:PT1H
X-Robots-Tag:noindex
X-PUBLISHED-TTL:PT1H
BEGIN:VTIMEZONE
TZID:UTC
BEGIN:STANDARD
TZOFFSETFROM:+0000
TZOFFSETTO:+0000
TZNAME:UTC
DTSTART:20240101T000000
END:STANDARD
END:VTIMEZONE
BEGIN:VEVENT
DTSTART;TZID=UTC:20241028T190000
DTEND;TZID=UTC:20241028T200000
DTSTAMP:20260424T103907
CREATED:20240826T062230Z
LAST-MODIFIED:20240826T062359Z
UID:1625-1730142000-1730145600@terryklinefelter.com
SUMMARY:Sirens\, Songbirds\, and Showgirls
DESCRIPTION:A Night of Cabaret with soprano\, Emily Byrne. An encore performance of this great show in Morristown\, NJ! (Address details TBA)
URL:https://terryklinefelter.com/event/sirens-songbirds-and-showgirls-2/
END:VEVENT
END:VCALENDAR