BEGIN:VCALENDAR
VERSION:2.0
PRODID:-//Terry Klinefelter Music - ECPv6.13.2.1//NONSGML v1.0//EN
CALSCALE:GREGORIAN
METHOD:PUBLISH
X-WR-CALNAME:Terry Klinefelter Music
X-ORIGINAL-URL:https://terryklinefelter.com
X-WR-CALDESC:Events for Terry Klinefelter Music
REFRESH-INTERVAL;VALUE=DURATION:PT1H
X-Robots-Tag:noindex
X-PUBLISHED-TTL:PT1H
BEGIN:VTIMEZONE
TZID:UTC
BEGIN:STANDARD
TZOFFSETFROM:+0000
TZOFFSETTO:+0000
TZNAME:UTC
DTSTART:20240101T000000
END:STANDARD
END:VTIMEZONE
BEGIN:VEVENT
DTSTART;TZID=UTC:20240907T123000
DTEND;TZID=UTC:20240907T153000
DTSTAMP:20260424T133340
CREATED:20240728T013710Z
LAST-MODIFIED:20240804T075632Z
UID:1590-1725712200-1725723000@terryklinefelter.com
SUMMARY:Latin Jazz Concert
DESCRIPTION:w/Jerry Tanenbaum and friends. Maplewood Mall in Germantown.
URL:https://terryklinefelter.com/event/latin-jazz-concert-2/
END:VEVENT
END:VCALENDAR