BEGIN:VCALENDAR
VERSION:2.0
PRODID:-//Terry Klinefelter Music - ECPv6.13.2.1//NONSGML v1.0//EN
CALSCALE:GREGORIAN
METHOD:PUBLISH
X-ORIGINAL-URL:https://terryklinefelter.com
X-WR-CALDESC:Events for Terry Klinefelter Music
REFRESH-INTERVAL;VALUE=DURATION:PT1H
X-Robots-Tag:noindex
X-PUBLISHED-TTL:PT1H
BEGIN:VTIMEZONE
TZID:UTC
BEGIN:STANDARD
TZOFFSETFROM:+0000
TZOFFSETTO:+0000
TZNAME:UTC
DTSTART:20240101T000000
END:STANDARD
END:VTIMEZONE
BEGIN:VEVENT
DTSTART;TZID=UTC:20240902T183000
DTEND;TZID=UTC:20240902T213000
DTSTAMP:20260424T133336
CREATED:20240724T044613Z
LAST-MODIFIED:20240904T044454Z
UID:1575-1725301800-1725312600@terryklinefelter.com
SUMMARY:Black Squirrel
DESCRIPTION:Jazz Trio w/Richard Hill\, Jr.\, bass\, and Lionel Forrester\, drums.
URL:https://terryklinefelter.com/event/black-squirrel-5/
END:VEVENT
END:VCALENDAR