BEGIN:VCALENDAR
VERSION:2.0
PRODID:-//Terry Klinefelter Music - ECPv6.13.2.1//NONSGML v1.0//EN
CALSCALE:GREGORIAN
METHOD:PUBLISH
X-ORIGINAL-URL:https://terryklinefelter.com
X-WR-CALDESC:Events for Terry Klinefelter Music
REFRESH-INTERVAL;VALUE=DURATION:PT1H
X-Robots-Tag:noindex
X-PUBLISHED-TTL:PT1H
BEGIN:VTIMEZONE
TZID:UTC
BEGIN:STANDARD
TZOFFSETFROM:+0000
TZOFFSETTO:+0000
TZNAME:UTC
DTSTART:20240101T000000
END:STANDARD
END:VTIMEZONE
BEGIN:VEVENT
DTSTART;TZID=UTC:20240724T180000
DTEND;TZID=UTC:20240724T210000
DTSTAMP:20260424T165000
CREATED:20240327T154925Z
LAST-MODIFIED:20240327T154926Z
UID:1406-1721844000-1721854800@terryklinefelter.com
SUMMARY:Jazz at Settler's Inn
DESCRIPTION:Great venue in the Poconos with jazz on the outdoor patio. w/Rick Lawn\, sax; Paul Klinefelter\, bass.
URL:https://terryklinefelter.com/event/jazz-at-settlers-inn/
END:VEVENT
END:VCALENDAR