BEGIN:VCALENDAR
VERSION:2.0
PRODID:-//Terry Klinefelter Music - ECPv6.13.2.1//NONSGML v1.0//EN
CALSCALE:GREGORIAN
METHOD:PUBLISH
X-WR-CALNAME:Terry Klinefelter Music
X-ORIGINAL-URL:https://terryklinefelter.com
X-WR-CALDESC:Events for Terry Klinefelter Music
REFRESH-INTERVAL;VALUE=DURATION:PT1H
X-Robots-Tag:noindex
X-PUBLISHED-TTL:PT1H
BEGIN:VTIMEZONE
TZID:UTC
BEGIN:STANDARD
TZOFFSETFROM:+0000
TZOFFSETTO:+0000
TZNAME:UTC
DTSTART:20240101T000000
END:STANDARD
END:VTIMEZONE
BEGIN:VEVENT
DTSTART;TZID=UTC:20240720T080000
DTEND;TZID=UTC:20240720T170000
DTSTAMP:20260424T175855
CREATED:20240501T074150Z
LAST-MODIFIED:20240501T074151Z
UID:1489-1721462400-1721494800@terryklinefelter.com
SUMMARY:Shippensburg Summer Festival
DESCRIPTION:E.T. the Extra-Terrestial\, film with live music performed by the Shippensburg Summer Festival Orchestra.
URL:https://terryklinefelter.com/event/shippensburg-summer-festival-2/
END:VEVENT
END:VCALENDAR