BEGIN:VCALENDAR
VERSION:2.0
PRODID:-//Terry Klinefelter Music - ECPv6.13.2.1//NONSGML v1.0//EN
CALSCALE:GREGORIAN
METHOD:PUBLISH
X-WR-CALNAME:Terry Klinefelter Music
X-ORIGINAL-URL:https://terryklinefelter.com
X-WR-CALDESC:Events for Terry Klinefelter Music
REFRESH-INTERVAL;VALUE=DURATION:PT1H
X-Robots-Tag:noindex
X-PUBLISHED-TTL:PT1H
BEGIN:VTIMEZONE
TZID:UTC
BEGIN:STANDARD
TZOFFSETFROM:+0000
TZOFFSETTO:+0000
TZNAME:UTC
DTSTART:20240101T000000
END:STANDARD
END:VTIMEZONE
BEGIN:VEVENT
DTSTART;TZID=UTC:20240718T080000
DTEND;TZID=UTC:20240718T170000
DTSTAMP:20260424T175910
CREATED:20240501T073835Z
LAST-MODIFIED:20240501T073835Z
UID:1487-1721289600-1721322000@terryklinefelter.com
SUMMARY:Shippensburg Summer Festival
DESCRIPTION:“A Night at the Oscars” with the Shippensburg Summer Festival Orchestra.
URL:https://terryklinefelter.com/event/shippensburg-summer-festival/
END:VEVENT
END:VCALENDAR