BEGIN:VCALENDAR
VERSION:2.0
PRODID:-//Terry Klinefelter Music - ECPv6.13.2.1//NONSGML v1.0//EN
CALSCALE:GREGORIAN
METHOD:PUBLISH
X-ORIGINAL-URL:https://terryklinefelter.com
X-WR-CALDESC:Events for Terry Klinefelter Music
REFRESH-INTERVAL;VALUE=DURATION:PT1H
X-Robots-Tag:noindex
X-PUBLISHED-TTL:PT1H
BEGIN:VTIMEZONE
TZID:UTC
BEGIN:STANDARD
TZOFFSETFROM:+0000
TZOFFSETTO:+0000
TZNAME:UTC
DTSTART:20240101T000000
END:STANDARD
END:VTIMEZONE
BEGIN:VEVENT
DTSTART;TZID=UTC:20240714T110000
DTEND;TZID=UTC:20240714T140000
DTSTAMP:20260424T165005
CREATED:20240622T070157Z
LAST-MODIFIED:20240711T042210Z
UID:1540-1720954800-1720965600@terryklinefelter.com
SUMMARY:Live Music @ Dog and Bull Brew
DESCRIPTION:Great venue with fabulous food and live music. Feat. Keli Vale on vocals!
URL:https://terryklinefelter.com/event/live-music-dog-and-bull-brew/
END:VEVENT
END:VCALENDAR