BEGIN:VCALENDAR
VERSION:2.0
PRODID:-//Terry Klinefelter Music - ECPv6.13.2.1//NONSGML v1.0//EN
CALSCALE:GREGORIAN
METHOD:PUBLISH
X-WR-CALNAME:Terry Klinefelter Music
X-ORIGINAL-URL:https://terryklinefelter.com
X-WR-CALDESC:Events for Terry Klinefelter Music
REFRESH-INTERVAL;VALUE=DURATION:PT1H
X-Robots-Tag:noindex
X-PUBLISHED-TTL:PT1H
BEGIN:VTIMEZONE
TZID:UTC
BEGIN:STANDARD
TZOFFSETFROM:+0000
TZOFFSETTO:+0000
TZNAME:UTC
DTSTART:20240101T000000
END:STANDARD
END:VTIMEZONE
BEGIN:VEVENT
DTSTART;TZID=UTC:20240618T180000
DTEND;TZID=UTC:20240618T200000
DTSTAMP:20260424T191203
CREATED:20240613T045234Z
LAST-MODIFIED:20240613T045235Z
UID:1533-1718733600-1718740800@terryklinefelter.com
SUMMARY:Latin Jazz Concert
DESCRIPTION:FDR Park at the Gazebo. Bring a lawn chair and picnic! w/Victor North\, sax\, Daniel Spearman\, trumpet\, Cliff Kellum\, bass\, Shakoor Hakim\, congas\, Jerry Tanenbaum\, drums.
URL:https://terryklinefelter.com/event/latin-jazz-concert/
END:VEVENT
END:VCALENDAR