BEGIN:VCALENDAR
VERSION:2.0
PRODID:-//Terry Klinefelter Music - ECPv6.13.2.1//NONSGML v1.0//EN
CALSCALE:GREGORIAN
METHOD:PUBLISH
X-ORIGINAL-URL:https://terryklinefelter.com
X-WR-CALDESC:Events for Terry Klinefelter Music
REFRESH-INTERVAL;VALUE=DURATION:PT1H
X-Robots-Tag:noindex
X-PUBLISHED-TTL:PT1H
BEGIN:VTIMEZONE
TZID:UTC
BEGIN:STANDARD
TZOFFSETFROM:+0000
TZOFFSETTO:+0000
TZNAME:UTC
DTSTART:20240101T000000
END:STANDARD
END:VTIMEZONE
BEGIN:VEVENT
DTSTART;TZID=UTC:20240429T183000
DTEND;TZID=UTC:20240429T213000
DTSTAMP:20260424T203118
CREATED:20240425T055618Z
LAST-MODIFIED:20240425T055618Z
UID:1481-1714415400-1714426200@terryklinefelter.com
SUMMARY:Black Squirrel
DESCRIPTION:Jazz Trio w/Richard Hill\, Jr.\, bass and Maria Marmarou\, drums
URL:https://terryklinefelter.com/event/black-squirrel-4/
END:VEVENT
END:VCALENDAR