BEGIN:VCALENDAR
VERSION:2.0
PRODID:-//Terry Klinefelter Music - ECPv6.13.2.1//NONSGML v1.0//EN
CALSCALE:GREGORIAN
METHOD:PUBLISH
X-ORIGINAL-URL:https://terryklinefelter.com
X-WR-CALDESC:Events for Terry Klinefelter Music
REFRESH-INTERVAL;VALUE=DURATION:PT1H
X-Robots-Tag:noindex
X-PUBLISHED-TTL:PT1H
BEGIN:VTIMEZONE
TZID:UTC
BEGIN:STANDARD
TZOFFSETFROM:+0000
TZOFFSETTO:+0000
TZNAME:UTC
DTSTART:20240101T000000
END:STANDARD
END:VTIMEZONE
BEGIN:VEVENT
DTSTART;TZID=UTC:20240329T183000
DTEND;TZID=UTC:20240329T203000
DTSTAMP:20260424T231337
CREATED:20240213T194036Z
LAST-MODIFIED:20240213T194202Z
UID:1376-1711737000-1711744200@terryklinefelter.com
SUMMARY:Acadia Winery
DESCRIPTION:Live music at this beautiful Chester County winery. With Joe Anderson\, trumpet\, Rob Swanson\, bass.
URL:https://terryklinefelter.com/event/acadia-winery/
END:VEVENT
END:VCALENDAR