BEGIN:VCALENDAR
VERSION:2.0
PRODID:-//Terry Klinefelter Music - ECPv6.13.2.1//NONSGML v1.0//EN
CALSCALE:GREGORIAN
METHOD:PUBLISH
X-ORIGINAL-URL:https://terryklinefelter.com
X-WR-CALDESC:Events for Terry Klinefelter Music
REFRESH-INTERVAL;VALUE=DURATION:PT1H
X-Robots-Tag:noindex
X-PUBLISHED-TTL:PT1H
BEGIN:VTIMEZONE
TZID:UTC
BEGIN:STANDARD
TZOFFSETFROM:+0000
TZOFFSETTO:+0000
TZNAME:UTC
DTSTART:20230101T000000
END:STANDARD
END:VTIMEZONE
BEGIN:VEVENT
DTSTART;TZID=UTC:20230318T080000
DTEND;TZID=UTC:20230318T170000
DTSTAMP:20260425T135458
CREATED:20230202T063807Z
LAST-MODIFIED:20230202T063808Z
UID:1202-1679126400-1679158800@terryklinefelter.com
SUMMARY:Connie Murray Piano Festival
DESCRIPTION:I will be adjudicating for this annual event held at WCU.
URL:https://terryklinefelter.com/event/connie-murray-piano-festival-2/
END:VEVENT
END:VCALENDAR