BEGIN:VCALENDAR
VERSION:2.0
PRODID:-//Terry Klinefelter Music - ECPv6.13.2.1//NONSGML v1.0//EN
CALSCALE:GREGORIAN
METHOD:PUBLISH
X-ORIGINAL-URL:https://terryklinefelter.com
X-WR-CALDESC:Events for Terry Klinefelter Music
REFRESH-INTERVAL;VALUE=DURATION:PT1H
X-Robots-Tag:noindex
X-PUBLISHED-TTL:PT1H
BEGIN:VTIMEZONE
TZID:UTC
BEGIN:STANDARD
TZOFFSETFROM:+0000
TZOFFSETTO:+0000
TZNAME:UTC
DTSTART:20230101T000000
END:STANDARD
END:VTIMEZONE
BEGIN:VEVENT
DTSTART;TZID=UTC:20230203T180000
DTEND;TZID=UTC:20230203T210000
DTSTAMP:20260425T151852
CREATED:20230113T043211Z
LAST-MODIFIED:20230113T043212Z
UID:1174-1675447200-1675458000@terryklinefelter.com
SUMMARY:Live Jazz @ Hook and Ladder Sky Bar
DESCRIPTION:Great venue in Conshohocken’s new luxury Hotel West and Main. w/Paul Klinefelter\, bass.
URL:https://terryklinefelter.com/event/live-jazz-hook-and-ladder-sky-bar-3/
END:VEVENT
END:VCALENDAR