BEGIN:VCALENDAR
VERSION:2.0
PRODID:-//Terry Klinefelter Music - ECPv6.13.2.1//NONSGML v1.0//EN
CALSCALE:GREGORIAN
METHOD:PUBLISH
X-WR-CALNAME:Terry Klinefelter Music
X-ORIGINAL-URL:https://terryklinefelter.com
X-WR-CALDESC:Events for Terry Klinefelter Music
REFRESH-INTERVAL;VALUE=DURATION:PT1H
X-Robots-Tag:noindex
X-PUBLISHED-TTL:PT1H
BEGIN:VTIMEZONE
TZID:UTC
BEGIN:STANDARD
TZOFFSETFROM:+0000
TZOFFSETTO:+0000
TZNAME:UTC
DTSTART:20230101T000000
END:STANDARD
END:VTIMEZONE
BEGIN:VEVENT
DTSTART;TZID=UTC:20230125T113000
DTEND;TZID=UTC:20230125T130000
DTSTAMP:20260425T162704
CREATED:20230113T044124Z
LAST-MODIFIED:20230113T044124Z
UID:1183-1674646200-1674651600@terryklinefelter.com
SUMMARY:Solo Piano at One Liberty Place
DESCRIPTION:
URL:https://terryklinefelter.com/event/solo-piano-at-one-liberty-place-3/
END:VEVENT
END:VCALENDAR