BEGIN:VCALENDAR
VERSION:2.0
PRODID:-//Terry Klinefelter Music - ECPv6.13.2.1//NONSGML v1.0//EN
CALSCALE:GREGORIAN
METHOD:PUBLISH
X-WR-CALNAME:Terry Klinefelter Music
X-ORIGINAL-URL:https://terryklinefelter.com
X-WR-CALDESC:Events for Terry Klinefelter Music
REFRESH-INTERVAL;VALUE=DURATION:PT1H
X-Robots-Tag:noindex
X-PUBLISHED-TTL:PT1H
BEGIN:VTIMEZONE
TZID:UTC
BEGIN:STANDARD
TZOFFSETFROM:+0000
TZOFFSETTO:+0000
TZNAME:UTC
DTSTART:20220101T000000
END:STANDARD
END:VTIMEZONE
BEGIN:VEVENT
DTSTART;TZID=UTC:20221028T190000
DTEND;TZID=UTC:20221028T210000
DTSTAMP:20260425T200507
CREATED:20220817T045708Z
LAST-MODIFIED:20220817T045709Z
UID:1103-1666983600-1666990800@terryklinefelter.com
SUMMARY:The Jazz Sanctuary
DESCRIPTION:w/Alan Segal\, bass and Leon Jordan\, drums
URL:https://terryklinefelter.com/event/the-jazz-sanctuary-2/
END:VEVENT
END:VCALENDAR