BEGIN:VCALENDAR
VERSION:2.0
PRODID:-//Terry Klinefelter Music - ECPv6.13.2.1//NONSGML v1.0//EN
CALSCALE:GREGORIAN
METHOD:PUBLISH
X-ORIGINAL-URL:https://terryklinefelter.com
X-WR-CALDESC:Events for Terry Klinefelter Music
REFRESH-INTERVAL;VALUE=DURATION:PT1H
X-Robots-Tag:noindex
X-PUBLISHED-TTL:PT1H
BEGIN:VTIMEZONE
TZID:UTC
BEGIN:STANDARD
TZOFFSETFROM:+0000
TZOFFSETTO:+0000
TZNAME:UTC
DTSTART:20220101T000000
END:STANDARD
END:VTIMEZONE
BEGIN:VEVENT
DTSTART;TZID=UTC:20221013T120000
DTEND;TZID=UTC:20221013T120000
DTSTAMP:20260425T200336
CREATED:20220810T020552Z
LAST-MODIFIED:20220810T020552Z
UID:1093-1665662400-1665662400@terryklinefelter.com
SUMMARY:Delaware Art Museum Solo Jazz Piano
DESCRIPTION:Part of an ongoing piano series curated by Jonathan Whitney. Two sets\, with an interview and Q & A during the break.
URL:https://terryklinefelter.com/event/delaware-art-museum-solo-jazz-piano/
END:VEVENT
END:VCALENDAR