BEGIN:VCALENDAR
VERSION:2.0
PRODID:-//Terry Klinefelter Music - ECPv6.13.2.1//NONSGML v1.0//EN
CALSCALE:GREGORIAN
METHOD:PUBLISH
X-ORIGINAL-URL:https://terryklinefelter.com
X-WR-CALDESC:Events for Terry Klinefelter Music
REFRESH-INTERVAL;VALUE=DURATION:PT1H
X-Robots-Tag:noindex
X-PUBLISHED-TTL:PT1H
BEGIN:VTIMEZONE
TZID:UTC
BEGIN:STANDARD
TZOFFSETFROM:+0000
TZOFFSETTO:+0000
TZNAME:UTC
DTSTART:20220101T000000
END:STANDARD
END:VTIMEZONE
BEGIN:VEVENT
DTSTART;TZID=UTC:20221008T140000
DTEND;TZID=UTC:20221008T140000
DTSTAMP:20260425T200336
CREATED:20221003T064153Z
LAST-MODIFIED:20221003T064248Z
UID:1116-1665237600-1665237600@terryklinefelter.com
SUMMARY:Jacob Manny-WCU Jazz Performance Graduate Recital
DESCRIPTION:
URL:https://terryklinefelter.com/event/jacob-manny-wcu-jazz-performance-graduate-recital/
END:VEVENT
BEGIN:VEVENT
DTSTART;TZID=UTC:20221008T180000
DTEND;TZID=UTC:20221008T220000
DTSTAMP:20260425T200336
CREATED:20221003T064449Z
LAST-MODIFIED:20221003T064450Z
UID:1119-1665252000-1665266400@terryklinefelter.com
SUMMARY:Chestertown River Yacht and Country Club
DESCRIPTION:Private event with vocalist Keli Vale.
URL:https://terryklinefelter.com/event/chestertown-river-yacht-and-country-club/
END:VEVENT
END:VCALENDAR