BEGIN:VCALENDAR
VERSION:2.0
PRODID:-//Terry Klinefelter Music - ECPv6.13.2.1//NONSGML v1.0//EN
CALSCALE:GREGORIAN
METHOD:PUBLISH
X-ORIGINAL-URL:https://terryklinefelter.com
X-WR-CALDESC:Events for Terry Klinefelter Music
REFRESH-INTERVAL;VALUE=DURATION:PT1H
X-Robots-Tag:noindex
X-PUBLISHED-TTL:PT1H
BEGIN:VTIMEZONE
TZID:UTC
BEGIN:STANDARD
TZOFFSETFROM:+0000
TZOFFSETTO:+0000
TZNAME:UTC
DTSTART:20220101T000000
END:STANDARD
END:VTIMEZONE
BEGIN:VEVENT
DTSTART;TZID=UTC:20220924T193000
DTEND;TZID=UTC:20220924T213000
DTSTAMP:20260425T211917
CREATED:20220328T001413Z
LAST-MODIFIED:20220328T001415Z
UID:1042-1664047800-1664055000@terryklinefelter.com
SUMMARY:Jazz Trio Concert
DESCRIPTION:Terry Klinefelter will be performing with her trio in a concert of originals and new arrangements of standards.
URL:https://terryklinefelter.com/event/jazz-trio-concert-2/
END:VEVENT
END:VCALENDAR