BEGIN:VCALENDAR
VERSION:2.0
PRODID:-//Terry Klinefelter Music - ECPv6.13.2.1//NONSGML v1.0//EN
CALSCALE:GREGORIAN
METHOD:PUBLISH
X-WR-CALNAME:Terry Klinefelter Music
X-ORIGINAL-URL:https://terryklinefelter.com
X-WR-CALDESC:Events for Terry Klinefelter Music
REFRESH-INTERVAL;VALUE=DURATION:PT1H
X-Robots-Tag:noindex
X-PUBLISHED-TTL:PT1H
BEGIN:VTIMEZONE
TZID:UTC
BEGIN:STANDARD
TZOFFSETFROM:+0000
TZOFFSETTO:+0000
TZNAME:UTC
DTSTART:20220101T000000
END:STANDARD
END:VTIMEZONE
BEGIN:VEVENT
DTSTART;TZID=UTC:20220923T200000
DTEND;TZID=UTC:20220923T220000
DTSTAMP:20260425T211920
CREATED:20220901T205157Z
LAST-MODIFIED:20220901T205157Z
UID:1107-1663963200-1663970400@terryklinefelter.com
SUMMARY:Private Event-College of Physicians
DESCRIPTION:w/tenor saxophonist Gunnar Mossblad
URL:https://terryklinefelter.com/event/private-event-college-of-physicians/
END:VEVENT
END:VCALENDAR